BEGIN:VCALENDAR
VERSION:2.0
PRODID:-//YGAMETIME.com//YGT iCal Creator//EN
METHOD:PUBLISH
X-PUBLISHED-TTL:PT6H
REFRESH-INTERVAL;VALUE=DURATION:PT6H
CALSCALE:GREGORIAN
X-WR-CALNAME:YGAMETIME CALENDAR
BEGIN:VTIMEZONE
TZID:America/Chicago
X-LIC-LOCATION:America/Chicago
BEGIN:DAYLIGHT
TZOFFSETFROM:-0600
TZOFFSETTO:-0500
TZNAME:CDT
DTSTART:19700308T020000
RRULE:FREQ=YEARLY;BYMONTH=3;BYDAY=2SU
END:DAYLIGHT
BEGIN:STANDARD
TZOFFSETFROM:-0500
TZOFFSETTO:-0600
TZNAME:CST
DTSTART:19701101T020000
RRULE:FREQ=YEARLY;BYMONTH=11;BYDAY=1SU
END:STANDARD
END:VTIMEZONE
BEGIN:VEVENT
UID:brentwood-596820@ygametime.com
DTSTAMP:20260328T141500Z
DTSTART;TZID=America/Chicago:20260328T091500
DURATION:PT0H75M0S
SUMMARY:Marsh vs Schumacher
DESCRIPTION:Boys 2019 | Soccer\nBrentwood Family YMCA\n
URL;VALUE=URI:https://ygametime.com/branch/brentwood/sports/2026-spring-soccer/25710/?utm_medium=calendar&utm_source=team_cal&utm_content=league_url#game-596820
LOCATION:Crockett Park Field 8B
BEGIN:VALARM
TRIGGER:-P2H
ACTION:DISPLAY
DESCRIPTION:Marsh vs Schumacher
END:VALARM
END:VEVENT
BEGIN:VEVENT
UID:brentwood-596824@ygametime.com
DTSTAMP:20260404T141500Z
DTSTART;TZID=America/Chicago:20260404T091500
DURATION:PT0H75M0S
SUMMARY:Schumacher vs Sherry
DESCRIPTION:Boys 2019 | Soccer\nBrentwood Family YMCA\n
URL;VALUE=URI:https://ygametime.com/branch/brentwood/sports/2026-spring-soccer/25710/?utm_medium=calendar&utm_source=team_cal&utm_content=league_url#game-596824
LOCATION:Crockett Park Field 8B
BEGIN:VALARM
TRIGGER:-P2H
ACTION:DISPLAY
DESCRIPTION:Schumacher vs Sherry
END:VALARM
END:VEVENT
BEGIN:VEVENT
UID:brentwood-596828@ygametime.com
DTSTAMP:20260411T141500Z
DTSTART;TZID=America/Chicago:20260411T091500
DURATION:PT0H75M0S
SUMMARY:Williamson/Bischoff vs Schumacher
DESCRIPTION:Boys 2019 | Soccer\nBrentwood Family YMCA\n
URL;VALUE=URI:https://ygametime.com/branch/brentwood/sports/2026-spring-soccer/25710/?utm_medium=calendar&utm_source=team_cal&utm_content=league_url#game-596828
LOCATION:Crockett Park Field 8B
BEGIN:VALARM
TRIGGER:-P2H
ACTION:DISPLAY
DESCRIPTION:Williamson/Bischoff vs Schumacher
END:VALARM
END:VEVENT
BEGIN:VEVENT
UID:brentwood-603006@ygametime.com
DTSTAMP:20260418T141500Z
DTSTART;TZID=America/Chicago:20260418T091500
DURATION:PT0H75M0S
SUMMARY:Trammell vs Schumacher
DESCRIPTION:Boys 2019 | Soccer\nBrentwood Family YMCA\n
URL;VALUE=URI:https://ygametime.com/branch/brentwood/sports/2026-spring-soccer/25710/?utm_medium=calendar&utm_source=team_cal&utm_content=league_url#game-603006
LOCATION:Crockett Park Field 8B
BEGIN:VALARM
TRIGGER:-P2H
ACTION:DISPLAY
DESCRIPTION:Trammell vs Schumacher
END:VALARM
END:VEVENT
BEGIN:VEVENT
UID:brentwood-603010@ygametime.com
DTSTAMP:20260425T141500Z
DTSTART;TZID=America/Chicago:20260425T091500
DURATION:PT0H75M0S
SUMMARY:Schumacher vs Bell
DESCRIPTION:Boys 2019 | Soccer\nBrentwood Family YMCA\n
URL;VALUE=URI:https://ygametime.com/branch/brentwood/sports/2026-spring-soccer/25710/?utm_medium=calendar&utm_source=team_cal&utm_content=league_url#game-603010
LOCATION:Crockett Park Field 8B
BEGIN:VALARM
TRIGGER:-P2H
ACTION:DISPLAY
DESCRIPTION:Schumacher vs Bell
END:VALARM
END:VEVENT
BEGIN:VEVENT
UID:brentwood-603017@ygametime.com
DTSTAMP:20260509T164500Z
DTSTART;TZID=America/Chicago:20260509T114500
DURATION:PT0H75M0S
SUMMARY:Schumacher vs Bell
DESCRIPTION:Boys 2019 | Soccer\nBrentwood Family YMCA\n
URL;VALUE=URI:https://ygametime.com/branch/brentwood/sports/2026-spring-soccer/25710/?utm_medium=calendar&utm_source=team_cal&utm_content=league_url#game-603017
LOCATION:Crockett Park Field 8B
BEGIN:VALARM
TRIGGER:-P2H
ACTION:DISPLAY
DESCRIPTION:Schumacher vs Bell
END:VALARM
END:VEVENT
BEGIN:VEVENT
UID:brentwood-603014@ygametime.com
DTSTAMP:20260516T141500Z
DTSTART;TZID=America/Chicago:20260516T091500
DURATION:PT0H75M0S
SUMMARY:Williamson/Bischoff vs Schumacher
DESCRIPTION:Boys 2019 | Soccer\nBrentwood Family YMCA\n
URL;VALUE=URI:https://ygametime.com/branch/brentwood/sports/2026-spring-soccer/25710/?utm_medium=calendar&utm_source=team_cal&utm_content=league_url#game-603014
LOCATION:Crockett Park Field 8B
BEGIN:VALARM
TRIGGER:-P2H
ACTION:DISPLAY
DESCRIPTION:Williamson/Bischoff vs Schumacher
END:VALARM
END:VEVENT
END:VCALENDAR

