BEGIN:VCALENDAR
VERSION:2.0
PRODID:-//YGAMETIME.com//YGT iCal Creator//EN
METHOD:PUBLISH
X-PUBLISHED-TTL:PT6H
REFRESH-INTERVAL;VALUE=DURATION:PT6H
CALSCALE:GREGORIAN
X-WR-CALNAME:YGAMETIME CALENDAR
BEGIN:VTIMEZONE
TZID:America/Chicago
X-LIC-LOCATION:America/Chicago
BEGIN:DAYLIGHT
TZOFFSETFROM:-0600
TZOFFSETTO:-0500
TZNAME:CDT
DTSTART:19700308T020000
RRULE:FREQ=YEARLY;BYMONTH=3;BYDAY=2SU
END:DAYLIGHT
BEGIN:STANDARD
TZOFFSETFROM:-0500
TZOFFSETTO:-0600
TZNAME:CST
DTSTART:19701101T020000
RRULE:FREQ=YEARLY;BYMONTH=11;BYDAY=1SU
END:STANDARD
END:VTIMEZONE
BEGIN:VEVENT
UID:brentwood-596821@ygametime.com
DTSTAMP:20260328T153000Z
DTSTART;TZID=America/Chicago:20260328T103000
DURATION:PT0H75M0S
SUMMARY:Williamson/Bischoff vs Trammell
DESCRIPTION:Boys 2019 | Soccer\nBrentwood Family YMCA\n
URL;VALUE=URI:https://ygametime.com/branch/brentwood/sports/2026-spring-soccer/25710/?utm_medium=calendar&utm_source=team_cal&utm_content=league_url#game-596821
LOCATION:Crockett Park Field 8B
BEGIN:VALARM
TRIGGER:-P2H
ACTION:DISPLAY
DESCRIPTION:Williamson/Bischoff vs Trammell
END:VALARM
END:VEVENT
BEGIN:VEVENT
UID:brentwood-596825@ygametime.com
DTSTAMP:20260404T153000Z
DTSTART;TZID=America/Chicago:20260404T103000
DURATION:PT0H75M0S
SUMMARY:Leskell vs Williamson/Bischoff
DESCRIPTION:Boys 2019 | Soccer\nBrentwood Family YMCA\n
URL;VALUE=URI:https://ygametime.com/branch/brentwood/sports/2026-spring-soccer/25710/?utm_medium=calendar&utm_source=team_cal&utm_content=league_url#game-596825
LOCATION:Crockett Park Field 8B
BEGIN:VALARM
TRIGGER:-P2H
ACTION:DISPLAY
DESCRIPTION:Leskell vs Williamson/Bischoff
END:VALARM
END:VEVENT
BEGIN:VEVENT
UID:brentwood-596828@ygametime.com
DTSTAMP:20260411T141500Z
DTSTART;TZID=America/Chicago:20260411T091500
DURATION:PT0H75M0S
SUMMARY:Williamson/Bischoff vs Schumacher
DESCRIPTION:Boys 2019 | Soccer\nBrentwood Family YMCA\n
URL;VALUE=URI:https://ygametime.com/branch/brentwood/sports/2026-spring-soccer/25710/?utm_medium=calendar&utm_source=team_cal&utm_content=league_url#game-596828
LOCATION:Crockett Park Field 8B
BEGIN:VALARM
TRIGGER:-P2H
ACTION:DISPLAY
DESCRIPTION:Williamson/Bischoff vs Schumacher
END:VALARM
END:VEVENT
BEGIN:VEVENT
UID:brentwood-603007@ygametime.com
DTSTAMP:20260418T153000Z
DTSTART;TZID=America/Chicago:20260418T103000
DURATION:PT0H75M0S
SUMMARY:Williamson/Bischoff vs Marsh
DESCRIPTION:Boys 2019 | Soccer\nBrentwood Family YMCA\n
URL;VALUE=URI:https://ygametime.com/branch/brentwood/sports/2026-spring-soccer/25710/?utm_medium=calendar&utm_source=team_cal&utm_content=league_url#game-603007
LOCATION:Crockett Park Field 8B
BEGIN:VALARM
TRIGGER:-P2H
ACTION:DISPLAY
DESCRIPTION:Williamson/Bischoff vs Marsh
END:VALARM
END:VEVENT
BEGIN:VEVENT
UID:brentwood-603011@ygametime.com
DTSTAMP:20260425T153000Z
DTSTART;TZID=America/Chicago:20260425T103000
DURATION:PT0H75M0S
SUMMARY:Leskell vs Williamson/Bischoff
DESCRIPTION:Boys 2019 | Soccer\nBrentwood Family YMCA\n
URL;VALUE=URI:https://ygametime.com/branch/brentwood/sports/2026-spring-soccer/25710/?utm_medium=calendar&utm_source=team_cal&utm_content=league_url#game-603011
LOCATION:Crockett Park Field 8B
BEGIN:VALARM
TRIGGER:-P2H
ACTION:DISPLAY
DESCRIPTION:Leskell vs Williamson/Bischoff
END:VALARM
END:VEVENT
BEGIN:VEVENT
UID:brentwood-603020@ygametime.com
DTSTAMP:20260509T130000Z
DTSTART;TZID=America/Chicago:20260509T080000
DURATION:PT0H75M0S
SUMMARY:Marsh vs Williamson/Bischoff
DESCRIPTION:Boys 2019 | Soccer\nBrentwood Family YMCA\n
URL;VALUE=URI:https://ygametime.com/branch/brentwood/sports/2026-spring-soccer/25710/?utm_medium=calendar&utm_source=team_cal&utm_content=league_url#game-603020
LOCATION:Crockett Park Field 8B
BEGIN:VALARM
TRIGGER:-P2H
ACTION:DISPLAY
DESCRIPTION:Marsh vs Williamson/Bischoff
END:VALARM
END:VEVENT
BEGIN:VEVENT
UID:brentwood-603014@ygametime.com
DTSTAMP:20260516T141500Z
DTSTART;TZID=America/Chicago:20260516T091500
DURATION:PT0H75M0S
SUMMARY:Williamson/Bischoff vs Schumacher
DESCRIPTION:Boys 2019 | Soccer\nBrentwood Family YMCA\n
URL;VALUE=URI:https://ygametime.com/branch/brentwood/sports/2026-spring-soccer/25710/?utm_medium=calendar&utm_source=team_cal&utm_content=league_url#game-603014
LOCATION:Crockett Park Field 8B
BEGIN:VALARM
TRIGGER:-P2H
ACTION:DISPLAY
DESCRIPTION:Williamson/Bischoff vs Schumacher
END:VALARM
END:VEVENT
END:VCALENDAR

