BEGIN:VCALENDAR
VERSION:2.0
PRODID:-//YGAMETIME.com//YGT iCal Creator//EN
METHOD:PUBLISH
X-PUBLISHED-TTL:PT6H
REFRESH-INTERVAL;VALUE=DURATION:PT6H
CALSCALE:GREGORIAN
X-WR-CALNAME:YGAMETIME CALENDAR
BEGIN:VTIMEZONE
TZID:America/Chicago
X-LIC-LOCATION:America/Chicago
BEGIN:DAYLIGHT
TZOFFSETFROM:-0600
TZOFFSETTO:-0500
TZNAME:CDT
DTSTART:19700308T020000
RRULE:FREQ=YEARLY;BYMONTH=3;BYDAY=2SU
END:DAYLIGHT
BEGIN:STANDARD
TZOFFSETFROM:-0500
TZOFFSETTO:-0600
TZNAME:CST
DTSTART:19701101T020000
RRULE:FREQ=YEARLY;BYMONTH=11;BYDAY=1SU
END:STANDARD
END:VTIMEZONE
BEGIN:VEVENT
UID:brentwood-596821@ygametime.com
DTSTAMP:20260328T153000Z
DTSTART;TZID=America/Chicago:20260328T103000
DURATION:PT0H75M0S
SUMMARY:Williamson/Bischoff vs Trammell
DESCRIPTION:Boys 2019 | Soccer\nBrentwood Family YMCA\n
URL;VALUE=URI:https://ygametime.com/branch/brentwood/sports/2026-spring-soccer/25710/?utm_medium=calendar&utm_source=team_cal&utm_content=league_url#game-596821
LOCATION:Crockett Park Field 8B
BEGIN:VALARM
TRIGGER:-P2H
ACTION:DISPLAY
DESCRIPTION:Williamson/Bischoff vs Trammell
END:VALARM
END:VEVENT
BEGIN:VEVENT
UID:brentwood-596823@ygametime.com
DTSTAMP:20260404T130000Z
DTSTART;TZID=America/Chicago:20260404T080000
DURATION:PT0H75M0S
SUMMARY:Trammell vs Bell
DESCRIPTION:Boys 2019 | Soccer\nBrentwood Family YMCA\n
URL;VALUE=URI:https://ygametime.com/branch/brentwood/sports/2026-spring-soccer/25710/?utm_medium=calendar&utm_source=team_cal&utm_content=league_url#game-596823
LOCATION:Crockett Park Field 8B
BEGIN:VALARM
TRIGGER:-P2H
ACTION:DISPLAY
DESCRIPTION:Trammell vs Bell
END:VALARM
END:VEVENT
BEGIN:VEVENT
UID:brentwood-596829@ygametime.com
DTSTAMP:20260411T153000Z
DTSTART;TZID=America/Chicago:20260411T103000
DURATION:PT0H75M0S
SUMMARY:Trammell vs Krishnan
DESCRIPTION:Boys 2019 | Soccer\nBrentwood Family YMCA\n
URL;VALUE=URI:https://ygametime.com/branch/brentwood/sports/2026-spring-soccer/25710/?utm_medium=calendar&utm_source=team_cal&utm_content=league_url#game-596829
LOCATION:Crockett Park Field 8B
BEGIN:VALARM
TRIGGER:-P2H
ACTION:DISPLAY
DESCRIPTION:Trammell vs Krishnan
END:VALARM
END:VEVENT
BEGIN:VEVENT
UID:brentwood-603006@ygametime.com
DTSTAMP:20260418T141500Z
DTSTART;TZID=America/Chicago:20260418T091500
DURATION:PT0H75M0S
SUMMARY:Trammell vs Schumacher
DESCRIPTION:Boys 2019 | Soccer\nBrentwood Family YMCA\n
URL;VALUE=URI:https://ygametime.com/branch/brentwood/sports/2026-spring-soccer/25710/?utm_medium=calendar&utm_source=team_cal&utm_content=league_url#game-603006
LOCATION:Crockett Park Field 8B
BEGIN:VALARM
TRIGGER:-P2H
ACTION:DISPLAY
DESCRIPTION:Trammell vs Schumacher
END:VALARM
END:VEVENT
BEGIN:VEVENT
UID:brentwood-603009@ygametime.com
DTSTAMP:20260425T130000Z
DTSTART;TZID=America/Chicago:20260425T080000
DURATION:PT0H75M0S
SUMMARY:Trammell vs Sherry
DESCRIPTION:Boys 2019 | Soccer\nBrentwood Family YMCA\n
URL;VALUE=URI:https://ygametime.com/branch/brentwood/sports/2026-spring-soccer/25710/?utm_medium=calendar&utm_source=team_cal&utm_content=league_url#game-603009
LOCATION:Crockett Park Field 8B
BEGIN:VALARM
TRIGGER:-P2H
ACTION:DISPLAY
DESCRIPTION:Trammell vs Sherry
END:VALARM
END:VEVENT
BEGIN:VEVENT
UID:brentwood-603019@ygametime.com
DTSTAMP:20260509T153000Z
DTSTART;TZID=America/Chicago:20260509T103000
DURATION:PT0H75M0S
SUMMARY:Leskell vs Trammell
DESCRIPTION:Boys 2019 | Soccer\nBrentwood Family YMCA\n
URL;VALUE=URI:https://ygametime.com/branch/brentwood/sports/2026-spring-soccer/25710/?utm_medium=calendar&utm_source=team_cal&utm_content=league_url#game-603019
LOCATION:Crockett Park Field 8B
BEGIN:VALARM
TRIGGER:-P2H
ACTION:DISPLAY
DESCRIPTION:Leskell vs Trammell
END:VALARM
END:VEVENT
BEGIN:VEVENT
UID:brentwood-603015@ygametime.com
DTSTAMP:20260516T153000Z
DTSTART;TZID=America/Chicago:20260516T103000
DURATION:PT0H75M0S
SUMMARY:Trammell vs Krishnan
DESCRIPTION:Boys 2019 | Soccer\nBrentwood Family YMCA\n
URL;VALUE=URI:https://ygametime.com/branch/brentwood/sports/2026-spring-soccer/25710/?utm_medium=calendar&utm_source=team_cal&utm_content=league_url#game-603015
LOCATION:Crockett Park Field 8B
BEGIN:VALARM
TRIGGER:-P2H
ACTION:DISPLAY
DESCRIPTION:Trammell vs Krishnan
END:VALARM
END:VEVENT
END:VCALENDAR

