BEGIN:VCALENDAR
VERSION:2.0
PRODID:-//YGAMETIME.com//YGT iCal Creator//EN
METHOD:PUBLISH
X-PUBLISHED-TTL:PT6H
REFRESH-INTERVAL;VALUE=DURATION:PT6H
CALSCALE:GREGORIAN
X-WR-CALNAME:YGAMETIME CALENDAR
BEGIN:VTIMEZONE
TZID:America/Chicago
X-LIC-LOCATION:America/Chicago
BEGIN:DAYLIGHT
TZOFFSETFROM:-0600
TZOFFSETTO:-0500
TZNAME:CDT
DTSTART:19700308T020000
RRULE:FREQ=YEARLY;BYMONTH=3;BYDAY=2SU
END:DAYLIGHT
BEGIN:STANDARD
TZOFFSETFROM:-0500
TZOFFSETTO:-0600
TZNAME:CST
DTSTART:19701101T020000
RRULE:FREQ=YEARLY;BYMONTH=11;BYDAY=1SU
END:STANDARD
END:VTIMEZONE
BEGIN:VEVENT
UID:brentwood-597117@ygametime.com
DTSTAMP:20260328T160000Z
DTSTART;TZID=America/Chicago:20260328T110000
DURATION:PT0H60M0S
SUMMARY:Moore vs Baker/Sutherland
DESCRIPTION:Boys 2020 | Soccer\nBrentwood Family YMCA\n
URL;VALUE=URI:https://ygametime.com/branch/brentwood/sports/2026-spring-soccer/25709/?utm_medium=calendar&utm_source=team_cal&utm_content=league_url#game-597117
LOCATION:Brentwood Family YMCA Field 1
BEGIN:VALARM
TRIGGER:-P2H
ACTION:DISPLAY
DESCRIPTION:Moore vs Baker/Sutherland
END:VALARM
END:VEVENT
BEGIN:VEVENT
UID:brentwood-597126@ygametime.com
DTSTAMP:20260404T180000Z
DTSTART;TZID=America/Chicago:20260404T130000
DURATION:PT0H60M0S
SUMMARY:Baker/Sutherland vs Shamansurov
DESCRIPTION:Boys 2020 | Soccer\nBrentwood Family YMCA\n
URL;VALUE=URI:https://ygametime.com/branch/brentwood/sports/2026-spring-soccer/25709/?utm_medium=calendar&utm_source=team_cal&utm_content=league_url#game-597126
LOCATION:Brentwood Family YMCA Field 1
BEGIN:VALARM
TRIGGER:-P2H
ACTION:DISPLAY
DESCRIPTION:Baker/Sutherland vs Shamansurov
END:VALARM
END:VEVENT
BEGIN:VEVENT
UID:brentwood-597130@ygametime.com
DTSTAMP:20260411T170000Z
DTSTART;TZID=America/Chicago:20260411T120000
DURATION:PT0H60M0S
SUMMARY:Van Der Merwe vs Baker/Sutherland
DESCRIPTION:Boys 2020 | Soccer\nBrentwood Family YMCA\n
URL;VALUE=URI:https://ygametime.com/branch/brentwood/sports/2026-spring-soccer/25709/?utm_medium=calendar&utm_source=team_cal&utm_content=league_url#game-597130
LOCATION:Brentwood Family YMCA Field 2
BEGIN:VALARM
TRIGGER:-P2H
ACTION:DISPLAY
DESCRIPTION:Van Der Merwe vs Baker/Sutherland
END:VALARM
END:VEVENT
BEGIN:VEVENT
UID:brentwood-597138@ygametime.com
DTSTAMP:20260425T160000Z
DTSTART;TZID=America/Chicago:20260425T110000
DURATION:PT0H60M0S
SUMMARY:Morris/ Jensen vs Baker/Sutherland
DESCRIPTION:Boys 2020 | Soccer\nBrentwood Family YMCA\n
URL;VALUE=URI:https://ygametime.com/branch/brentwood/sports/2026-spring-soccer/25709/?utm_medium=calendar&utm_source=team_cal&utm_content=league_url#game-597138
LOCATION:Brentwood Family YMCA Field 2
BEGIN:VALARM
TRIGGER:-P2H
ACTION:DISPLAY
DESCRIPTION:Morris/ Jensen vs Baker/Sutherland
END:VALARM
END:VEVENT
BEGIN:VEVENT
UID:brentwood-597142@ygametime.com
DTSTAMP:20260502T160000Z
DTSTART;TZID=America/Chicago:20260502T110000
DURATION:PT0H60M0S
SUMMARY:Baker/Sutherland vs Joyner
DESCRIPTION:Boys 2020 | Soccer\nBrentwood Family YMCA\n
URL;VALUE=URI:https://ygametime.com/branch/brentwood/sports/2026-spring-soccer/25709/?utm_medium=calendar&utm_source=team_cal&utm_content=league_url#game-597142
LOCATION:Brentwood Family YMCA Field 1
BEGIN:VALARM
TRIGGER:-P2H
ACTION:DISPLAY
DESCRIPTION:Baker/Sutherland vs Joyner
END:VALARM
END:VEVENT
BEGIN:VEVENT
UID:brentwood-597151@ygametime.com
DTSTAMP:20260509T180000Z
DTSTART;TZID=America/Chicago:20260509T130000
DURATION:PT0H60M0S
SUMMARY:Tayip vs Baker/Sutherland
DESCRIPTION:Boys 2020 | Soccer\nBrentwood Family YMCA\n
URL;VALUE=URI:https://ygametime.com/branch/brentwood/sports/2026-spring-soccer/25709/?utm_medium=calendar&utm_source=team_cal&utm_content=league_url#game-597151
LOCATION:Brentwood Family YMCA Field 1
BEGIN:VALARM
TRIGGER:-P2H
ACTION:DISPLAY
DESCRIPTION:Tayip vs Baker/Sutherland
END:VALARM
END:VEVENT
BEGIN:VEVENT
UID:brentwood-597134@ygametime.com
DTSTAMP:20260516T170000Z
DTSTART;TZID=America/Chicago:20260516T120000
DURATION:PT0H60M0S
SUMMARY:Baker/Sutherland vs Manzano
DESCRIPTION:Boys 2020 | Soccer\nBrentwood Family YMCA\n
URL;VALUE=URI:https://ygametime.com/branch/brentwood/sports/2026-spring-soccer/25709/?utm_medium=calendar&utm_source=team_cal&utm_content=league_url#game-597134
LOCATION:Brentwood Family YMCA Field 1
BEGIN:VALARM
TRIGGER:-P2H
ACTION:DISPLAY
DESCRIPTION:Baker/Sutherland vs Manzano
END:VALARM
END:VEVENT
END:VCALENDAR

