BEGIN:VCALENDAR
VERSION:2.0
PRODID:-//YGAMETIME.com//YGT iCal Creator//EN
METHOD:PUBLISH
X-PUBLISHED-TTL:PT6H
REFRESH-INTERVAL;VALUE=DURATION:PT6H
CALSCALE:GREGORIAN
X-WR-CALNAME:YGAMETIME CALENDAR
BEGIN:VTIMEZONE
TZID:America/Chicago
X-LIC-LOCATION:America/Chicago
BEGIN:DAYLIGHT
TZOFFSETFROM:-0600
TZOFFSETTO:-0500
TZNAME:CDT
DTSTART:19700308T020000
RRULE:FREQ=YEARLY;BYMONTH=3;BYDAY=2SU
END:DAYLIGHT
BEGIN:STANDARD
TZOFFSETFROM:-0500
TZOFFSETTO:-0600
TZNAME:CST
DTSTART:19701101T020000
RRULE:FREQ=YEARLY;BYMONTH=11;BYDAY=1SU
END:STANDARD
END:VTIMEZONE
BEGIN:VEVENT
UID:brentwood-597121@ygametime.com
DTSTAMP:20260328T180000Z
DTSTART;TZID=America/Chicago:20260328T130000
DURATION:PT0H60M0S
SUMMARY:Joyner vs Morris/ Jensen
DESCRIPTION:Boys 2020 | Soccer\nBrentwood Family YMCA\n
URL;VALUE=URI:https://ygametime.com/branch/brentwood/sports/2026-spring-soccer/25709/?utm_medium=calendar&utm_source=team_cal&utm_content=league_url#game-597121
LOCATION:Brentwood Family YMCA Field 1
BEGIN:VALARM
TRIGGER:-P2H
ACTION:DISPLAY
DESCRIPTION:Joyner vs Morris/ Jensen
END:VALARM
END:VEVENT
BEGIN:VEVENT
UID:brentwood-597125@ygametime.com
DTSTAMP:20260404T170000Z
DTSTART;TZID=America/Chicago:20260404T120000
DURATION:PT0H60M0S
SUMMARY:Tayip vs Joyner
DESCRIPTION:Boys 2020 | Soccer\nBrentwood Family YMCA\n
URL;VALUE=URI:https://ygametime.com/branch/brentwood/sports/2026-spring-soccer/25709/?utm_medium=calendar&utm_source=team_cal&utm_content=league_url#game-597125
LOCATION:Brentwood Family YMCA Field 2
BEGIN:VALARM
TRIGGER:-P2H
ACTION:DISPLAY
DESCRIPTION:Tayip vs Joyner
END:VALARM
END:VEVENT
BEGIN:VEVENT
UID:brentwood-597128@ygametime.com
DTSTAMP:20260411T160000Z
DTSTART;TZID=America/Chicago:20260411T110000
DURATION:PT0H60M0S
SUMMARY:Joyner vs Armstrong/Huber
DESCRIPTION:Boys 2020 | Soccer\nBrentwood Family YMCA\n
URL;VALUE=URI:https://ygametime.com/branch/brentwood/sports/2026-spring-soccer/25709/?utm_medium=calendar&utm_source=team_cal&utm_content=league_url#game-597128
LOCATION:Brentwood Family YMCA Field 2
BEGIN:VALARM
TRIGGER:-P2H
ACTION:DISPLAY
DESCRIPTION:Joyner vs Armstrong/Huber
END:VALARM
END:VEVENT
BEGIN:VEVENT
UID:brentwood-597139@ygametime.com
DTSTAMP:20260425T170000Z
DTSTART;TZID=America/Chicago:20260425T120000
DURATION:PT0H60M0S
SUMMARY:Joyner vs Manzano
DESCRIPTION:Boys 2020 | Soccer\nBrentwood Family YMCA\n
URL;VALUE=URI:https://ygametime.com/branch/brentwood/sports/2026-spring-soccer/25709/?utm_medium=calendar&utm_source=team_cal&utm_content=league_url#game-597139
LOCATION:Brentwood Family YMCA Field 1
BEGIN:VALARM
TRIGGER:-P2H
ACTION:DISPLAY
DESCRIPTION:Joyner vs Manzano
END:VALARM
END:VEVENT
BEGIN:VEVENT
UID:brentwood-597142@ygametime.com
DTSTAMP:20260502T160000Z
DTSTART;TZID=America/Chicago:20260502T110000
DURATION:PT0H60M0S
SUMMARY:Baker/Sutherland vs Joyner
DESCRIPTION:Boys 2020 | Soccer\nBrentwood Family YMCA\n
URL;VALUE=URI:https://ygametime.com/branch/brentwood/sports/2026-spring-soccer/25709/?utm_medium=calendar&utm_source=team_cal&utm_content=league_url#game-597142
LOCATION:Brentwood Family YMCA Field 1
BEGIN:VALARM
TRIGGER:-P2H
ACTION:DISPLAY
DESCRIPTION:Baker/Sutherland vs Joyner
END:VALARM
END:VEVENT
BEGIN:VEVENT
UID:brentwood-597147@ygametime.com
DTSTAMP:20260509T160000Z
DTSTART;TZID=America/Chicago:20260509T110000
DURATION:PT0H60M0S
SUMMARY:Harr vs Joyner
DESCRIPTION:Boys 2020 | Soccer\nBrentwood Family YMCA\n
URL;VALUE=URI:https://ygametime.com/branch/brentwood/sports/2026-spring-soccer/25709/?utm_medium=calendar&utm_source=team_cal&utm_content=league_url#game-597147
LOCATION:Brentwood Family YMCA Field 1
BEGIN:VALARM
TRIGGER:-P2H
ACTION:DISPLAY
DESCRIPTION:Harr vs Joyner
END:VALARM
END:VEVENT
BEGIN:VEVENT
UID:brentwood-597136@ygametime.com
DTSTAMP:20260516T180000Z
DTSTART;TZID=America/Chicago:20260516T130000
DURATION:PT0H60M0S
SUMMARY:Shamansurov vs Joyner
DESCRIPTION:Boys 2020 | Soccer\nBrentwood Family YMCA\n
URL;VALUE=URI:https://ygametime.com/branch/brentwood/sports/2026-spring-soccer/25709/?utm_medium=calendar&utm_source=team_cal&utm_content=league_url#game-597136
LOCATION:Brentwood Family YMCA Field 1
BEGIN:VALARM
TRIGGER:-P2H
ACTION:DISPLAY
DESCRIPTION:Shamansurov vs Joyner
END:VALARM
END:VEVENT
END:VCALENDAR

