BEGIN:VCALENDAR
VERSION:2.0
PRODID:-//YGAMETIME.com//YGT iCal Creator//EN
METHOD:PUBLISH
X-PUBLISHED-TTL:PT6H
REFRESH-INTERVAL;VALUE=DURATION:PT6H
CALSCALE:GREGORIAN
X-WR-CALNAME:YGAMETIME CALENDAR
BEGIN:VTIMEZONE
TZID:America/Chicago
X-LIC-LOCATION:America/Chicago
BEGIN:DAYLIGHT
TZOFFSETFROM:-0600
TZOFFSETTO:-0500
TZNAME:CDT
DTSTART:19700308T020000
RRULE:FREQ=YEARLY;BYMONTH=3;BYDAY=2SU
END:DAYLIGHT
BEGIN:STANDARD
TZOFFSETFROM:-0500
TZOFFSETTO:-0600
TZNAME:CST
DTSTART:19701101T020000
RRULE:FREQ=YEARLY;BYMONTH=11;BYDAY=1SU
END:STANDARD
END:VTIMEZONE
BEGIN:VEVENT
UID:brentwood-597119@ygametime.com
DTSTAMP:20260328T170000Z
DTSTART;TZID=America/Chicago:20260328T120000
DURATION:PT0H60M0S
SUMMARY:Harr vs Van Der Merwe
DESCRIPTION:Boys 2020 | Soccer\nBrentwood Family YMCA\n
URL;VALUE=URI:https://ygametime.com/branch/brentwood/sports/2026-spring-soccer/25709/?utm_medium=calendar&utm_source=team_cal&utm_content=league_url#game-597119
LOCATION:Brentwood Family YMCA Field 1
BEGIN:VALARM
TRIGGER:-P2H
ACTION:DISPLAY
DESCRIPTION:Harr vs Van Der Merwe
END:VALARM
END:VEVENT
BEGIN:VEVENT
UID:brentwood-597122@ygametime.com
DTSTAMP:20260404T160000Z
DTSTART;TZID=America/Chicago:20260404T110000
DURATION:PT0H60M0S
SUMMARY:Van Der Merwe vs Moore
DESCRIPTION:Boys 2020 | Soccer\nBrentwood Family YMCA\n
URL;VALUE=URI:https://ygametime.com/branch/brentwood/sports/2026-spring-soccer/25709/?utm_medium=calendar&utm_source=team_cal&utm_content=league_url#game-597122
LOCATION:Brentwood Family YMCA Field 1
BEGIN:VALARM
TRIGGER:-P2H
ACTION:DISPLAY
DESCRIPTION:Van Der Merwe vs Moore
END:VALARM
END:VEVENT
BEGIN:VEVENT
UID:brentwood-597130@ygametime.com
DTSTAMP:20260411T170000Z
DTSTART;TZID=America/Chicago:20260411T120000
DURATION:PT0H60M0S
SUMMARY:Van Der Merwe vs Baker/Sutherland
DESCRIPTION:Boys 2020 | Soccer\nBrentwood Family YMCA\n
URL;VALUE=URI:https://ygametime.com/branch/brentwood/sports/2026-spring-soccer/25709/?utm_medium=calendar&utm_source=team_cal&utm_content=league_url#game-597130
LOCATION:Brentwood Family YMCA Field 2
BEGIN:VALARM
TRIGGER:-P2H
ACTION:DISPLAY
DESCRIPTION:Van Der Merwe vs Baker/Sutherland
END:VALARM
END:VEVENT
BEGIN:VEVENT
UID:brentwood-597140@ygametime.com
DTSTAMP:20260425T170000Z
DTSTART;TZID=America/Chicago:20260425T120000
DURATION:PT0H60M0S
SUMMARY:Van Der Merwe vs Tayip
DESCRIPTION:Boys 2020 | Soccer\nBrentwood Family YMCA\n
URL;VALUE=URI:https://ygametime.com/branch/brentwood/sports/2026-spring-soccer/25709/?utm_medium=calendar&utm_source=team_cal&utm_content=league_url#game-597140
LOCATION:Brentwood Family YMCA Field 2
BEGIN:VALARM
TRIGGER:-P2H
ACTION:DISPLAY
DESCRIPTION:Van Der Merwe vs Tayip
END:VALARM
END:VEVENT
BEGIN:VEVENT
UID:brentwood-597145@ygametime.com
DTSTAMP:20260502T170000Z
DTSTART;TZID=America/Chicago:20260502T120000
DURATION:PT0H60M0S
SUMMARY:Armstrong/Huber vs Van Der Merwe
DESCRIPTION:Boys 2020 | Soccer\nBrentwood Family YMCA\n
URL;VALUE=URI:https://ygametime.com/branch/brentwood/sports/2026-spring-soccer/25709/?utm_medium=calendar&utm_source=team_cal&utm_content=league_url#game-597145
LOCATION:Brentwood Family YMCA Field 2
BEGIN:VALARM
TRIGGER:-P2H
ACTION:DISPLAY
DESCRIPTION:Armstrong/Huber vs Van Der Merwe
END:VALARM
END:VEVENT
BEGIN:VEVENT
UID:brentwood-597150@ygametime.com
DTSTAMP:20260509T170000Z
DTSTART;TZID=America/Chicago:20260509T120000
DURATION:PT0H60M0S
SUMMARY:Van Der Merwe vs Shamansurov
DESCRIPTION:Boys 2020 | Soccer\nBrentwood Family YMCA\n
URL;VALUE=URI:https://ygametime.com/branch/brentwood/sports/2026-spring-soccer/25709/?utm_medium=calendar&utm_source=team_cal&utm_content=league_url#game-597150
LOCATION:Brentwood Family YMCA Field 2
BEGIN:VALARM
TRIGGER:-P2H
ACTION:DISPLAY
DESCRIPTION:Van Der Merwe vs Shamansurov
END:VALARM
END:VEVENT
BEGIN:VEVENT
UID:brentwood-597135@ygametime.com
DTSTAMP:20260516T170000Z
DTSTART;TZID=America/Chicago:20260516T120000
DURATION:PT0H60M0S
SUMMARY:Morris/ Jensen vs Van Der Merwe
DESCRIPTION:Boys 2020 | Soccer\nBrentwood Family YMCA\n
URL;VALUE=URI:https://ygametime.com/branch/brentwood/sports/2026-spring-soccer/25709/?utm_medium=calendar&utm_source=team_cal&utm_content=league_url#game-597135
LOCATION:Brentwood Family YMCA Field 2
BEGIN:VALARM
TRIGGER:-P2H
ACTION:DISPLAY
DESCRIPTION:Morris/ Jensen vs Van Der Merwe
END:VALARM
END:VEVENT
END:VCALENDAR

