BEGIN:VCALENDAR
VERSION:2.0
PRODID:-//YGAMETIME.com//YGT iCal Creator//EN
METHOD:PUBLISH
X-PUBLISHED-TTL:PT6H
REFRESH-INTERVAL;VALUE=DURATION:PT6H
CALSCALE:GREGORIAN
X-WR-CALNAME:YGAMETIME CALENDAR
BEGIN:VTIMEZONE
TZID:America/Chicago
X-LIC-LOCATION:America/Chicago
BEGIN:DAYLIGHT
TZOFFSETFROM:-0600
TZOFFSETTO:-0500
TZNAME:CDT
DTSTART:19700308T020000
RRULE:FREQ=YEARLY;BYMONTH=3;BYDAY=2SU
END:DAYLIGHT
BEGIN:STANDARD
TZOFFSETFROM:-0500
TZOFFSETTO:-0600
TZNAME:CST
DTSTART:19701101T020000
RRULE:FREQ=YEARLY;BYMONTH=11;BYDAY=1SU
END:STANDARD
END:VTIMEZONE
BEGIN:VEVENT
UID:brentwood-597120@ygametime.com
DTSTAMP:20260328T170000Z
DTSTART;TZID=America/Chicago:20260328T120000
DURATION:PT0H60M0S
SUMMARY:Manzano vs Tayip
DESCRIPTION:Boys 2020 | Soccer\nBrentwood Family YMCA\n
URL;VALUE=URI:https://ygametime.com/branch/brentwood/sports/2026-spring-soccer/25709/?utm_medium=calendar&utm_source=team_cal&utm_content=league_url#game-597120
LOCATION:Brentwood Family YMCA Field 2
BEGIN:VALARM
TRIGGER:-P2H
ACTION:DISPLAY
DESCRIPTION:Manzano vs Tayip
END:VALARM
END:VEVENT
BEGIN:VEVENT
UID:brentwood-597123@ygametime.com
DTSTAMP:20260404T160000Z
DTSTART;TZID=America/Chicago:20260404T110000
DURATION:PT0H60M0S
SUMMARY:Armstrong/Huber vs Manzano
DESCRIPTION:Boys 2020 | Soccer\nBrentwood Family YMCA\n
URL;VALUE=URI:https://ygametime.com/branch/brentwood/sports/2026-spring-soccer/25709/?utm_medium=calendar&utm_source=team_cal&utm_content=league_url#game-597123
LOCATION:Brentwood Family YMCA Field 2
BEGIN:VALARM
TRIGGER:-P2H
ACTION:DISPLAY
DESCRIPTION:Armstrong/Huber vs Manzano
END:VALARM
END:VEVENT
BEGIN:VEVENT
UID:brentwood-597131@ygametime.com
DTSTAMP:20260411T180000Z
DTSTART;TZID=America/Chicago:20260411T130000
DURATION:PT0H60M0S
SUMMARY:Manzano vs Shamansurov
DESCRIPTION:Boys 2020 | Soccer\nBrentwood Family YMCA\n
URL;VALUE=URI:https://ygametime.com/branch/brentwood/sports/2026-spring-soccer/25709/?utm_medium=calendar&utm_source=team_cal&utm_content=league_url#game-597131
LOCATION:Brentwood Family YMCA Field 1
BEGIN:VALARM
TRIGGER:-P2H
ACTION:DISPLAY
DESCRIPTION:Manzano vs Shamansurov
END:VALARM
END:VEVENT
BEGIN:VEVENT
UID:brentwood-597139@ygametime.com
DTSTAMP:20260425T170000Z
DTSTART;TZID=America/Chicago:20260425T120000
DURATION:PT0H60M0S
SUMMARY:Joyner vs Manzano
DESCRIPTION:Boys 2020 | Soccer\nBrentwood Family YMCA\n
URL;VALUE=URI:https://ygametime.com/branch/brentwood/sports/2026-spring-soccer/25709/?utm_medium=calendar&utm_source=team_cal&utm_content=league_url#game-597139
LOCATION:Brentwood Family YMCA Field 1
BEGIN:VALARM
TRIGGER:-P2H
ACTION:DISPLAY
DESCRIPTION:Joyner vs Manzano
END:VALARM
END:VEVENT
BEGIN:VEVENT
UID:brentwood-597144@ygametime.com
DTSTAMP:20260502T170000Z
DTSTART;TZID=America/Chicago:20260502T120000
DURATION:PT0H60M0S
SUMMARY:Manzano vs Harr
DESCRIPTION:Boys 2020 | Soccer\nBrentwood Family YMCA\n
URL;VALUE=URI:https://ygametime.com/branch/brentwood/sports/2026-spring-soccer/25709/?utm_medium=calendar&utm_source=team_cal&utm_content=league_url#game-597144
LOCATION:Brentwood Family YMCA Field 1
BEGIN:VALARM
TRIGGER:-P2H
ACTION:DISPLAY
DESCRIPTION:Manzano vs Harr
END:VALARM
END:VEVENT
BEGIN:VEVENT
UID:brentwood-597149@ygametime.com
DTSTAMP:20260509T170000Z
DTSTART;TZID=America/Chicago:20260509T120000
DURATION:PT0H60M0S
SUMMARY:Moore vs Manzano
DESCRIPTION:Boys 2020 | Soccer\nBrentwood Family YMCA\n
URL;VALUE=URI:https://ygametime.com/branch/brentwood/sports/2026-spring-soccer/25709/?utm_medium=calendar&utm_source=team_cal&utm_content=league_url#game-597149
LOCATION:Brentwood Family YMCA Field 1
BEGIN:VALARM
TRIGGER:-P2H
ACTION:DISPLAY
DESCRIPTION:Moore vs Manzano
END:VALARM
END:VEVENT
BEGIN:VEVENT
UID:brentwood-597134@ygametime.com
DTSTAMP:20260516T170000Z
DTSTART;TZID=America/Chicago:20260516T120000
DURATION:PT0H60M0S
SUMMARY:Baker/Sutherland vs Manzano
DESCRIPTION:Boys 2020 | Soccer\nBrentwood Family YMCA\n
URL;VALUE=URI:https://ygametime.com/branch/brentwood/sports/2026-spring-soccer/25709/?utm_medium=calendar&utm_source=team_cal&utm_content=league_url#game-597134
LOCATION:Brentwood Family YMCA Field 1
BEGIN:VALARM
TRIGGER:-P2H
ACTION:DISPLAY
DESCRIPTION:Baker/Sutherland vs Manzano
END:VALARM
END:VEVENT
END:VCALENDAR

