BEGIN:VCALENDAR
VERSION:2.0
PRODID:-//YGAMETIME.com//YGT iCal Creator//EN
METHOD:PUBLISH
X-PUBLISHED-TTL:PT6H
REFRESH-INTERVAL;VALUE=DURATION:PT6H
CALSCALE:GREGORIAN
X-WR-CALNAME:YGAMETIME CALENDAR
BEGIN:VTIMEZONE
TZID:America/Chicago
X-LIC-LOCATION:America/Chicago
BEGIN:DAYLIGHT
TZOFFSETFROM:-0600
TZOFFSETTO:-0500
TZNAME:CDT
DTSTART:19700308T020000
RRULE:FREQ=YEARLY;BYMONTH=3;BYDAY=2SU
END:DAYLIGHT
BEGIN:STANDARD
TZOFFSETFROM:-0500
TZOFFSETTO:-0600
TZNAME:CST
DTSTART:19701101T020000
RRULE:FREQ=YEARLY;BYMONTH=11;BYDAY=1SU
END:STANDARD
END:VTIMEZONE
BEGIN:VEVENT
UID:brentwood-597121@ygametime.com
DTSTAMP:20260328T180000Z
DTSTART;TZID=America/Chicago:20260328T130000
DURATION:PT0H60M0S
SUMMARY:Joyner vs Morris/ Jensen
DESCRIPTION:Boys 2020 | Soccer\nBrentwood Family YMCA\n
URL;VALUE=URI:https://ygametime.com/branch/brentwood/sports/2026-spring-soccer/25709/?utm_medium=calendar&utm_source=team_cal&utm_content=league_url#game-597121
LOCATION:Brentwood Family YMCA Field 1
BEGIN:VALARM
TRIGGER:-P2H
ACTION:DISPLAY
DESCRIPTION:Joyner vs Morris/ Jensen
END:VALARM
END:VEVENT
BEGIN:VEVENT
UID:brentwood-597124@ygametime.com
DTSTAMP:20260404T170000Z
DTSTART;TZID=America/Chicago:20260404T120000
DURATION:PT0H60M0S
SUMMARY:Morris/ Jensen vs Harr
DESCRIPTION:Boys 2020 | Soccer\nBrentwood Family YMCA\n
URL;VALUE=URI:https://ygametime.com/branch/brentwood/sports/2026-spring-soccer/25709/?utm_medium=calendar&utm_source=team_cal&utm_content=league_url#game-597124
LOCATION:Brentwood Family YMCA Field 1
BEGIN:VALARM
TRIGGER:-P2H
ACTION:DISPLAY
DESCRIPTION:Morris/ Jensen vs Harr
END:VALARM
END:VEVENT
BEGIN:VEVENT
UID:brentwood-597127@ygametime.com
DTSTAMP:20260411T160000Z
DTSTART;TZID=America/Chicago:20260411T110000
DURATION:PT0H60M0S
SUMMARY:Moore vs Morris/ Jensen
DESCRIPTION:Boys 2020 | Soccer\nBrentwood Family YMCA\n
URL;VALUE=URI:https://ygametime.com/branch/brentwood/sports/2026-spring-soccer/25709/?utm_medium=calendar&utm_source=team_cal&utm_content=league_url#game-597127
LOCATION:Brentwood Family YMCA Field 1
BEGIN:VALARM
TRIGGER:-P2H
ACTION:DISPLAY
DESCRIPTION:Moore vs Morris/ Jensen
END:VALARM
END:VEVENT
BEGIN:VEVENT
UID:brentwood-597138@ygametime.com
DTSTAMP:20260425T160000Z
DTSTART;TZID=America/Chicago:20260425T110000
DURATION:PT0H60M0S
SUMMARY:Morris/ Jensen vs Baker/Sutherland
DESCRIPTION:Boys 2020 | Soccer\nBrentwood Family YMCA\n
URL;VALUE=URI:https://ygametime.com/branch/brentwood/sports/2026-spring-soccer/25709/?utm_medium=calendar&utm_source=team_cal&utm_content=league_url#game-597138
LOCATION:Brentwood Family YMCA Field 2
BEGIN:VALARM
TRIGGER:-P2H
ACTION:DISPLAY
DESCRIPTION:Morris/ Jensen vs Baker/Sutherland
END:VALARM
END:VEVENT
BEGIN:VEVENT
UID:brentwood-597143@ygametime.com
DTSTAMP:20260502T160000Z
DTSTART;TZID=America/Chicago:20260502T110000
DURATION:PT0H60M0S
SUMMARY:Tayip vs Morris/ Jensen
DESCRIPTION:Boys 2020 | Soccer\nBrentwood Family YMCA\n
URL;VALUE=URI:https://ygametime.com/branch/brentwood/sports/2026-spring-soccer/25709/?utm_medium=calendar&utm_source=team_cal&utm_content=league_url#game-597143
LOCATION:Brentwood Family YMCA Field 2
BEGIN:VALARM
TRIGGER:-P2H
ACTION:DISPLAY
DESCRIPTION:Tayip vs Morris/ Jensen
END:VALARM
END:VEVENT
BEGIN:VEVENT
UID:brentwood-597148@ygametime.com
DTSTAMP:20260509T160000Z
DTSTART;TZID=America/Chicago:20260509T110000
DURATION:PT0H60M0S
SUMMARY:Morris/ Jensen vs Armstrong/Huber
DESCRIPTION:Boys 2020 | Soccer\nBrentwood Family YMCA\n
URL;VALUE=URI:https://ygametime.com/branch/brentwood/sports/2026-spring-soccer/25709/?utm_medium=calendar&utm_source=team_cal&utm_content=league_url#game-597148
LOCATION:Brentwood Family YMCA Field 2
BEGIN:VALARM
TRIGGER:-P2H
ACTION:DISPLAY
DESCRIPTION:Morris/ Jensen vs Armstrong/Huber
END:VALARM
END:VEVENT
BEGIN:VEVENT
UID:brentwood-597135@ygametime.com
DTSTAMP:20260516T170000Z
DTSTART;TZID=America/Chicago:20260516T120000
DURATION:PT0H60M0S
SUMMARY:Morris/ Jensen vs Van Der Merwe
DESCRIPTION:Boys 2020 | Soccer\nBrentwood Family YMCA\n
URL;VALUE=URI:https://ygametime.com/branch/brentwood/sports/2026-spring-soccer/25709/?utm_medium=calendar&utm_source=team_cal&utm_content=league_url#game-597135
LOCATION:Brentwood Family YMCA Field 2
BEGIN:VALARM
TRIGGER:-P2H
ACTION:DISPLAY
DESCRIPTION:Morris/ Jensen vs Van Der Merwe
END:VALARM
END:VEVENT
END:VCALENDAR

