BEGIN:VCALENDAR
VERSION:2.0
PRODID:-//YGAMETIME.com//YGT iCal Creator//EN
METHOD:PUBLISH
X-PUBLISHED-TTL:PT6H
REFRESH-INTERVAL;VALUE=DURATION:PT6H
CALSCALE:GREGORIAN
X-WR-CALNAME:YGAMETIME CALENDAR
BEGIN:VTIMEZONE
TZID:America/Chicago
X-LIC-LOCATION:America/Chicago
BEGIN:DAYLIGHT
TZOFFSETFROM:-0600
TZOFFSETTO:-0500
TZNAME:CDT
DTSTART:19700308T020000
RRULE:FREQ=YEARLY;BYMONTH=3;BYDAY=2SU
END:DAYLIGHT
BEGIN:STANDARD
TZOFFSETFROM:-0500
TZOFFSETTO:-0600
TZNAME:CST
DTSTART:19701101T020000
RRULE:FREQ=YEARLY;BYMONTH=11;BYDAY=1SU
END:STANDARD
END:VTIMEZONE
BEGIN:VEVENT
UID:brentwood-597155@ygametime.com
DTSTAMP:20260328T130000Z
DTSTART;TZID=America/Chicago:20260328T080000
DURATION:PT0H60M0S
SUMMARY:Lister vs Blocker/Shumacher/Fauk/Jezek
DESCRIPTION:Boys 2021-22 | Soccer\nBrentwood Family YMCA\n
URL;VALUE=URI:https://ygametime.com/branch/brentwood/sports/2026-spring-soccer/25708/?utm_medium=calendar&utm_source=team_cal&utm_content=league_url#game-597155
LOCATION:Brentwood Family YMCA Field 2
BEGIN:VALARM
TRIGGER:-P2H
ACTION:DISPLAY
DESCRIPTION:Lister vs Blocker/Shumacher/Fauk/Jezek
END:VALARM
END:VEVENT
BEGIN:VEVENT
UID:brentwood-597161@ygametime.com
DTSTAMP:20260404T130000Z
DTSTART;TZID=America/Chicago:20260404T080000
DURATION:PT0H60M0S
SUMMARY:Blocker/Shumacher/Fauk/Jezek vs Crum
DESCRIPTION:Boys 2021-22 | Soccer\nBrentwood Family YMCA\n
URL;VALUE=URI:https://ygametime.com/branch/brentwood/sports/2026-spring-soccer/25708/?utm_medium=calendar&utm_source=team_cal&utm_content=league_url#game-597161
LOCATION:Brentwood Family YMCA Field 2
BEGIN:VALARM
TRIGGER:-P2H
ACTION:DISPLAY
DESCRIPTION:Blocker/Shumacher/Fauk/Jezek vs Crum
END:VALARM
END:VEVENT
BEGIN:VEVENT
UID:brentwood-597167@ygametime.com
DTSTAMP:20260411T130000Z
DTSTART;TZID=America/Chicago:20260411T080000
DURATION:PT0H60M0S
SUMMARY:Buzzelli vs Blocker/Shumacher/Fauk/Jezek
DESCRIPTION:Boys 2021-22 | Soccer\nBrentwood Family YMCA\n
URL;VALUE=URI:https://ygametime.com/branch/brentwood/sports/2026-spring-soccer/25708/?utm_medium=calendar&utm_source=team_cal&utm_content=league_url#game-597167
LOCATION:Brentwood Family YMCA Field 2
BEGIN:VALARM
TRIGGER:-P2H
ACTION:DISPLAY
DESCRIPTION:Buzzelli vs Blocker/Shumacher/Fauk/Jezek
END:VALARM
END:VEVENT
BEGIN:VEVENT
UID:brentwood-597176@ygametime.com
DTSTAMP:20260425T130000Z
DTSTART;TZID=America/Chicago:20260425T080000
DURATION:PT0H60M0S
SUMMARY:Broadway vs Blocker/Shumacher/Fauk/Jezek
DESCRIPTION:Boys 2021-22 | Soccer\nBrentwood Family YMCA\n
URL;VALUE=URI:https://ygametime.com/branch/brentwood/sports/2026-spring-soccer/25708/?utm_medium=calendar&utm_source=team_cal&utm_content=league_url#game-597176
LOCATION:Brentwood Family YMCA Field 1
BEGIN:VALARM
TRIGGER:-P2H
ACTION:DISPLAY
DESCRIPTION:Broadway vs Blocker/Shumacher/Fauk/Jezek
END:VALARM
END:VEVENT
BEGIN:VEVENT
UID:brentwood-597186@ygametime.com
DTSTAMP:20260502T130000Z
DTSTART;TZID=America/Chicago:20260502T080000
DURATION:PT0H60M0S
SUMMARY:Blocker/Shumacher/Fauk/Jezek vs Dureax
DESCRIPTION:Boys 2021-22 | Soccer\nBrentwood Family YMCA\n
URL;VALUE=URI:https://ygametime.com/branch/brentwood/sports/2026-spring-soccer/25708/?utm_medium=calendar&utm_source=team_cal&utm_content=league_url#game-597186
LOCATION:Brentwood Family YMCA Field 1
BEGIN:VALARM
TRIGGER:-P2H
ACTION:DISPLAY
DESCRIPTION:Blocker/Shumacher/Fauk/Jezek vs Dureax
END:VALARM
END:VEVENT
BEGIN:VEVENT
UID:brentwood-597190@ygametime.com
DTSTAMP:20260509T130000Z
DTSTART;TZID=America/Chicago:20260509T080000
DURATION:PT0H60M0S
SUMMARY:Hatchett vs Blocker/Shumacher/Fauk/Jezek
DESCRIPTION:Boys 2021-22 | Soccer\nBrentwood Family YMCA\n
URL;VALUE=URI:https://ygametime.com/branch/brentwood/sports/2026-spring-soccer/25708/?utm_medium=calendar&utm_source=team_cal&utm_content=league_url#game-597190
LOCATION:Brentwood Family YMCA Field 1
BEGIN:VALARM
TRIGGER:-P2H
ACTION:DISPLAY
DESCRIPTION:Hatchett vs Blocker/Shumacher/Fauk/Jezek
END:VALARM
END:VEVENT
BEGIN:VEVENT
UID:brentwood-597172@ygametime.com
DTSTAMP:20260516T130000Z
DTSTART;TZID=America/Chicago:20260516T080000
DURATION:PT0H60M0S
SUMMARY:Blocker/Shumacher/Fauk/Jezek vs Ramsey
DESCRIPTION:Boys 2021-22 | Soccer\nBrentwood Family YMCA\n
URL;VALUE=URI:https://ygametime.com/branch/brentwood/sports/2026-spring-soccer/25708/?utm_medium=calendar&utm_source=team_cal&utm_content=league_url#game-597172
LOCATION:Brentwood Family YMCA Field 1
BEGIN:VALARM
TRIGGER:-P2H
ACTION:DISPLAY
DESCRIPTION:Blocker/Shumacher/Fauk/Jezek vs Ramsey
END:VALARM
END:VEVENT
END:VCALENDAR

