BEGIN:VCALENDAR
VERSION:2.0
PRODID:-//YGAMETIME.com//YGT iCal Creator//EN
METHOD:PUBLISH
X-PUBLISHED-TTL:PT6H
REFRESH-INTERVAL;VALUE=DURATION:PT6H
CALSCALE:GREGORIAN
X-WR-CALNAME:YGAMETIME CALENDAR
BEGIN:VTIMEZONE
TZID:America/Chicago
X-LIC-LOCATION:America/Chicago
BEGIN:DAYLIGHT
TZOFFSETFROM:-0600
TZOFFSETTO:-0500
TZNAME:CDT
DTSTART:19700308T020000
RRULE:FREQ=YEARLY;BYMONTH=3;BYDAY=2SU
END:DAYLIGHT
BEGIN:STANDARD
TZOFFSETFROM:-0500
TZOFFSETTO:-0600
TZNAME:CST
DTSTART:19701101T020000
RRULE:FREQ=YEARLY;BYMONTH=11;BYDAY=1SU
END:STANDARD
END:VTIMEZONE
BEGIN:VEVENT
UID:brentwood-597157@ygametime.com
DTSTAMP:20260328T150000Z
DTSTART;TZID=America/Chicago:20260328T100000
DURATION:PT0H60M0S
SUMMARY:Crum vs Byram
DESCRIPTION:Boys 2021-22 | Soccer\nBrentwood Family YMCA\n
URL;VALUE=URI:https://ygametime.com/branch/brentwood/sports/2026-spring-soccer/25708/?utm_medium=calendar&utm_source=team_cal&utm_content=league_url#game-597157
LOCATION:Brentwood Family YMCA Field 2
BEGIN:VALARM
TRIGGER:-P2H
ACTION:DISPLAY
DESCRIPTION:Crum vs Byram
END:VALARM
END:VEVENT
BEGIN:VEVENT
UID:brentwood-597162@ygametime.com
DTSTAMP:20260404T150000Z
DTSTART;TZID=America/Chicago:20260404T100000
DURATION:PT0H60M0S
SUMMARY:Byram vs Buzzelli
DESCRIPTION:Boys 2021-22 | Soccer\nBrentwood Family YMCA\n
URL;VALUE=URI:https://ygametime.com/branch/brentwood/sports/2026-spring-soccer/25708/?utm_medium=calendar&utm_source=team_cal&utm_content=league_url#game-597162
LOCATION:Brentwood Family YMCA Field 1
BEGIN:VALARM
TRIGGER:-P2H
ACTION:DISPLAY
DESCRIPTION:Byram vs Buzzelli
END:VALARM
END:VEVENT
BEGIN:VEVENT
UID:brentwood-597166@ygametime.com
DTSTAMP:20260411T140000Z
DTSTART;TZID=America/Chicago:20260411T090000
DURATION:PT0H60M0S
SUMMARY:Ramsey vs Byram
DESCRIPTION:Boys 2021-22 | Soccer\nBrentwood Family YMCA\n
URL;VALUE=URI:https://ygametime.com/branch/brentwood/sports/2026-spring-soccer/25708/?utm_medium=calendar&utm_source=team_cal&utm_content=league_url#game-597166
LOCATION:Brentwood Family YMCA Field 1
BEGIN:VALARM
TRIGGER:-P2H
ACTION:DISPLAY
DESCRIPTION:Ramsey vs Byram
END:VALARM
END:VEVENT
BEGIN:VEVENT
UID:brentwood-597180@ygametime.com
DTSTAMP:20260425T150000Z
DTSTART;TZID=America/Chicago:20260425T100000
DURATION:PT0H60M0S
SUMMARY:Dureax vs Byram
DESCRIPTION:Boys 2021-22 | Soccer\nBrentwood Family YMCA\n
URL;VALUE=URI:https://ygametime.com/branch/brentwood/sports/2026-spring-soccer/25708/?utm_medium=calendar&utm_source=team_cal&utm_content=league_url#game-597180
LOCATION:Brentwood Family YMCA Field 1
BEGIN:VALARM
TRIGGER:-P2H
ACTION:DISPLAY
DESCRIPTION:Dureax vs Byram
END:VALARM
END:VEVENT
BEGIN:VEVENT
UID:brentwood-597184@ygametime.com
DTSTAMP:20260502T140000Z
DTSTART;TZID=America/Chicago:20260502T090000
DURATION:PT0H60M0S
SUMMARY:Byram vs Hatchett
DESCRIPTION:Boys 2021-22 | Soccer\nBrentwood Family YMCA\n
URL;VALUE=URI:https://ygametime.com/branch/brentwood/sports/2026-spring-soccer/25708/?utm_medium=calendar&utm_source=team_cal&utm_content=league_url#game-597184
LOCATION:Brentwood Family YMCA Field 1
BEGIN:VALARM
TRIGGER:-P2H
ACTION:DISPLAY
DESCRIPTION:Byram vs Hatchett
END:VALARM
END:VEVENT
BEGIN:VEVENT
UID:brentwood-597188@ygametime.com
DTSTAMP:20260509T140000Z
DTSTART;TZID=America/Chicago:20260509T090000
DURATION:PT0H60M0S
SUMMARY:Byram vs Lainhart
DESCRIPTION:Boys 2021-22 | Soccer\nBrentwood Family YMCA\n
URL;VALUE=URI:https://ygametime.com/branch/brentwood/sports/2026-spring-soccer/25708/?utm_medium=calendar&utm_source=team_cal&utm_content=league_url#game-597188
LOCATION:Brentwood Family YMCA Field 1
BEGIN:VALARM
TRIGGER:-P2H
ACTION:DISPLAY
DESCRIPTION:Byram vs Lainhart
END:VALARM
END:VEVENT
BEGIN:VEVENT
UID:brentwood-597170@ygametime.com
DTSTAMP:20260516T140000Z
DTSTART;TZID=America/Chicago:20260516T090000
DURATION:PT0H60M0S
SUMMARY:Byram vs Broadway
DESCRIPTION:Boys 2021-22 | Soccer\nBrentwood Family YMCA\n
URL;VALUE=URI:https://ygametime.com/branch/brentwood/sports/2026-spring-soccer/25708/?utm_medium=calendar&utm_source=team_cal&utm_content=league_url#game-597170
LOCATION:Brentwood Family YMCA Field 1
BEGIN:VALARM
TRIGGER:-P2H
ACTION:DISPLAY
DESCRIPTION:Byram vs Broadway
END:VALARM
END:VEVENT
END:VCALENDAR

