BEGIN:VCALENDAR
VERSION:2.0
PRODID:-//YGAMETIME.com//YGT iCal Creator//EN
METHOD:PUBLISH
X-PUBLISHED-TTL:PT6H
REFRESH-INTERVAL;VALUE=DURATION:PT6H
CALSCALE:GREGORIAN
X-WR-CALNAME:YGAMETIME CALENDAR
BEGIN:VTIMEZONE
TZID:America/Chicago
X-LIC-LOCATION:America/Chicago
BEGIN:DAYLIGHT
TZOFFSETFROM:-0600
TZOFFSETTO:-0500
TZNAME:CDT
DTSTART:19700308T020000
RRULE:FREQ=YEARLY;BYMONTH=3;BYDAY=2SU
END:DAYLIGHT
BEGIN:STANDARD
TZOFFSETFROM:-0500
TZOFFSETTO:-0600
TZNAME:CST
DTSTART:19701101T020000
RRULE:FREQ=YEARLY;BYMONTH=11;BYDAY=1SU
END:STANDARD
END:VTIMEZONE
BEGIN:VEVENT
UID:brentwood-597152@ygametime.com
DTSTAMP:20260328T140000Z
DTSTART;TZID=America/Chicago:20260328T090000
DURATION:PT0H60M0S
SUMMARY:Broadway vs Lainhart
DESCRIPTION:Boys 2021-22 | Soccer\nBrentwood Family YMCA\n
URL;VALUE=URI:https://ygametime.com/branch/brentwood/sports/2026-spring-soccer/25708/?utm_medium=calendar&utm_source=team_cal&utm_content=league_url#game-597152
LOCATION:Brentwood Family YMCA Field 2
BEGIN:VALARM
TRIGGER:-P2H
ACTION:DISPLAY
DESCRIPTION:Broadway vs Lainhart
END:VALARM
END:VEVENT
BEGIN:VEVENT
UID:brentwood-597158@ygametime.com
DTSTAMP:20260404T140000Z
DTSTART;TZID=America/Chicago:20260404T090000
DURATION:PT0H60M0S
SUMMARY:Dureax vs Broadway
DESCRIPTION:Boys 2021-22 | Soccer\nBrentwood Family YMCA\n
URL;VALUE=URI:https://ygametime.com/branch/brentwood/sports/2026-spring-soccer/25708/?utm_medium=calendar&utm_source=team_cal&utm_content=league_url#game-597158
LOCATION:Brentwood Family YMCA Field 2
BEGIN:VALARM
TRIGGER:-P2H
ACTION:DISPLAY
DESCRIPTION:Dureax vs Broadway
END:VALARM
END:VEVENT
BEGIN:VEVENT
UID:brentwood-597164@ygametime.com
DTSTAMP:20260411T150000Z
DTSTART;TZID=America/Chicago:20260411T100000
DURATION:PT0H60M0S
SUMMARY:Broadway vs Hatchett
DESCRIPTION:Boys 2021-22 | Soccer\nBrentwood Family YMCA\n
URL;VALUE=URI:https://ygametime.com/branch/brentwood/sports/2026-spring-soccer/25708/?utm_medium=calendar&utm_source=team_cal&utm_content=league_url#game-597164
LOCATION:Brentwood Family YMCA Field 2
BEGIN:VALARM
TRIGGER:-P2H
ACTION:DISPLAY
DESCRIPTION:Broadway vs Hatchett
END:VALARM
END:VEVENT
BEGIN:VEVENT
UID:brentwood-597176@ygametime.com
DTSTAMP:20260425T130000Z
DTSTART;TZID=America/Chicago:20260425T080000
DURATION:PT0H60M0S
SUMMARY:Broadway vs Blocker/Shumacher/Fauk/Jezek
DESCRIPTION:Boys 2021-22 | Soccer\nBrentwood Family YMCA\n
URL;VALUE=URI:https://ygametime.com/branch/brentwood/sports/2026-spring-soccer/25708/?utm_medium=calendar&utm_source=team_cal&utm_content=league_url#game-597176
LOCATION:Brentwood Family YMCA Field 1
BEGIN:VALARM
TRIGGER:-P2H
ACTION:DISPLAY
DESCRIPTION:Broadway vs Blocker/Shumacher/Fauk/Jezek
END:VALARM
END:VEVENT
BEGIN:VEVENT
UID:brentwood-597182@ygametime.com
DTSTAMP:20260502T130000Z
DTSTART;TZID=America/Chicago:20260502T080000
DURATION:PT0H60M0S
SUMMARY:Rasmussen/Totaro vs Broadway
DESCRIPTION:Boys 2021-22 | Soccer\nBrentwood Family YMCA\n
URL;VALUE=URI:https://ygametime.com/branch/brentwood/sports/2026-spring-soccer/25708/?utm_medium=calendar&utm_source=team_cal&utm_content=league_url#game-597182
LOCATION:Brentwood Family YMCA Field 2
BEGIN:VALARM
TRIGGER:-P2H
ACTION:DISPLAY
DESCRIPTION:Rasmussen/Totaro vs Broadway
END:VALARM
END:VEVENT
BEGIN:VEVENT
UID:brentwood-597193@ygametime.com
DTSTAMP:20260509T150000Z
DTSTART;TZID=America/Chicago:20260509T100000
DURATION:PT0H60M0S
SUMMARY:Broadway vs Tomberlin/Duke
DESCRIPTION:Boys 2021-22 | Soccer\nBrentwood Family YMCA\n
URL;VALUE=URI:https://ygametime.com/branch/brentwood/sports/2026-spring-soccer/25708/?utm_medium=calendar&utm_source=team_cal&utm_content=league_url#game-597193
LOCATION:Brentwood Family YMCA Field 2
BEGIN:VALARM
TRIGGER:-P2H
ACTION:DISPLAY
DESCRIPTION:Broadway vs Tomberlin/Duke
END:VALARM
END:VEVENT
BEGIN:VEVENT
UID:brentwood-597170@ygametime.com
DTSTAMP:20260516T140000Z
DTSTART;TZID=America/Chicago:20260516T090000
DURATION:PT0H60M0S
SUMMARY:Byram vs Broadway
DESCRIPTION:Boys 2021-22 | Soccer\nBrentwood Family YMCA\n
URL;VALUE=URI:https://ygametime.com/branch/brentwood/sports/2026-spring-soccer/25708/?utm_medium=calendar&utm_source=team_cal&utm_content=league_url#game-597170
LOCATION:Brentwood Family YMCA Field 1
BEGIN:VALARM
TRIGGER:-P2H
ACTION:DISPLAY
DESCRIPTION:Byram vs Broadway
END:VALARM
END:VEVENT
END:VCALENDAR

