BEGIN:VCALENDAR
VERSION:2.0
PRODID:-//YGAMETIME.com//YGT iCal Creator//EN
METHOD:PUBLISH
X-PUBLISHED-TTL:PT6H
REFRESH-INTERVAL;VALUE=DURATION:PT6H
CALSCALE:GREGORIAN
X-WR-CALNAME:YGAMETIME CALENDAR
BEGIN:VTIMEZONE
TZID:America/Chicago
X-LIC-LOCATION:America/Chicago
BEGIN:DAYLIGHT
TZOFFSETFROM:-0600
TZOFFSETTO:-0500
TZNAME:CDT
DTSTART:19700308T020000
RRULE:FREQ=YEARLY;BYMONTH=3;BYDAY=2SU
END:DAYLIGHT
BEGIN:STANDARD
TZOFFSETFROM:-0500
TZOFFSETTO:-0600
TZNAME:CST
DTSTART:19701101T020000
RRULE:FREQ=YEARLY;BYMONTH=11;BYDAY=1SU
END:STANDARD
END:VTIMEZONE
BEGIN:VEVENT
UID:brentwood-597155@ygametime.com
DTSTAMP:20260328T130000Z
DTSTART;TZID=America/Chicago:20260328T080000
DURATION:PT0H60M0S
SUMMARY:Lister vs Blocker/Shumacher/Fauk/Jezek
DESCRIPTION:Boys 2021-22 | Soccer\nBrentwood Family YMCA\n
URL;VALUE=URI:https://ygametime.com/branch/brentwood/sports/2026-spring-soccer/25708/?utm_medium=calendar&utm_source=team_cal&utm_content=league_url#game-597155
LOCATION:Brentwood Family YMCA Field 2
BEGIN:VALARM
TRIGGER:-P2H
ACTION:DISPLAY
DESCRIPTION:Lister vs Blocker/Shumacher/Fauk/Jezek
END:VALARM
END:VEVENT
BEGIN:VEVENT
UID:brentwood-597159@ygametime.com
DTSTAMP:20260404T130000Z
DTSTART;TZID=America/Chicago:20260404T080000
DURATION:PT0H60M0S
SUMMARY:Rasmussen/Totaro vs Lister
DESCRIPTION:Boys 2021-22 | Soccer\nBrentwood Family YMCA\n
URL;VALUE=URI:https://ygametime.com/branch/brentwood/sports/2026-spring-soccer/25708/?utm_medium=calendar&utm_source=team_cal&utm_content=league_url#game-597159
LOCATION:Brentwood Family YMCA Field 1
BEGIN:VALARM
TRIGGER:-P2H
ACTION:DISPLAY
DESCRIPTION:Rasmussen/Totaro vs Lister
END:VALARM
END:VEVENT
BEGIN:VEVENT
UID:brentwood-597169@ygametime.com
DTSTAMP:20260411T140000Z
DTSTART;TZID=America/Chicago:20260411T090000
DURATION:PT0H60M0S
SUMMARY:Lister vs Tomberlin/Duke
DESCRIPTION:Boys 2021-22 | Soccer\nBrentwood Family YMCA\n
URL;VALUE=URI:https://ygametime.com/branch/brentwood/sports/2026-spring-soccer/25708/?utm_medium=calendar&utm_source=team_cal&utm_content=league_url#game-597169
LOCATION:Brentwood Family YMCA Field 2
BEGIN:VALARM
TRIGGER:-P2H
ACTION:DISPLAY
DESCRIPTION:Lister vs Tomberlin/Duke
END:VALARM
END:VEVENT
BEGIN:VEVENT
UID:brentwood-597179@ygametime.com
DTSTAMP:20260425T140000Z
DTSTART;TZID=America/Chicago:20260425T090000
DURATION:PT0H60M0S
SUMMARY:Crum vs Lister
DESCRIPTION:Boys 2021-22 | Soccer\nBrentwood Family YMCA\n
URL;VALUE=URI:https://ygametime.com/branch/brentwood/sports/2026-spring-soccer/25708/?utm_medium=calendar&utm_source=team_cal&utm_content=league_url#game-597179
LOCATION:Brentwood Family YMCA Field 2
BEGIN:VALARM
TRIGGER:-P2H
ACTION:DISPLAY
DESCRIPTION:Crum vs Lister
END:VALARM
END:VEVENT
BEGIN:VEVENT
UID:brentwood-597185@ygametime.com
DTSTAMP:20260502T140000Z
DTSTART;TZID=America/Chicago:20260502T090000
DURATION:PT0H60M0S
SUMMARY:Lister vs Buzzelli
DESCRIPTION:Boys 2021-22 | Soccer\nBrentwood Family YMCA\n
URL;VALUE=URI:https://ygametime.com/branch/brentwood/sports/2026-spring-soccer/25708/?utm_medium=calendar&utm_source=team_cal&utm_content=league_url#game-597185
LOCATION:Brentwood Family YMCA Field 2
BEGIN:VALARM
TRIGGER:-P2H
ACTION:DISPLAY
DESCRIPTION:Lister vs Buzzelli
END:VALARM
END:VEVENT
BEGIN:VEVENT
UID:brentwood-597191@ygametime.com
DTSTAMP:20260509T140000Z
DTSTART;TZID=America/Chicago:20260509T090000
DURATION:PT0H60M0S
SUMMARY:Ramsey vs Lister
DESCRIPTION:Boys 2021-22 | Soccer\nBrentwood Family YMCA\n
URL;VALUE=URI:https://ygametime.com/branch/brentwood/sports/2026-spring-soccer/25708/?utm_medium=calendar&utm_source=team_cal&utm_content=league_url#game-597191
LOCATION:Brentwood Family YMCA Field 2
BEGIN:VALARM
TRIGGER:-P2H
ACTION:DISPLAY
DESCRIPTION:Ramsey vs Lister
END:VALARM
END:VEVENT
BEGIN:VEVENT
UID:brentwood-597173@ygametime.com
DTSTAMP:20260516T140000Z
DTSTART;TZID=America/Chicago:20260516T090000
DURATION:PT0H60M0S
SUMMARY:Lainhart vs Lister
DESCRIPTION:Boys 2021-22 | Soccer\nBrentwood Family YMCA\n
URL;VALUE=URI:https://ygametime.com/branch/brentwood/sports/2026-spring-soccer/25708/?utm_medium=calendar&utm_source=team_cal&utm_content=league_url#game-597173
LOCATION:Brentwood Family YMCA Field 2
BEGIN:VALARM
TRIGGER:-P2H
ACTION:DISPLAY
DESCRIPTION:Lainhart vs Lister
END:VALARM
END:VEVENT
END:VCALENDAR

