BEGIN:VCALENDAR
VERSION:2.0
PRODID:-//YGAMETIME.com//YGT iCal Creator//EN
METHOD:PUBLISH
X-PUBLISHED-TTL:PT6H
REFRESH-INTERVAL;VALUE=DURATION:PT6H
CALSCALE:GREGORIAN
X-WR-CALNAME:YGAMETIME CALENDAR
BEGIN:VTIMEZONE
TZID:America/Chicago
X-LIC-LOCATION:America/Chicago
BEGIN:DAYLIGHT
TZOFFSETFROM:-0600
TZOFFSETTO:-0500
TZNAME:CDT
DTSTART:19700308T020000
RRULE:FREQ=YEARLY;BYMONTH=3;BYDAY=2SU
END:DAYLIGHT
BEGIN:STANDARD
TZOFFSETFROM:-0500
TZOFFSETTO:-0600
TZNAME:CST
DTSTART:19701101T020000
RRULE:FREQ=YEARLY;BYMONTH=11;BYDAY=1SU
END:STANDARD
END:VTIMEZONE
BEGIN:VEVENT
UID:brentwood-597157@ygametime.com
DTSTAMP:20260328T150000Z
DTSTART;TZID=America/Chicago:20260328T100000
DURATION:PT0H60M0S
SUMMARY:Crum vs Byram
DESCRIPTION:Boys 2021-22 | Soccer\nBrentwood Family YMCA\n
URL;VALUE=URI:https://ygametime.com/branch/brentwood/sports/2026-spring-soccer/25708/?utm_medium=calendar&utm_source=team_cal&utm_content=league_url#game-597157
LOCATION:Brentwood Family YMCA Field 2
BEGIN:VALARM
TRIGGER:-P2H
ACTION:DISPLAY
DESCRIPTION:Crum vs Byram
END:VALARM
END:VEVENT
BEGIN:VEVENT
UID:brentwood-597161@ygametime.com
DTSTAMP:20260404T130000Z
DTSTART;TZID=America/Chicago:20260404T080000
DURATION:PT0H60M0S
SUMMARY:Blocker/Shumacher/Fauk/Jezek vs Crum
DESCRIPTION:Boys 2021-22 | Soccer\nBrentwood Family YMCA\n
URL;VALUE=URI:https://ygametime.com/branch/brentwood/sports/2026-spring-soccer/25708/?utm_medium=calendar&utm_source=team_cal&utm_content=league_url#game-597161
LOCATION:Brentwood Family YMCA Field 2
BEGIN:VALARM
TRIGGER:-P2H
ACTION:DISPLAY
DESCRIPTION:Blocker/Shumacher/Fauk/Jezek vs Crum
END:VALARM
END:VEVENT
BEGIN:VEVENT
UID:brentwood-597165@ygametime.com
DTSTAMP:20260411T150000Z
DTSTART;TZID=America/Chicago:20260411T100000
DURATION:PT0H60M0S
SUMMARY:Crum vs Rasmussen/Totaro
DESCRIPTION:Boys 2021-22 | Soccer\nBrentwood Family YMCA\n
URL;VALUE=URI:https://ygametime.com/branch/brentwood/sports/2026-spring-soccer/25708/?utm_medium=calendar&utm_source=team_cal&utm_content=league_url#game-597165
LOCATION:Brentwood Family YMCA Field 1
BEGIN:VALARM
TRIGGER:-P2H
ACTION:DISPLAY
DESCRIPTION:Crum vs Rasmussen/Totaro
END:VALARM
END:VEVENT
BEGIN:VEVENT
UID:brentwood-597179@ygametime.com
DTSTAMP:20260425T140000Z
DTSTART;TZID=America/Chicago:20260425T090000
DURATION:PT0H60M0S
SUMMARY:Crum vs Lister
DESCRIPTION:Boys 2021-22 | Soccer\nBrentwood Family YMCA\n
URL;VALUE=URI:https://ygametime.com/branch/brentwood/sports/2026-spring-soccer/25708/?utm_medium=calendar&utm_source=team_cal&utm_content=league_url#game-597179
LOCATION:Brentwood Family YMCA Field 2
BEGIN:VALARM
TRIGGER:-P2H
ACTION:DISPLAY
DESCRIPTION:Crum vs Lister
END:VALARM
END:VEVENT
BEGIN:VEVENT
UID:brentwood-597183@ygametime.com
DTSTAMP:20260502T150000Z
DTSTART;TZID=America/Chicago:20260502T100000
DURATION:PT0H60M0S
SUMMARY:Lainhart vs Crum
DESCRIPTION:Boys 2021-22 | Soccer\nBrentwood Family YMCA\n
URL;VALUE=URI:https://ygametime.com/branch/brentwood/sports/2026-spring-soccer/25708/?utm_medium=calendar&utm_source=team_cal&utm_content=league_url#game-597183
LOCATION:Brentwood Family YMCA Field 1
BEGIN:VALARM
TRIGGER:-P2H
ACTION:DISPLAY
DESCRIPTION:Lainhart vs Crum
END:VALARM
END:VEVENT
BEGIN:VEVENT
UID:brentwood-597189@ygametime.com
DTSTAMP:20260509T150000Z
DTSTART;TZID=America/Chicago:20260509T100000
DURATION:PT0H60M0S
SUMMARY:Buzzelli vs Crum
DESCRIPTION:Boys 2021-22 | Soccer\nBrentwood Family YMCA\n
URL;VALUE=URI:https://ygametime.com/branch/brentwood/sports/2026-spring-soccer/25708/?utm_medium=calendar&utm_source=team_cal&utm_content=league_url#game-597189
LOCATION:Brentwood Family YMCA Field 1
BEGIN:VALARM
TRIGGER:-P2H
ACTION:DISPLAY
DESCRIPTION:Buzzelli vs Crum
END:VALARM
END:VEVENT
BEGIN:VEVENT
UID:brentwood-597175@ygametime.com
DTSTAMP:20260516T150000Z
DTSTART;TZID=America/Chicago:20260516T100000
DURATION:PT0H60M0S
SUMMARY:Tomberlin/Duke vs Crum
DESCRIPTION:Boys 2021-22 | Soccer\nBrentwood Family YMCA\n
URL;VALUE=URI:https://ygametime.com/branch/brentwood/sports/2026-spring-soccer/25708/?utm_medium=calendar&utm_source=team_cal&utm_content=league_url#game-597175
LOCATION:Brentwood Family YMCA Field 2
BEGIN:VALARM
TRIGGER:-P2H
ACTION:DISPLAY
DESCRIPTION:Tomberlin/Duke vs Crum
END:VALARM
END:VEVENT
END:VCALENDAR

