BEGIN:VCALENDAR
VERSION:2.0
PRODID:-//YGAMETIME.com//YGT iCal Creator//EN
METHOD:PUBLISH
X-PUBLISHED-TTL:PT6H
REFRESH-INTERVAL;VALUE=DURATION:PT6H
CALSCALE:GREGORIAN
X-WR-CALNAME:YGAMETIME CALENDAR
BEGIN:VTIMEZONE
TZID:America/Chicago
X-LIC-LOCATION:America/Chicago
BEGIN:DAYLIGHT
TZOFFSETFROM:-0600
TZOFFSETTO:-0500
TZNAME:CDT
DTSTART:19700308T020000
RRULE:FREQ=YEARLY;BYMONTH=3;BYDAY=2SU
END:DAYLIGHT
BEGIN:STANDARD
TZOFFSETFROM:-0500
TZOFFSETTO:-0600
TZNAME:CST
DTSTART:19701101T020000
RRULE:FREQ=YEARLY;BYMONTH=11;BYDAY=1SU
END:STANDARD
END:VTIMEZONE
BEGIN:VEVENT
UID:brentwood-596807@ygametime.com
DTSTAMP:20260328T130000Z
DTSTART;TZID=America/Chicago:20260328T080000
DURATION:PT0H75M0S
SUMMARY:Dorsey 1 vs Spedding
DESCRIPTION:Boys 2018 | Soccer\nBrentwood Family YMCA\n
URL;VALUE=URI:https://ygametime.com/branch/brentwood/sports/2026-spring-soccer/25711/?utm_medium=calendar&utm_source=team_cal&utm_content=league_url#game-596807
LOCATION:Crockett Park Field 8A
BEGIN:VALARM
TRIGGER:-P2H
ACTION:DISPLAY
DESCRIPTION:Dorsey 1 vs Spedding
END:VALARM
END:VEVENT
BEGIN:VEVENT
UID:brentwood-596810@ygametime.com
DTSTAMP:20260404T164500Z
DTSTART;TZID=America/Chicago:20260404T114500
DURATION:PT0H75M0S
SUMMARY:Delvizis vs Dorsey 1
DESCRIPTION:Boys 2018 | Soccer\nBrentwood Family YMCA\n
URL;VALUE=URI:https://ygametime.com/branch/brentwood/sports/2026-spring-soccer/25711/?utm_medium=calendar&utm_source=team_cal&utm_content=league_url#game-596810
LOCATION:Crockett Park Field 8A
BEGIN:VALARM
TRIGGER:-P2H
ACTION:DISPLAY
DESCRIPTION:Delvizis vs Dorsey 1
END:VALARM
END:VEVENT
BEGIN:VEVENT
UID:brentwood-596818@ygametime.com
DTSTAMP:20260411T141500Z
DTSTART;TZID=America/Chicago:20260411T091500
DURATION:PT0H75M0S
SUMMARY:Dorsey 1 vs Owens
DESCRIPTION:Boys 2018 | Soccer\nBrentwood Family YMCA\n
URL;VALUE=URI:https://ygametime.com/branch/brentwood/sports/2026-spring-soccer/25711/?utm_medium=calendar&utm_source=team_cal&utm_content=league_url#game-596818
LOCATION:Crockett Park Field 8A
BEGIN:VALARM
TRIGGER:-P2H
ACTION:DISPLAY
DESCRIPTION:Dorsey 1 vs Owens
END:VALARM
END:VEVENT
BEGIN:VEVENT
UID:brentwood-602985@ygametime.com
DTSTAMP:20260418T130000Z
DTSTART;TZID=America/Chicago:20260418T080000
DURATION:PT0H75M0S
SUMMARY:Dorsey 1 vs Terry/Grimm
DESCRIPTION:Boys 2018 | Soccer\nBrentwood Family YMCA\n
URL;VALUE=URI:https://ygametime.com/branch/brentwood/sports/2026-spring-soccer/25711/?utm_medium=calendar&utm_source=team_cal&utm_content=league_url#game-602985
LOCATION:Crockett Park Field 7A
BEGIN:VALARM
TRIGGER:-P2H
ACTION:DISPLAY
DESCRIPTION:Dorsey 1 vs Terry/Grimm
END:VALARM
END:VEVENT
BEGIN:VEVENT
UID:brentwood-602991@ygametime.com
DTSTAMP:20260425T164500Z
DTSTART;TZID=America/Chicago:20260425T114500
DURATION:PT0H75M0S
SUMMARY:Delvizis vs Dorsey 1
DESCRIPTION:Boys 2018 | Soccer\nBrentwood Family YMCA\n
URL;VALUE=URI:https://ygametime.com/branch/brentwood/sports/2026-spring-soccer/25711/?utm_medium=calendar&utm_source=team_cal&utm_content=league_url#game-602991
LOCATION:Crockett Park Field 8A
BEGIN:VALARM
TRIGGER:-P2H
ACTION:DISPLAY
DESCRIPTION:Delvizis vs Dorsey 1
END:VALARM
END:VEVENT
BEGIN:VEVENT
UID:brentwood-603003@ygametime.com
DTSTAMP:20260509T141500Z
DTSTART;TZID=America/Chicago:20260509T091500
DURATION:PT0H75M0S
SUMMARY:Dorsey 1 vs Williams
DESCRIPTION:Boys 2018 | Soccer\nBrentwood Family YMCA\n
URL;VALUE=URI:https://ygametime.com/branch/brentwood/sports/2026-spring-soccer/25711/?utm_medium=calendar&utm_source=team_cal&utm_content=league_url#game-603003
LOCATION:Crockett Park Field 8A
BEGIN:VALARM
TRIGGER:-P2H
ACTION:DISPLAY
DESCRIPTION:Dorsey 1 vs Williams
END:VALARM
END:VEVENT
BEGIN:VEVENT
UID:brentwood-602999@ygametime.com
DTSTAMP:20260516T130000Z
DTSTART;TZID=America/Chicago:20260516T080000
DURATION:PT0H75M0S
SUMMARY:Dorsey 1 vs Dorsey 2
DESCRIPTION:Boys 2018 | Soccer\nBrentwood Family YMCA\n
URL;VALUE=URI:https://ygametime.com/branch/brentwood/sports/2026-spring-soccer/25711/?utm_medium=calendar&utm_source=team_cal&utm_content=league_url#game-602999
LOCATION:Crockett Park Field 8A
BEGIN:VALARM
TRIGGER:-P2H
ACTION:DISPLAY
DESCRIPTION:Dorsey 1 vs Dorsey 2
END:VALARM
END:VEVENT
END:VCALENDAR

