BEGIN:VCALENDAR
VERSION:2.0
PRODID:-//YGAMETIME.com//YGT iCal Creator//EN
METHOD:PUBLISH
X-PUBLISHED-TTL:PT6H
REFRESH-INTERVAL;VALUE=DURATION:PT6H
CALSCALE:GREGORIAN
X-WR-CALNAME:YGAMETIME CALENDAR
BEGIN:VTIMEZONE
TZID:America/Chicago
X-LIC-LOCATION:America/Chicago
BEGIN:DAYLIGHT
TZOFFSETFROM:-0600
TZOFFSETTO:-0500
TZNAME:CDT
DTSTART:19700308T020000
RRULE:FREQ=YEARLY;BYMONTH=3;BYDAY=2SU
END:DAYLIGHT
BEGIN:STANDARD
TZOFFSETFROM:-0500
TZOFFSETTO:-0600
TZNAME:CST
DTSTART:19701101T020000
RRULE:FREQ=YEARLY;BYMONTH=11;BYDAY=1SU
END:STANDARD
END:VTIMEZONE
BEGIN:VEVENT
UID:brentwood-598571@ygametime.com
DTSTAMP:20260328T180000Z
DTSTART;TZID=America/Chicago:20260328T130000
DURATION:PT0H75M0S
SUMMARY:Burton 3 vs Burton 7
DESCRIPTION:NUSA 2018 Boys | Soccer\nBrentwood Family YMCA\n
URL;VALUE=URI:https://ygametime.com/branch/brentwood/sports/2026-spring-soccer/25840/?utm_medium=calendar&utm_source=team_cal&utm_content=league_url#game-598571
LOCATION:Crockett Park Field 7B
BEGIN:VALARM
TRIGGER:-P2H
ACTION:DISPLAY
DESCRIPTION:Burton 3 vs Burton 7
END:VALARM
END:VEVENT
BEGIN:VEVENT
UID:brentwood-598575@ygametime.com
DTSTAMP:20260404T180000Z
DTSTART;TZID=America/Chicago:20260404T130000
DURATION:PT0H75M0S
SUMMARY:Burton 4 vs Burton 3
DESCRIPTION:NUSA 2018 Boys | Soccer\nBrentwood Family YMCA\n
URL;VALUE=URI:https://ygametime.com/branch/brentwood/sports/2026-spring-soccer/25840/?utm_medium=calendar&utm_source=team_cal&utm_content=league_url#game-598575
LOCATION:Crockett Park Field 7B
BEGIN:VALARM
TRIGGER:-P2H
ACTION:DISPLAY
DESCRIPTION:Burton 4 vs Burton 3
END:VALARM
END:VEVENT
BEGIN:VEVENT
UID:brentwood-598578@ygametime.com
DTSTAMP:20260411T180000Z
DTSTART;TZID=America/Chicago:20260411T130000
DURATION:PT0H75M0S
SUMMARY:Burton 3 vs Burton 2
DESCRIPTION:NUSA 2018 Boys | Soccer\nBrentwood Family YMCA\n
URL;VALUE=URI:https://ygametime.com/branch/brentwood/sports/2026-spring-soccer/25840/?utm_medium=calendar&utm_source=team_cal&utm_content=league_url#game-598578
LOCATION:Crockett Park Field 7A
BEGIN:VALARM
TRIGGER:-P2H
ACTION:DISPLAY
DESCRIPTION:Burton 3 vs Burton 2
END:VALARM
END:VEVENT
BEGIN:VEVENT
UID:brentwood-598584@ygametime.com
DTSTAMP:20260418T180000Z
DTSTART;TZID=America/Chicago:20260418T130000
DURATION:PT0H75M0S
SUMMARY:Burton 6 vs Burton 3
DESCRIPTION:NUSA 2018 Boys | Soccer\nBrentwood Family YMCA\n
URL;VALUE=URI:https://ygametime.com/branch/brentwood/sports/2026-spring-soccer/25840/?utm_medium=calendar&utm_source=team_cal&utm_content=league_url#game-598584
LOCATION:Crockett Park Field 7B
BEGIN:VALARM
TRIGGER:-P2H
ACTION:DISPLAY
DESCRIPTION:Burton 6 vs Burton 3
END:VALARM
END:VEVENT
BEGIN:VEVENT
UID:brentwood-598586@ygametime.com
DTSTAMP:20260425T180000Z
DTSTART;TZID=America/Chicago:20260425T130000
DURATION:PT0H75M0S
SUMMARY:Burton 3 vs Burton 8
DESCRIPTION:NUSA 2018 Boys | Soccer\nBrentwood Family YMCA\n
URL;VALUE=URI:https://ygametime.com/branch/brentwood/sports/2026-spring-soccer/25840/?utm_medium=calendar&utm_source=team_cal&utm_content=league_url#game-598586
LOCATION:Crockett Park Field 7A
BEGIN:VALARM
TRIGGER:-P2H
ACTION:DISPLAY
DESCRIPTION:Burton 3 vs Burton 8
END:VALARM
END:VEVENT
BEGIN:VEVENT
UID:brentwood-598596@ygametime.com
DTSTAMP:20260509T180000Z
DTSTART;TZID=America/Chicago:20260509T130000
DURATION:PT0H75M0S
SUMMARY:Burton 5 vs Burton 3
DESCRIPTION:NUSA 2018 Boys | Soccer\nBrentwood Family YMCA\n
URL;VALUE=URI:https://ygametime.com/branch/brentwood/sports/2026-spring-soccer/25840/?utm_medium=calendar&utm_source=team_cal&utm_content=league_url#game-598596
LOCATION:Crockett Park Field 7B
BEGIN:VALARM
TRIGGER:-P2H
ACTION:DISPLAY
DESCRIPTION:Burton 5 vs Burton 3
END:VALARM
END:VEVENT
BEGIN:VEVENT
UID:brentwood-598592@ygametime.com
DTSTAMP:20260516T180000Z
DTSTART;TZID=America/Chicago:20260516T130000
DURATION:PT0H75M0S
SUMMARY:Burton 1 vs Burton 3
DESCRIPTION:NUSA 2018 Boys | Soccer\nBrentwood Family YMCA\n
URL;VALUE=URI:https://ygametime.com/branch/brentwood/sports/2026-spring-soccer/25840/?utm_medium=calendar&utm_source=team_cal&utm_content=league_url#game-598592
LOCATION:Crockett Park Field 7B
BEGIN:VALARM
TRIGGER:-P2H
ACTION:DISPLAY
DESCRIPTION:Burton 1 vs Burton 3
END:VALARM
END:VEVENT
END:VCALENDAR

