BEGIN:VCALENDAR
VERSION:2.0
PRODID:-//YGAMETIME.com//YGT iCal Creator//EN
METHOD:PUBLISH
X-PUBLISHED-TTL:PT6H
REFRESH-INTERVAL;VALUE=DURATION:PT6H
CALSCALE:GREGORIAN
X-WR-CALNAME:YGAMETIME CALENDAR
BEGIN:VTIMEZONE
TZID:America/Chicago
X-LIC-LOCATION:America/Chicago
BEGIN:DAYLIGHT
TZOFFSETFROM:-0600
TZOFFSETTO:-0500
TZNAME:CDT
DTSTART:19700308T020000
RRULE:FREQ=YEARLY;BYMONTH=3;BYDAY=2SU
END:DAYLIGHT
BEGIN:STANDARD
TZOFFSETFROM:-0500
TZOFFSETTO:-0600
TZNAME:CST
DTSTART:19701101T020000
RRULE:FREQ=YEARLY;BYMONTH=11;BYDAY=1SU
END:STANDARD
END:VTIMEZONE
BEGIN:VEVENT
UID:brentwood-598569@ygametime.com
DTSTAMP:20260328T164500Z
DTSTART;TZID=America/Chicago:20260328T114500
DURATION:PT0H75M0S
SUMMARY:Burton 5 vs Burton 1
DESCRIPTION:NUSA 2018 Boys | Soccer\nBrentwood Family YMCA\n
URL;VALUE=URI:https://ygametime.com/branch/brentwood/sports/2026-spring-soccer/25840/?utm_medium=calendar&utm_source=team_cal&utm_content=league_url#game-598569
LOCATION:Crockett Park Field 7A
BEGIN:VALARM
TRIGGER:-P2H
ACTION:DISPLAY
DESCRIPTION:Burton 5 vs Burton 1
END:VALARM
END:VEVENT
BEGIN:VEVENT
UID:brentwood-598573@ygametime.com
DTSTAMP:20260404T164500Z
DTSTART;TZID=America/Chicago:20260404T114500
DURATION:PT0H75M0S
SUMMARY:Burton 7 vs Burton 5
DESCRIPTION:NUSA 2018 Boys | Soccer\nBrentwood Family YMCA\n
URL;VALUE=URI:https://ygametime.com/branch/brentwood/sports/2026-spring-soccer/25840/?utm_medium=calendar&utm_source=team_cal&utm_content=league_url#game-598573
LOCATION:Crockett Park Field 7A
BEGIN:VALARM
TRIGGER:-P2H
ACTION:DISPLAY
DESCRIPTION:Burton 7 vs Burton 5
END:VALARM
END:VEVENT
BEGIN:VEVENT
UID:brentwood-598577@ygametime.com
DTSTAMP:20260411T164500Z
DTSTART;TZID=America/Chicago:20260411T114500
DURATION:PT0H75M0S
SUMMARY:Burton 5 vs Burton 4
DESCRIPTION:NUSA 2018 Boys | Soccer\nBrentwood Family YMCA\n
URL;VALUE=URI:https://ygametime.com/branch/brentwood/sports/2026-spring-soccer/25840/?utm_medium=calendar&utm_source=team_cal&utm_content=league_url#game-598577
LOCATION:Crockett Park Field 7A
BEGIN:VALARM
TRIGGER:-P2H
ACTION:DISPLAY
DESCRIPTION:Burton 5 vs Burton 4
END:VALARM
END:VEVENT
BEGIN:VEVENT
UID:brentwood-598581@ygametime.com
DTSTAMP:20260418T164500Z
DTSTART;TZID=America/Chicago:20260418T114500
DURATION:PT0H75M0S
SUMMARY:Burton 2 vs Burton 5
DESCRIPTION:NUSA 2018 Boys | Soccer\nBrentwood Family YMCA\n
URL;VALUE=URI:https://ygametime.com/branch/brentwood/sports/2026-spring-soccer/25840/?utm_medium=calendar&utm_source=team_cal&utm_content=league_url#game-598581
LOCATION:Crockett Park Field 7A
BEGIN:VALARM
TRIGGER:-P2H
ACTION:DISPLAY
DESCRIPTION:Burton 2 vs Burton 5
END:VALARM
END:VEVENT
BEGIN:VEVENT
UID:brentwood-598588@ygametime.com
DTSTAMP:20260425T180000Z
DTSTART;TZID=America/Chicago:20260425T130000
DURATION:PT0H75M0S
SUMMARY:Burton 5 vs Burton 6
DESCRIPTION:NUSA 2018 Boys | Soccer\nBrentwood Family YMCA\n
URL;VALUE=URI:https://ygametime.com/branch/brentwood/sports/2026-spring-soccer/25840/?utm_medium=calendar&utm_source=team_cal&utm_content=league_url#game-598588
LOCATION:Crockett Park Field 7B
BEGIN:VALARM
TRIGGER:-P2H
ACTION:DISPLAY
DESCRIPTION:Burton 5 vs Burton 6
END:VALARM
END:VEVENT
BEGIN:VEVENT
UID:brentwood-598596@ygametime.com
DTSTAMP:20260509T180000Z
DTSTART;TZID=America/Chicago:20260509T130000
DURATION:PT0H75M0S
SUMMARY:Burton 5 vs Burton 3
DESCRIPTION:NUSA 2018 Boys | Soccer\nBrentwood Family YMCA\n
URL;VALUE=URI:https://ygametime.com/branch/brentwood/sports/2026-spring-soccer/25840/?utm_medium=calendar&utm_source=team_cal&utm_content=league_url#game-598596
LOCATION:Crockett Park Field 7B
BEGIN:VALARM
TRIGGER:-P2H
ACTION:DISPLAY
DESCRIPTION:Burton 5 vs Burton 3
END:VALARM
END:VEVENT
BEGIN:VEVENT
UID:brentwood-598590@ygametime.com
DTSTAMP:20260516T180000Z
DTSTART;TZID=America/Chicago:20260516T130000
DURATION:PT0H75M0S
SUMMARY:Burton 8 vs Burton 5
DESCRIPTION:NUSA 2018 Boys | Soccer\nBrentwood Family YMCA\n
URL;VALUE=URI:https://ygametime.com/branch/brentwood/sports/2026-spring-soccer/25840/?utm_medium=calendar&utm_source=team_cal&utm_content=league_url#game-598590
LOCATION:Crockett Park Field 7A
BEGIN:VALARM
TRIGGER:-P2H
ACTION:DISPLAY
DESCRIPTION:Burton 8 vs Burton 5
END:VALARM
END:VEVENT
END:VCALENDAR

