BEGIN:VCALENDAR
VERSION:2.0
PRODID:-//YGAMETIME.com//YGT iCal Creator//EN
METHOD:PUBLISH
X-PUBLISHED-TTL:PT6H
REFRESH-INTERVAL;VALUE=DURATION:PT6H
CALSCALE:GREGORIAN
X-WR-CALNAME:YGAMETIME CALENDAR
BEGIN:VTIMEZONE
TZID:America/Chicago
X-LIC-LOCATION:America/Chicago
BEGIN:DAYLIGHT
TZOFFSETFROM:-0600
TZOFFSETTO:-0500
TZNAME:CDT
DTSTART:19700308T020000
RRULE:FREQ=YEARLY;BYMONTH=3;BYDAY=2SU
END:DAYLIGHT
BEGIN:STANDARD
TZOFFSETFROM:-0500
TZOFFSETTO:-0600
TZNAME:CST
DTSTART:19701101T020000
RRULE:FREQ=YEARLY;BYMONTH=11;BYDAY=1SU
END:STANDARD
END:VTIMEZONE
BEGIN:VEVENT
UID:brryall-591079@ygametime.com
DTSTAMP:20260425T140000Z
DTSTART;TZID=America/Chicago:20260425T090000
DURATION:PT0H90M0S
SUMMARY:Giants vs Marlins
DESCRIPTION:Ryall Division | T-Ball\nB.R. Ryall YMCA of Northwestern DuPage County\n
URL;VALUE=URI:https://ygametime.com/branch/brryall/sports/2026-spring-t-ball/25520/?utm_medium=calendar&utm_source=team_cal&utm_content=league_url#game-591079
LOCATION:The Y
BEGIN:VALARM
TRIGGER:-P2H
ACTION:DISPLAY
DESCRIPTION:Giants vs Marlins
END:VALARM
END:VEVENT
BEGIN:VEVENT
UID:brryall-591082@ygametime.com
DTSTAMP:20260502T153000Z
DTSTART;TZID=America/Chicago:20260502T103000
DURATION:PT0H90M0S
SUMMARY:Marlins vs Athletics
DESCRIPTION:Ryall Division | T-Ball\nB.R. Ryall YMCA of Northwestern DuPage County\n
URL;VALUE=URI:https://ygametime.com/branch/brryall/sports/2026-spring-t-ball/25520/?utm_medium=calendar&utm_source=team_cal&utm_content=league_url#game-591082
LOCATION:The Y
BEGIN:VALARM
TRIGGER:-P2H
ACTION:DISPLAY
DESCRIPTION:Marlins vs Athletics
END:VALARM
END:VEVENT
BEGIN:VEVENT
UID:brryall-591083@ygametime.com
DTSTAMP:20260509T140000Z
DTSTART;TZID=America/Chicago:20260509T090000
DURATION:PT0H90M0S
SUMMARY:Cubs vs Marlins
DESCRIPTION:Ryall Division | T-Ball\nB.R. Ryall YMCA of Northwestern DuPage County\n
URL;VALUE=URI:https://ygametime.com/branch/brryall/sports/2026-spring-t-ball/25520/?utm_medium=calendar&utm_source=team_cal&utm_content=league_url#game-591083
LOCATION:The Y
BEGIN:VALARM
TRIGGER:-P2H
ACTION:DISPLAY
DESCRIPTION:Cubs vs Marlins
END:VALARM
END:VEVENT
BEGIN:VEVENT
UID:brryall-591086@ygametime.com
DTSTAMP:20260516T153000Z
DTSTART;TZID=America/Chicago:20260516T103000
DURATION:PT0H90M0S
SUMMARY:Giants vs Marlins
DESCRIPTION:Ryall Division | T-Ball\nB.R. Ryall YMCA of Northwestern DuPage County\n
URL;VALUE=URI:https://ygametime.com/branch/brryall/sports/2026-spring-t-ball/25520/?utm_medium=calendar&utm_source=team_cal&utm_content=league_url#game-591086
LOCATION:The Y
BEGIN:VALARM
TRIGGER:-P2H
ACTION:DISPLAY
DESCRIPTION:Giants vs Marlins
END:VALARM
END:VEVENT
BEGIN:VEVENT
UID:brryall-591087@ygametime.com
DTSTAMP:20260530T140000Z
DTSTART;TZID=America/Chicago:20260530T090000
DURATION:PT0H90M0S
SUMMARY:Marlins vs Athletics
DESCRIPTION:Ryall Division | T-Ball\nB.R. Ryall YMCA of Northwestern DuPage County\n
URL;VALUE=URI:https://ygametime.com/branch/brryall/sports/2026-spring-t-ball/25520/?utm_medium=calendar&utm_source=team_cal&utm_content=league_url#game-591087
LOCATION:The Y
BEGIN:VALARM
TRIGGER:-P2H
ACTION:DISPLAY
DESCRIPTION:Marlins vs Athletics
END:VALARM
END:VEVENT
BEGIN:VEVENT
UID:brryall-591090@ygametime.com
DTSTAMP:20260606T153000Z
DTSTART;TZID=America/Chicago:20260606T103000
DURATION:PT0H90M0S
SUMMARY:Cubs vs Marlins
DESCRIPTION:Ryall Division | T-Ball\nB.R. Ryall YMCA of Northwestern DuPage County\n
URL;VALUE=URI:https://ygametime.com/branch/brryall/sports/2026-spring-t-ball/25520/?utm_medium=calendar&utm_source=team_cal&utm_content=league_url#game-591090
LOCATION:The Y
BEGIN:VALARM
TRIGGER:-P2H
ACTION:DISPLAY
DESCRIPTION:Cubs vs Marlins
END:VALARM
END:VEVENT
BEGIN:VEVENT
UID:brryall-591091@ygametime.com
DTSTAMP:20260613T140000Z
DTSTART;TZID=America/Chicago:20260613T090000
DURATION:PT0H90M0S
SUMMARY:Giants vs Marlins
DESCRIPTION:Ryall Division | T-Ball\nB.R. Ryall YMCA of Northwestern DuPage County\n
URL;VALUE=URI:https://ygametime.com/branch/brryall/sports/2026-spring-t-ball/25520/?utm_medium=calendar&utm_source=team_cal&utm_content=league_url#game-591091
LOCATION:The Y
BEGIN:VALARM
TRIGGER:-P2H
ACTION:DISPLAY
DESCRIPTION:Giants vs Marlins
END:VALARM
END:VEVENT
END:VCALENDAR

