BEGIN:VCALENDAR
VERSION:2.0
PRODID:-//YGAMETIME.com//YGT iCal Creator//EN
METHOD:PUBLISH
X-PUBLISHED-TTL:PT6H
REFRESH-INTERVAL;VALUE=DURATION:PT6H
CALSCALE:GREGORIAN
X-WR-CALNAME:YGAMETIME CALENDAR
BEGIN:VTIMEZONE
TZID:America/New_York
X-LIC-LOCATION:America/New_York
BEGIN:DAYLIGHT
TZOFFSETFROM:-0500
TZOFFSETTO:-0400
TZNAME:EDT
DTSTART:19700308T020000
RRULE:FREQ=YEARLY;BYMONTH=3;BYDAY=2SU
END:DAYLIGHT
BEGIN:STANDARD
TZOFFSETFROM:-0400
TZOFFSETTO:-0500
TZNAME:EST
DTSTART:19701101T020000
RRULE:FREQ=YEARLY;BYMONTH=11;BYDAY=1SU
END:STANDARD
END:VTIMEZONE
BEGIN:VEVENT
UID:cane-bay-596208@ygametime.com
DTSTAMP:20260328T210000Z
DTSTART;TZID=America/New_York:20260328T170000
DURATION:PT0H60M0S
SUMMARY:Coach Todd vs Coach Gooderham
DESCRIPTION:8-9 Division | Volleyball\nYMCA of Greater Charleston\nRindlisbach Ref 
URL;VALUE=URI:https://ygametime.com/branch/cane-bay/sports/2026-spring-volleyball/25796/?utm_medium=calendar&utm_source=team_cal&utm_content=league_url#game-596208
LOCATION:Cane Bay YMCA  Gym
BEGIN:VALARM
TRIGGER:-P2H
ACTION:DISPLAY
DESCRIPTION:Coach Todd vs Coach Gooderham
END:VALARM
END:VEVENT
BEGIN:VEVENT
UID:cane-bay-596203@ygametime.com
DTSTAMP:20260418T143000Z
DTSTART;TZID=America/New_York:20260418T103000
DURATION:PT0H60M0S
SUMMARY:Coach Gooderham vs MSE
DESCRIPTION:8-9 Division | Volleyball\nYMCA of Greater Charleston\nCoach Hammonds
URL;VALUE=URI:https://ygametime.com/branch/cane-bay/sports/2026-spring-volleyball/25796/?utm_medium=calendar&utm_source=team_cal&utm_content=league_url#game-596203
LOCATION:Cane Bay YMCA  Gym
BEGIN:VALARM
TRIGGER:-P2H
ACTION:DISPLAY
DESCRIPTION:Coach Gooderham vs MSE
END:VALARM
END:VEVENT
BEGIN:VEVENT
UID:cane-bay-596200@ygametime.com
DTSTAMP:20260425T143000Z
DTSTART;TZID=America/New_York:20260425T103000
DURATION:PT0H60M0S
SUMMARY:Coach Wilson vs Coach Gooderham
DESCRIPTION:8-9 Division | Volleyball\nYMCA of Greater Charleston\nMSE refs
URL;VALUE=URI:https://ygametime.com/branch/cane-bay/sports/2026-spring-volleyball/25796/?utm_medium=calendar&utm_source=team_cal&utm_content=league_url#game-596200
LOCATION:Cane Bay YMCA  Gym
BEGIN:VALARM
TRIGGER:-P2H
ACTION:DISPLAY
DESCRIPTION:Coach Wilson vs Coach Gooderham
END:VALARM
END:VEVENT
BEGIN:VEVENT
UID:cane-bay-596197@ygametime.com
DTSTAMP:20260502T130000Z
DTSTART;TZID=America/New_York:20260502T090000
DURATION:PT0H60M0S
SUMMARY:Coach Hammonds vs Coach Gooderham
DESCRIPTION:8-9 Division | Volleyball\nYMCA of Greater Charleston\nRindlisbach Refs
URL;VALUE=URI:https://ygametime.com/branch/cane-bay/sports/2026-spring-volleyball/25796/?utm_medium=calendar&utm_source=team_cal&utm_content=league_url#game-596197
LOCATION:Cane Bay YMCA  Gym
BEGIN:VALARM
TRIGGER:-P2H
ACTION:DISPLAY
DESCRIPTION:Coach Hammonds vs Coach Gooderham
END:VALARM
END:VEVENT
BEGIN:VEVENT
UID:cane-bay-596190@ygametime.com
DTSTAMP:20260509T143000Z
DTSTART;TZID=America/New_York:20260509T103000
DURATION:PT0H60M0S
SUMMARY:Coach Gooderham vs MSE
DESCRIPTION:8-9 Division | Volleyball\nYMCA of Greater Charleston\nWilson Refs
URL;VALUE=URI:https://ygametime.com/branch/cane-bay/sports/2026-spring-volleyball/25796/?utm_medium=calendar&utm_source=team_cal&utm_content=league_url#game-596190
LOCATION:Cane Bay YMCA  Gym
BEGIN:VALARM
TRIGGER:-P2H
ACTION:DISPLAY
DESCRIPTION:Coach Gooderham vs MSE
END:VALARM
END:VEVENT
BEGIN:VEVENT
UID:cane-bay-596192@ygametime.com
DTSTAMP:20260516T134500Z
DTSTART;TZID=America/New_York:20260516T094500
DURATION:PT0H60M0S
SUMMARY:Coach Todd vs Coach Gooderham
DESCRIPTION:8-9 Division | Volleyball\nYMCA of Greater Charleston\nMSE Refs
URL;VALUE=URI:https://ygametime.com/branch/cane-bay/sports/2026-spring-volleyball/25796/?utm_medium=calendar&utm_source=team_cal&utm_content=league_url#game-596192
LOCATION:Cane Bay YMCA  Gym
BEGIN:VALARM
TRIGGER:-P2H
ACTION:DISPLAY
DESCRIPTION:Coach Todd vs Coach Gooderham
END:VALARM
END:VEVENT
BEGIN:VEVENT
UID:cane-bay-596196@ygametime.com
DTSTAMP:20260530T130000Z
DTSTART;TZID=America/New_York:20260530T090000
DURATION:PT0H60M0S
SUMMARY:Coach Gooderham vs Coach Rindlisbach
DESCRIPTION:8-9 Division | Volleyball\nYMCA of Greater Charleston\nHammonds Refs
URL;VALUE=URI:https://ygametime.com/branch/cane-bay/sports/2026-spring-volleyball/25796/?utm_medium=calendar&utm_source=team_cal&utm_content=league_url#game-596196
LOCATION:Cane Bay YMCA  Gym
BEGIN:VALARM
TRIGGER:-P2H
ACTION:DISPLAY
DESCRIPTION:Coach Gooderham vs Coach Rindlisbach
END:VALARM
END:VEVENT
END:VCALENDAR

