BEGIN:VCALENDAR
VERSION:2.0
PRODID:-//YGAMETIME.com//YGT iCal Creator//EN
METHOD:PUBLISH
X-PUBLISHED-TTL:PT6H
REFRESH-INTERVAL;VALUE=DURATION:PT6H
CALSCALE:GREGORIAN
X-WR-CALNAME:YGAMETIME CALENDAR
BEGIN:VTIMEZONE
TZID:America/New_York
X-LIC-LOCATION:America/New_York
BEGIN:DAYLIGHT
TZOFFSETFROM:-0500
TZOFFSETTO:-0400
TZNAME:EDT
DTSTART:19700308T020000
RRULE:FREQ=YEARLY;BYMONTH=3;BYDAY=2SU
END:DAYLIGHT
BEGIN:STANDARD
TZOFFSETFROM:-0400
TZOFFSETTO:-0500
TZNAME:EST
DTSTART:19701101T020000
RRULE:FREQ=YEARLY;BYMONTH=11;BYDAY=1SU
END:STANDARD
END:VTIMEZONE
BEGIN:VEVENT
UID:cane-bay-596206@ygametime.com
DTSTAMP:20260328T200000Z
DTSTART;TZID=America/New_York:20260328T160000
DURATION:PT0H60M0S
SUMMARY:Coach Hammonds vs Coach Rindlisbach
DESCRIPTION:8-9 Division | Volleyball\nYMCA of Greater Charleston\nTodd Ref
URL;VALUE=URI:https://ygametime.com/branch/cane-bay/sports/2026-spring-volleyball/25796/?utm_medium=calendar&utm_source=team_cal&utm_content=league_url#game-596206
LOCATION:Cane Bay YMCA  Gym
BEGIN:VALARM
TRIGGER:-P2H
ACTION:DISPLAY
DESCRIPTION:Coach Hammonds vs Coach Rindlisbach
END:VALARM
END:VEVENT
BEGIN:VEVENT
UID:cane-bay-596205@ygametime.com
DTSTAMP:20260418T130000Z
DTSTART;TZID=America/New_York:20260418T090000
DURATION:PT0H60M0S
SUMMARY:Coach Rindlisbach vs Coach Todd
DESCRIPTION:8-9 Division | Volleyball\nYMCA of Greater Charleston\nCoach Wilson
URL;VALUE=URI:https://ygametime.com/branch/cane-bay/sports/2026-spring-volleyball/25796/?utm_medium=calendar&utm_source=team_cal&utm_content=league_url#game-596205
LOCATION:Cane Bay YMCA  Gym
BEGIN:VALARM
TRIGGER:-P2H
ACTION:DISPLAY
DESCRIPTION:Coach Rindlisbach vs Coach Todd
END:VALARM
END:VEVENT
BEGIN:VEVENT
UID:cane-bay-596201@ygametime.com
DTSTAMP:20260425T134500Z
DTSTART;TZID=America/New_York:20260425T094500
DURATION:PT0H60M0S
SUMMARY:MSE vs Coach Rindlisbach
DESCRIPTION:8-9 Division | Volleyball\nYMCA of Greater Charleston\nTodd Refs
URL;VALUE=URI:https://ygametime.com/branch/cane-bay/sports/2026-spring-volleyball/25796/?utm_medium=calendar&utm_source=team_cal&utm_content=league_url#game-596201
LOCATION:Cane Bay YMCA  Gym
BEGIN:VALARM
TRIGGER:-P2H
ACTION:DISPLAY
DESCRIPTION:MSE vs Coach Rindlisbach
END:VALARM
END:VEVENT
BEGIN:VEVENT
UID:cane-bay-596199@ygametime.com
DTSTAMP:20260502T134500Z
DTSTART;TZID=America/New_York:20260502T094500
DURATION:PT0H60M0S
SUMMARY:Coach Rindlisbach vs Coach Wilson
DESCRIPTION:8-9 Division | Volleyball\nYMCA of Greater Charleston\nGooderham Refs
URL;VALUE=URI:https://ygametime.com/branch/cane-bay/sports/2026-spring-volleyball/25796/?utm_medium=calendar&utm_source=team_cal&utm_content=league_url#game-596199
LOCATION:Cane Bay YMCA  Gym
BEGIN:VALARM
TRIGGER:-P2H
ACTION:DISPLAY
DESCRIPTION:Coach Rindlisbach vs Coach Wilson
END:VALARM
END:VEVENT
BEGIN:VEVENT
UID:cane-bay-596189@ygametime.com
DTSTAMP:20260509T130000Z
DTSTART;TZID=America/New_York:20260509T090000
DURATION:PT0H60M0S
SUMMARY:Coach Rindlisbach vs Coach Todd
DESCRIPTION:8-9 Division | Volleyball\nYMCA of Greater Charleston\nHammonds Refs
URL;VALUE=URI:https://ygametime.com/branch/cane-bay/sports/2026-spring-volleyball/25796/?utm_medium=calendar&utm_source=team_cal&utm_content=league_url#game-596189
LOCATION:Cane Bay YMCA  Gym
BEGIN:VALARM
TRIGGER:-P2H
ACTION:DISPLAY
DESCRIPTION:Coach Rindlisbach vs Coach Todd
END:VALARM
END:VEVENT
BEGIN:VEVENT
UID:cane-bay-596193@ygametime.com
DTSTAMP:20260516T130000Z
DTSTART;TZID=America/New_York:20260516T090000
DURATION:PT0H60M0S
SUMMARY:Coach Hammonds vs Coach Rindlisbach
DESCRIPTION:8-9 Division | Volleyball\nYMCA of Greater Charleston\nTodd Refs
URL;VALUE=URI:https://ygametime.com/branch/cane-bay/sports/2026-spring-volleyball/25796/?utm_medium=calendar&utm_source=team_cal&utm_content=league_url#game-596193
LOCATION:Cane Bay YMCA  Gym
BEGIN:VALARM
TRIGGER:-P2H
ACTION:DISPLAY
DESCRIPTION:Coach Hammonds vs Coach Rindlisbach
END:VALARM
END:VEVENT
BEGIN:VEVENT
UID:cane-bay-596196@ygametime.com
DTSTAMP:20260530T130000Z
DTSTART;TZID=America/New_York:20260530T090000
DURATION:PT0H60M0S
SUMMARY:Coach Gooderham vs Coach Rindlisbach
DESCRIPTION:8-9 Division | Volleyball\nYMCA of Greater Charleston\nHammonds Refs
URL;VALUE=URI:https://ygametime.com/branch/cane-bay/sports/2026-spring-volleyball/25796/?utm_medium=calendar&utm_source=team_cal&utm_content=league_url#game-596196
LOCATION:Cane Bay YMCA  Gym
BEGIN:VALARM
TRIGGER:-P2H
ACTION:DISPLAY
DESCRIPTION:Coach Gooderham vs Coach Rindlisbach
END:VALARM
END:VEVENT
END:VCALENDAR

