BEGIN:VCALENDAR
VERSION:2.0
PRODID:-//YGAMETIME.com//YGT iCal Creator//EN
METHOD:PUBLISH
X-PUBLISHED-TTL:PT6H
REFRESH-INTERVAL;VALUE=DURATION:PT6H
CALSCALE:GREGORIAN
X-WR-CALNAME:YGAMETIME CALENDAR
BEGIN:VTIMEZONE
TZID:America/New_York
X-LIC-LOCATION:America/New_York
BEGIN:DAYLIGHT
TZOFFSETFROM:-0500
TZOFFSETTO:-0400
TZNAME:EDT
DTSTART:19700308T020000
RRULE:FREQ=YEARLY;BYMONTH=3;BYDAY=2SU
END:DAYLIGHT
BEGIN:STANDARD
TZOFFSETFROM:-0400
TZOFFSETTO:-0500
TZNAME:EST
DTSTART:19701101T020000
RRULE:FREQ=YEARLY;BYMONTH=11;BYDAY=1SU
END:STANDARD
END:VTIMEZONE
BEGIN:VEVENT
UID:cane-bay-596211@ygametime.com
DTSTAMP:20260327T213000Z
DTSTART;TZID=America/New_York:20260327T173000
DURATION:PT0H60M0S
SUMMARY:Coach Pressley vs Coach Rose (A)
DESCRIPTION:10-12 Division | Volleyball\nYMCA of Greater Charleston\n
URL;VALUE=URI:https://ygametime.com/branch/cane-bay/sports/2026-spring-volleyball/25797/?utm_medium=calendar&utm_source=team_cal&utm_content=league_url#game-596211
LOCATION:Cane Bay YMCA  Gym
BEGIN:VALARM
TRIGGER:-P2H
ACTION:DISPLAY
DESCRIPTION:Coach Pressley vs Coach Rose (A)
END:VALARM
END:VEVENT
BEGIN:VEVENT
UID:cane-bay-596232@ygametime.com
DTSTAMP:20260418T181500Z
DTSTART;TZID=America/New_York:20260418T141500
DURATION:PT0H60M0S
SUMMARY:Coach Alvarez vs Coach Pressley
DESCRIPTION:10-12 Division | Volleyball\nYMCA of Greater Charleston\n
URL;VALUE=URI:https://ygametime.com/branch/cane-bay/sports/2026-spring-volleyball/25797/?utm_medium=calendar&utm_source=team_cal&utm_content=league_url#game-596232
LOCATION:Cane Bay YMCA  Gym
BEGIN:VALARM
TRIGGER:-P2H
ACTION:DISPLAY
DESCRIPTION:Coach Alvarez vs Coach Pressley
END:VALARM
END:VEVENT
BEGIN:VEVENT
UID:cane-bay-596239@ygametime.com
DTSTAMP:20260425T161500Z
DTSTART;TZID=America/New_York:20260425T121500
DURATION:PT0H60M0S
SUMMARY:Coach Pressley vs Coach Huff
DESCRIPTION:10-12 Division | Volleyball\nYMCA of Greater Charleston\n
URL;VALUE=URI:https://ygametime.com/branch/cane-bay/sports/2026-spring-volleyball/25797/?utm_medium=calendar&utm_source=team_cal&utm_content=league_url#game-596239
LOCATION:Cane Bay YMCA  Gym
BEGIN:VALARM
TRIGGER:-P2H
ACTION:DISPLAY
DESCRIPTION:Coach Pressley vs Coach Huff
END:VALARM
END:VEVENT
BEGIN:VEVENT
UID:cane-bay-596245@ygametime.com
DTSTAMP:20260502T161500Z
DTSTART;TZID=America/New_York:20260502T121500
DURATION:PT0H60M0S
SUMMARY:Coach Brophy vs Coach Pressley
DESCRIPTION:10-12 Division | Volleyball\nYMCA of Greater Charleston\n
URL;VALUE=URI:https://ygametime.com/branch/cane-bay/sports/2026-spring-volleyball/25797/?utm_medium=calendar&utm_source=team_cal&utm_content=league_url#game-596245
LOCATION:Cane Bay YMCA  Gym
BEGIN:VALARM
TRIGGER:-P2H
ACTION:DISPLAY
DESCRIPTION:Coach Brophy vs Coach Pressley
END:VALARM
END:VEVENT
BEGIN:VEVENT
UID:cane-bay-596257@ygametime.com
DTSTAMP:20260509T191500Z
DTSTART;TZID=America/New_York:20260509T151500
DURATION:PT0H60M0S
SUMMARY:Coach Pressley vs Coach Maniaci
DESCRIPTION:10-12 Division | Volleyball\nYMCA of Greater Charleston\n
URL;VALUE=URI:https://ygametime.com/branch/cane-bay/sports/2026-spring-volleyball/25797/?utm_medium=calendar&utm_source=team_cal&utm_content=league_url#game-596257
LOCATION:Cane Bay YMCA  Gym
BEGIN:VALARM
TRIGGER:-P2H
ACTION:DISPLAY
DESCRIPTION:Coach Pressley vs Coach Maniaci
END:VALARM
END:VEVENT
BEGIN:VEVENT
UID:cane-bay-596218@ygametime.com
DTSTAMP:20260516T151500Z
DTSTART;TZID=America/New_York:20260516T111500
DURATION:PT0H60M0S
SUMMARY:Coach Pressley vs Coach Wilson
DESCRIPTION:10-12 Division | Volleyball\nYMCA of Greater Charleston\n
URL;VALUE=URI:https://ygametime.com/branch/cane-bay/sports/2026-spring-volleyball/25797/?utm_medium=calendar&utm_source=team_cal&utm_content=league_url#game-596218
LOCATION:Cane Bay YMCA  Gym
BEGIN:VALARM
TRIGGER:-P2H
ACTION:DISPLAY
DESCRIPTION:Coach Pressley vs Coach Wilson
END:VALARM
END:VEVENT
BEGIN:VEVENT
UID:cane-bay-596225@ygametime.com
DTSTAMP:20260530T161500Z
DTSTART;TZID=America/New_York:20260530T121500
DURATION:PT0H60M0S
SUMMARY:Coach Pressley vs MSE
DESCRIPTION:10-12 Division | Volleyball\nYMCA of Greater Charleston\n
URL;VALUE=URI:https://ygametime.com/branch/cane-bay/sports/2026-spring-volleyball/25797/?utm_medium=calendar&utm_source=team_cal&utm_content=league_url#game-596225
LOCATION:Cane Bay YMCA  Gym
BEGIN:VALARM
TRIGGER:-P2H
ACTION:DISPLAY
DESCRIPTION:Coach Pressley vs MSE
END:VALARM
END:VEVENT
END:VCALENDAR

