BEGIN:VCALENDAR
VERSION:2.0
PRODID:-//YGAMETIME.com//YGT iCal Creator//EN
METHOD:PUBLISH
X-PUBLISHED-TTL:PT6H
REFRESH-INTERVAL;VALUE=DURATION:PT6H
CALSCALE:GREGORIAN
X-WR-CALNAME:YGAMETIME CALENDAR
BEGIN:VTIMEZONE
TZID:America/New_York
X-LIC-LOCATION:America/New_York
BEGIN:DAYLIGHT
TZOFFSETFROM:-0500
TZOFFSETTO:-0400
TZNAME:EDT
DTSTART:19700308T020000
RRULE:FREQ=YEARLY;BYMONTH=3;BYDAY=2SU
END:DAYLIGHT
BEGIN:STANDARD
TZOFFSETFROM:-0400
TZOFFSETTO:-0500
TZNAME:EST
DTSTART:19701101T020000
RRULE:FREQ=YEARLY;BYMONTH=11;BYDAY=1SU
END:STANDARD
END:VTIMEZONE
BEGIN:VEVENT
UID:cane-bay-596214@ygametime.com
DTSTAMP:20260328T151500Z
DTSTART;TZID=America/New_York:20260328T111500
DURATION:PT0H60M0S
SUMMARY:BPA vs Coach Alvarez
DESCRIPTION:10-12 Division | Volleyball\nYMCA of Greater Charleston\n
URL;VALUE=URI:https://ygametime.com/branch/cane-bay/sports/2026-spring-volleyball/25797/?utm_medium=calendar&utm_source=team_cal&utm_content=league_url#game-596214
LOCATION:Cane Bay YMCA  Gym
BEGIN:VALARM
TRIGGER:-P2H
ACTION:DISPLAY
DESCRIPTION:BPA vs Coach Alvarez
END:VALARM
END:VEVENT
BEGIN:VEVENT
UID:cane-bay-596232@ygametime.com
DTSTAMP:20260418T181500Z
DTSTART;TZID=America/New_York:20260418T141500
DURATION:PT0H60M0S
SUMMARY:Coach Alvarez vs Coach Pressley
DESCRIPTION:10-12 Division | Volleyball\nYMCA of Greater Charleston\n
URL;VALUE=URI:https://ygametime.com/branch/cane-bay/sports/2026-spring-volleyball/25797/?utm_medium=calendar&utm_source=team_cal&utm_content=league_url#game-596232
LOCATION:Cane Bay YMCA  Gym
BEGIN:VALARM
TRIGGER:-P2H
ACTION:DISPLAY
DESCRIPTION:Coach Alvarez vs Coach Pressley
END:VALARM
END:VEVENT
BEGIN:VEVENT
UID:cane-bay-596237@ygametime.com
DTSTAMP:20260425T181500Z
DTSTART;TZID=America/New_York:20260425T141500
DURATION:PT0H60M0S
SUMMARY:Coach Wade vs Coach Alvarez
DESCRIPTION:10-12 Division | Volleyball\nYMCA of Greater Charleston\n
URL;VALUE=URI:https://ygametime.com/branch/cane-bay/sports/2026-spring-volleyball/25797/?utm_medium=calendar&utm_source=team_cal&utm_content=league_url#game-596237
LOCATION:Cane Bay YMCA  Gym
BEGIN:VALARM
TRIGGER:-P2H
ACTION:DISPLAY
DESCRIPTION:Coach Wade vs Coach Alvarez
END:VALARM
END:VEVENT
BEGIN:VEVENT
UID:cane-bay-596249@ygametime.com
DTSTAMP:20260501T213000Z
DTSTART;TZID=America/New_York:20260501T173000
DURATION:PT0H60M0S
SUMMARY:Coach Alvarez vs Coach Rose (A)
DESCRIPTION:10-12 Division | Volleyball\nYMCA of Greater Charleston\n
URL;VALUE=URI:https://ygametime.com/branch/cane-bay/sports/2026-spring-volleyball/25797/?utm_medium=calendar&utm_source=team_cal&utm_content=league_url#game-596249
LOCATION:Cane Bay YMCA  Gym
BEGIN:VALARM
TRIGGER:-P2H
ACTION:DISPLAY
DESCRIPTION:Coach Alvarez vs Coach Rose (A)
END:VALARM
END:VEVENT
BEGIN:VEVENT
UID:cane-bay-596254@ygametime.com
DTSTAMP:20260509T161500Z
DTSTART;TZID=America/New_York:20260509T121500
DURATION:PT0H60M0S
SUMMARY:Coach Wilson vs Coach Alvarez
DESCRIPTION:10-12 Division | Volleyball\nYMCA of Greater Charleston\n
URL;VALUE=URI:https://ygametime.com/branch/cane-bay/sports/2026-spring-volleyball/25797/?utm_medium=calendar&utm_source=team_cal&utm_content=league_url#game-596254
LOCATION:Cane Bay YMCA  Gym
BEGIN:VALARM
TRIGGER:-P2H
ACTION:DISPLAY
DESCRIPTION:Coach Wilson vs Coach Alvarez
END:VALARM
END:VEVENT
BEGIN:VEVENT
UID:cane-bay-596221@ygametime.com
DTSTAMP:20260516T181500Z
DTSTART;TZID=America/New_York:20260516T141500
DURATION:PT0H60M0S
SUMMARY:Coach Alvarez vs Coach Verrengia
DESCRIPTION:10-12 Division | Volleyball\nYMCA of Greater Charleston\n
URL;VALUE=URI:https://ygametime.com/branch/cane-bay/sports/2026-spring-volleyball/25797/?utm_medium=calendar&utm_source=team_cal&utm_content=league_url#game-596221
LOCATION:Cane Bay YMCA  Gym
BEGIN:VALARM
TRIGGER:-P2H
ACTION:DISPLAY
DESCRIPTION:Coach Alvarez vs Coach Verrengia
END:VALARM
END:VEVENT
BEGIN:VEVENT
UID:cane-bay-596227@ygametime.com
DTSTAMP:20260530T191500Z
DTSTART;TZID=America/New_York:20260530T151500
DURATION:PT0H60M0S
SUMMARY:Coach Lyons vs Coach Alvarez
DESCRIPTION:10-12 Division | Volleyball\nYMCA of Greater Charleston\n
URL;VALUE=URI:https://ygametime.com/branch/cane-bay/sports/2026-spring-volleyball/25797/?utm_medium=calendar&utm_source=team_cal&utm_content=league_url#game-596227
LOCATION:Cane Bay YMCA  Gym
BEGIN:VALARM
TRIGGER:-P2H
ACTION:DISPLAY
DESCRIPTION:Coach Lyons vs Coach Alvarez
END:VALARM
END:VEVENT
END:VCALENDAR

