BEGIN:VCALENDAR
VERSION:2.0
PRODID:-//YGAMETIME.com//YGT iCal Creator//EN
METHOD:PUBLISH
X-PUBLISHED-TTL:PT6H
REFRESH-INTERVAL;VALUE=DURATION:PT6H
CALSCALE:GREGORIAN
X-WR-CALNAME:YGAMETIME CALENDAR
BEGIN:VTIMEZONE
TZID:America/New_York
X-LIC-LOCATION:America/New_York
BEGIN:DAYLIGHT
TZOFFSETFROM:-0500
TZOFFSETTO:-0400
TZNAME:EDT
DTSTART:19700308T020000
RRULE:FREQ=YEARLY;BYMONTH=3;BYDAY=2SU
END:DAYLIGHT
BEGIN:STANDARD
TZOFFSETFROM:-0400
TZOFFSETTO:-0500
TZNAME:EST
DTSTART:19701101T020000
RRULE:FREQ=YEARLY;BYMONTH=11;BYDAY=1SU
END:STANDARD
END:VTIMEZONE
BEGIN:VEVENT
UID:cane-bay-596215@ygametime.com
DTSTAMP:20260328T171500Z
DTSTART;TZID=America/New_York:20260328T131500
DURATION:PT0H60M0S
SUMMARY:MSE vs Coach Verrengia
DESCRIPTION:10-12 Division | Volleyball\nYMCA of Greater Charleston\n
URL;VALUE=URI:https://ygametime.com/branch/cane-bay/sports/2026-spring-volleyball/25797/?utm_medium=calendar&utm_source=team_cal&utm_content=league_url#game-596215
LOCATION:Cane Bay YMCA  Gym
BEGIN:VALARM
TRIGGER:-P2H
ACTION:DISPLAY
DESCRIPTION:MSE vs Coach Verrengia
END:VALARM
END:VEVENT
BEGIN:VEVENT
UID:cane-bay-596231@ygametime.com
DTSTAMP:20260418T161500Z
DTSTART;TZID=America/New_York:20260418T121500
DURATION:PT0H60M0S
SUMMARY:Coach Brophy vs Coach Verrengia
DESCRIPTION:10-12 Division | Volleyball\nYMCA of Greater Charleston\n
URL;VALUE=URI:https://ygametime.com/branch/cane-bay/sports/2026-spring-volleyball/25797/?utm_medium=calendar&utm_source=team_cal&utm_content=league_url#game-596231
LOCATION:Cane Bay YMCA  Gym
BEGIN:VALARM
TRIGGER:-P2H
ACTION:DISPLAY
DESCRIPTION:Coach Brophy vs Coach Verrengia
END:VALARM
END:VEVENT
BEGIN:VEVENT
UID:cane-bay-596243@ygametime.com
DTSTAMP:20260425T191500Z
DTSTART;TZID=America/New_York:20260425T151500
DURATION:PT0H60M0S
SUMMARY:Coach Verrengia vs Coach Maniaci
DESCRIPTION:10-12 Division | Volleyball\nYMCA of Greater Charleston\n
URL;VALUE=URI:https://ygametime.com/branch/cane-bay/sports/2026-spring-volleyball/25797/?utm_medium=calendar&utm_source=team_cal&utm_content=league_url#game-596243
LOCATION:Cane Bay YMCA  Gym
BEGIN:VALARM
TRIGGER:-P2H
ACTION:DISPLAY
DESCRIPTION:Coach Verrengia vs Coach Maniaci
END:VALARM
END:VEVENT
BEGIN:VEVENT
UID:cane-bay-596248@ygametime.com
DTSTAMP:20260501T223000Z
DTSTART;TZID=America/New_York:20260501T183000
DURATION:PT0H60M0S
SUMMARY:Coach Verrengia vs Coach Rose (B)
DESCRIPTION:10-12 Division | Volleyball\nYMCA of Greater Charleston\n
URL;VALUE=URI:https://ygametime.com/branch/cane-bay/sports/2026-spring-volleyball/25797/?utm_medium=calendar&utm_source=team_cal&utm_content=league_url#game-596248
LOCATION:Cane Bay YMCA  Gym
BEGIN:VALARM
TRIGGER:-P2H
ACTION:DISPLAY
DESCRIPTION:Coach Verrengia vs Coach Rose (B)
END:VALARM
END:VEVENT
BEGIN:VEVENT
UID:cane-bay-596253@ygametime.com
DTSTAMP:20260509T171500Z
DTSTART;TZID=America/New_York:20260509T131500
DURATION:PT0H60M0S
SUMMARY:Coach Verrengia vs BPA
DESCRIPTION:10-12 Division | Volleyball\nYMCA of Greater Charleston\n
URL;VALUE=URI:https://ygametime.com/branch/cane-bay/sports/2026-spring-volleyball/25797/?utm_medium=calendar&utm_source=team_cal&utm_content=league_url#game-596253
LOCATION:Cane Bay YMCA  Gym
BEGIN:VALARM
TRIGGER:-P2H
ACTION:DISPLAY
DESCRIPTION:Coach Verrengia vs BPA
END:VALARM
END:VEVENT
BEGIN:VEVENT
UID:cane-bay-596221@ygametime.com
DTSTAMP:20260516T181500Z
DTSTART;TZID=America/New_York:20260516T141500
DURATION:PT0H60M0S
SUMMARY:Coach Alvarez vs Coach Verrengia
DESCRIPTION:10-12 Division | Volleyball\nYMCA of Greater Charleston\n
URL;VALUE=URI:https://ygametime.com/branch/cane-bay/sports/2026-spring-volleyball/25797/?utm_medium=calendar&utm_source=team_cal&utm_content=league_url#game-596221
LOCATION:Cane Bay YMCA  Gym
BEGIN:VALARM
TRIGGER:-P2H
ACTION:DISPLAY
DESCRIPTION:Coach Alvarez vs Coach Verrengia
END:VALARM
END:VEVENT
BEGIN:VEVENT
UID:cane-bay-596226@ygametime.com
DTSTAMP:20260530T181500Z
DTSTART;TZID=America/New_York:20260530T141500
DURATION:PT0H60M0S
SUMMARY:Coach Verrengia vs Coach Huff
DESCRIPTION:10-12 Division | Volleyball\nYMCA of Greater Charleston\n
URL;VALUE=URI:https://ygametime.com/branch/cane-bay/sports/2026-spring-volleyball/25797/?utm_medium=calendar&utm_source=team_cal&utm_content=league_url#game-596226
LOCATION:Cane Bay YMCA  Gym
BEGIN:VALARM
TRIGGER:-P2H
ACTION:DISPLAY
DESCRIPTION:Coach Verrengia vs Coach Huff
END:VALARM
END:VEVENT
END:VCALENDAR

