BEGIN:VCALENDAR
VERSION:2.0
PRODID:-//YGAMETIME.com//YGT iCal Creator//EN
METHOD:PUBLISH
X-PUBLISHED-TTL:PT6H
REFRESH-INTERVAL;VALUE=DURATION:PT6H
CALSCALE:GREGORIAN
X-WR-CALNAME:YGAMETIME CALENDAR
BEGIN:VTIMEZONE
TZID:America/New_York
X-LIC-LOCATION:America/New_York
BEGIN:DAYLIGHT
TZOFFSETFROM:-0500
TZOFFSETTO:-0400
TZNAME:EDT
DTSTART:19700308T020000
RRULE:FREQ=YEARLY;BYMONTH=3;BYDAY=2SU
END:DAYLIGHT
BEGIN:STANDARD
TZOFFSETFROM:-0400
TZOFFSETTO:-0500
TZNAME:EST
DTSTART:19701101T020000
RRULE:FREQ=YEARLY;BYMONTH=11;BYDAY=1SU
END:STANDARD
END:VTIMEZONE
BEGIN:VEVENT
UID:cane-bay-596210@ygametime.com
DTSTAMP:20260328T140000Z
DTSTART;TZID=America/New_York:20260328T100000
DURATION:PT0H60M0S
SUMMARY:Coach Maniaci vs Coach Brophy
DESCRIPTION:10-12 Division | Volleyball\nYMCA of Greater Charleston\n
URL;VALUE=URI:https://ygametime.com/branch/cane-bay/sports/2026-spring-volleyball/25797/?utm_medium=calendar&utm_source=team_cal&utm_content=league_url#game-596210
LOCATION:Cane Bay High School
BEGIN:VALARM
TRIGGER:-P2H
ACTION:DISPLAY
DESCRIPTION:Coach Maniaci vs Coach Brophy
END:VALARM
END:VEVENT
BEGIN:VEVENT
UID:cane-bay-596236@ygametime.com
DTSTAMP:20260418T191500Z
DTSTART;TZID=America/New_York:20260418T151500
DURATION:PT0H60M0S
SUMMARY:Coach Maniaci vs BPA
DESCRIPTION:10-12 Division | Volleyball\nYMCA of Greater Charleston\n
URL;VALUE=URI:https://ygametime.com/branch/cane-bay/sports/2026-spring-volleyball/25797/?utm_medium=calendar&utm_source=team_cal&utm_content=league_url#game-596236
LOCATION:Cane Bay YMCA  Gym
BEGIN:VALARM
TRIGGER:-P2H
ACTION:DISPLAY
DESCRIPTION:Coach Maniaci vs BPA
END:VALARM
END:VEVENT
BEGIN:VEVENT
UID:cane-bay-596243@ygametime.com
DTSTAMP:20260425T191500Z
DTSTART;TZID=America/New_York:20260425T151500
DURATION:PT0H60M0S
SUMMARY:Coach Verrengia vs Coach Maniaci
DESCRIPTION:10-12 Division | Volleyball\nYMCA of Greater Charleston\n
URL;VALUE=URI:https://ygametime.com/branch/cane-bay/sports/2026-spring-volleyball/25797/?utm_medium=calendar&utm_source=team_cal&utm_content=league_url#game-596243
LOCATION:Cane Bay YMCA  Gym
BEGIN:VALARM
TRIGGER:-P2H
ACTION:DISPLAY
DESCRIPTION:Coach Verrengia vs Coach Maniaci
END:VALARM
END:VEVENT
BEGIN:VEVENT
UID:cane-bay-596250@ygametime.com
DTSTAMP:20260502T191500Z
DTSTART;TZID=America/New_York:20260502T151500
DURATION:PT0H60M0S
SUMMARY:Coach Maniaci vs Coach Lyons
DESCRIPTION:10-12 Division | Volleyball\nYMCA of Greater Charleston\n
URL;VALUE=URI:https://ygametime.com/branch/cane-bay/sports/2026-spring-volleyball/25797/?utm_medium=calendar&utm_source=team_cal&utm_content=league_url#game-596250
LOCATION:Cane Bay YMCA  Gym
BEGIN:VALARM
TRIGGER:-P2H
ACTION:DISPLAY
DESCRIPTION:Coach Maniaci vs Coach Lyons
END:VALARM
END:VEVENT
BEGIN:VEVENT
UID:cane-bay-596257@ygametime.com
DTSTAMP:20260509T191500Z
DTSTART;TZID=America/New_York:20260509T151500
DURATION:PT0H60M0S
SUMMARY:Coach Pressley vs Coach Maniaci
DESCRIPTION:10-12 Division | Volleyball\nYMCA of Greater Charleston\n
URL;VALUE=URI:https://ygametime.com/branch/cane-bay/sports/2026-spring-volleyball/25797/?utm_medium=calendar&utm_source=team_cal&utm_content=league_url#game-596257
LOCATION:Cane Bay YMCA  Gym
BEGIN:VALARM
TRIGGER:-P2H
ACTION:DISPLAY
DESCRIPTION:Coach Pressley vs Coach Maniaci
END:VALARM
END:VEVENT
BEGIN:VEVENT
UID:cane-bay-596222@ygametime.com
DTSTAMP:20260516T191500Z
DTSTART;TZID=America/New_York:20260516T151500
DURATION:PT0H60M0S
SUMMARY:Coach Green vs Coach Maniaci
DESCRIPTION:10-12 Division | Volleyball\nYMCA of Greater Charleston\n
URL;VALUE=URI:https://ygametime.com/branch/cane-bay/sports/2026-spring-volleyball/25797/?utm_medium=calendar&utm_source=team_cal&utm_content=league_url#game-596222
LOCATION:Cane Bay YMCA  Gym
BEGIN:VALARM
TRIGGER:-P2H
ACTION:DISPLAY
DESCRIPTION:Coach Green vs Coach Maniaci
END:VALARM
END:VEVENT
BEGIN:VEVENT
UID:cane-bay-596229@ygametime.com
DTSTAMP:20260529T223000Z
DTSTART;TZID=America/New_York:20260529T183000
DURATION:PT0H60M0S
SUMMARY:Coach Maniaci vs Coach Rose (B)
DESCRIPTION:10-12 Division | Volleyball\nYMCA of Greater Charleston\n
URL;VALUE=URI:https://ygametime.com/branch/cane-bay/sports/2026-spring-volleyball/25797/?utm_medium=calendar&utm_source=team_cal&utm_content=league_url#game-596229
LOCATION:Cane Bay YMCA  Gym
BEGIN:VALARM
TRIGGER:-P2H
ACTION:DISPLAY
DESCRIPTION:Coach Maniaci vs Coach Rose (B)
END:VALARM
END:VEVENT
END:VCALENDAR

