BEGIN:VCALENDAR
VERSION:2.0
PRODID:-//YGAMETIME.com//YGT iCal Creator//EN
METHOD:PUBLISH
X-PUBLISHED-TTL:PT6H
REFRESH-INTERVAL;VALUE=DURATION:PT6H
CALSCALE:GREGORIAN
X-WR-CALNAME:YGAMETIME CALENDAR
BEGIN:VTIMEZONE
TZID:America/New_York
X-LIC-LOCATION:America/New_York
BEGIN:DAYLIGHT
TZOFFSETFROM:-0500
TZOFFSETTO:-0400
TZNAME:EDT
DTSTART:19700308T020000
RRULE:FREQ=YEARLY;BYMONTH=3;BYDAY=2SU
END:DAYLIGHT
BEGIN:STANDARD
TZOFFSETFROM:-0400
TZOFFSETTO:-0500
TZNAME:EST
DTSTART:19701101T020000
RRULE:FREQ=YEARLY;BYMONTH=11;BYDAY=1SU
END:STANDARD
END:VTIMEZONE
BEGIN:VEVENT
UID:cane-bay-596211@ygametime.com
DTSTAMP:20260327T213000Z
DTSTART;TZID=America/New_York:20260327T173000
DURATION:PT0H60M0S
SUMMARY:Coach Pressley vs Coach Rose (A)
DESCRIPTION:10-12 Division | Volleyball\nYMCA of Greater Charleston\n
URL;VALUE=URI:https://ygametime.com/branch/cane-bay/sports/2026-spring-volleyball/25797/?utm_medium=calendar&utm_source=team_cal&utm_content=league_url#game-596211
LOCATION:Cane Bay YMCA  Gym
BEGIN:VALARM
TRIGGER:-P2H
ACTION:DISPLAY
DESCRIPTION:Coach Pressley vs Coach Rose (A)
END:VALARM
END:VEVENT
BEGIN:VEVENT
UID:cane-bay-596235@ygametime.com
DTSTAMP:20260417T213000Z
DTSTART;TZID=America/New_York:20260417T173000
DURATION:PT0H60M0S
SUMMARY:Coach Wilson vs Coach Rose (A)
DESCRIPTION:10-12 Division | Volleyball\nYMCA of Greater Charleston\n
URL;VALUE=URI:https://ygametime.com/branch/cane-bay/sports/2026-spring-volleyball/25797/?utm_medium=calendar&utm_source=team_cal&utm_content=league_url#game-596235
LOCATION:Cane Bay YMCA  Gym
BEGIN:VALARM
TRIGGER:-P2H
ACTION:DISPLAY
DESCRIPTION:Coach Wilson vs Coach Rose (A)
END:VALARM
END:VEVENT
BEGIN:VEVENT
UID:cane-bay-596242@ygametime.com
DTSTAMP:20260424T213000Z
DTSTART;TZID=America/New_York:20260424T173000
DURATION:PT0H60M0S
SUMMARY:Coach Rose (A) vs MSE
DESCRIPTION:10-12 Division | Volleyball\nYMCA of Greater Charleston\n
URL;VALUE=URI:https://ygametime.com/branch/cane-bay/sports/2026-spring-volleyball/25797/?utm_medium=calendar&utm_source=team_cal&utm_content=league_url#game-596242
LOCATION:Cane Bay YMCA  Gym
BEGIN:VALARM
TRIGGER:-P2H
ACTION:DISPLAY
DESCRIPTION:Coach Rose (A) vs MSE
END:VALARM
END:VEVENT
BEGIN:VEVENT
UID:cane-bay-596249@ygametime.com
DTSTAMP:20260501T213000Z
DTSTART;TZID=America/New_York:20260501T173000
DURATION:PT0H60M0S
SUMMARY:Coach Alvarez vs Coach Rose (A)
DESCRIPTION:10-12 Division | Volleyball\nYMCA of Greater Charleston\n
URL;VALUE=URI:https://ygametime.com/branch/cane-bay/sports/2026-spring-volleyball/25797/?utm_medium=calendar&utm_source=team_cal&utm_content=league_url#game-596249
LOCATION:Cane Bay YMCA  Gym
BEGIN:VALARM
TRIGGER:-P2H
ACTION:DISPLAY
DESCRIPTION:Coach Alvarez vs Coach Rose (A)
END:VALARM
END:VEVENT
BEGIN:VEVENT
UID:cane-bay-596256@ygametime.com
DTSTAMP:20260508T213000Z
DTSTART;TZID=America/New_York:20260508T173000
DURATION:PT0H60M0S
SUMMARY:Coach Huff vs Coach Rose (A)
DESCRIPTION:10-12 Division | Volleyball\nYMCA of Greater Charleston\n
URL;VALUE=URI:https://ygametime.com/branch/cane-bay/sports/2026-spring-volleyball/25797/?utm_medium=calendar&utm_source=team_cal&utm_content=league_url#game-596256
LOCATION:Cane Bay YMCA  Gym
BEGIN:VALARM
TRIGGER:-P2H
ACTION:DISPLAY
DESCRIPTION:Coach Huff vs Coach Rose (A)
END:VALARM
END:VEVENT
BEGIN:VEVENT
UID:cane-bay-596216@ygametime.com
DTSTAMP:20260515T213000Z
DTSTART;TZID=America/New_York:20260515T173000
DURATION:PT0H60M0S
SUMMARY:Coach Rose (A) vs Coach Wade
DESCRIPTION:10-12 Division | Volleyball\nYMCA of Greater Charleston\n
URL;VALUE=URI:https://ygametime.com/branch/cane-bay/sports/2026-spring-volleyball/25797/?utm_medium=calendar&utm_source=team_cal&utm_content=league_url#game-596216
LOCATION:Cane Bay YMCA  Gym
BEGIN:VALARM
TRIGGER:-P2H
ACTION:DISPLAY
DESCRIPTION:Coach Rose (A) vs Coach Wade
END:VALARM
END:VEVENT
BEGIN:VEVENT
UID:cane-bay-596228@ygametime.com
DTSTAMP:20260529T213000Z
DTSTART;TZID=America/New_York:20260529T173000
DURATION:PT0H60M0S
SUMMARY:Coach Green vs Coach Rose (A)
DESCRIPTION:10-12 Division | Volleyball\nYMCA of Greater Charleston\n
URL;VALUE=URI:https://ygametime.com/branch/cane-bay/sports/2026-spring-volleyball/25797/?utm_medium=calendar&utm_source=team_cal&utm_content=league_url#game-596228
LOCATION:Cane Bay YMCA  Gym
BEGIN:VALARM
TRIGGER:-P2H
ACTION:DISPLAY
DESCRIPTION:Coach Green vs Coach Rose (A)
END:VALARM
END:VEVENT
END:VCALENDAR

