BEGIN:VCALENDAR
VERSION:2.0
PRODID:-//YGAMETIME.com//YGT iCal Creator//EN
METHOD:PUBLISH
X-PUBLISHED-TTL:PT6H
REFRESH-INTERVAL;VALUE=DURATION:PT6H
CALSCALE:GREGORIAN
X-WR-CALNAME:YGAMETIME CALENDAR
BEGIN:VTIMEZONE
TZID:America/New_York
X-LIC-LOCATION:America/New_York
BEGIN:DAYLIGHT
TZOFFSETFROM:-0500
TZOFFSETTO:-0400
TZNAME:EDT
DTSTART:19700308T020000
RRULE:FREQ=YEARLY;BYMONTH=3;BYDAY=2SU
END:DAYLIGHT
BEGIN:STANDARD
TZOFFSETFROM:-0400
TZOFFSETTO:-0500
TZNAME:EST
DTSTART:19701101T020000
RRULE:FREQ=YEARLY;BYMONTH=11;BYDAY=1SU
END:STANDARD
END:VTIMEZONE
BEGIN:VEVENT
UID:cane-bay-596212@ygametime.com
DTSTAMP:20260327T223000Z
DTSTART;TZID=America/New_York:20260327T183000
DURATION:PT0H60M0S
SUMMARY:Coach Huff vs Coach Rose (B)
DESCRIPTION:10-12 Division | Volleyball\nYMCA of Greater Charleston\n
URL;VALUE=URI:https://ygametime.com/branch/cane-bay/sports/2026-spring-volleyball/25797/?utm_medium=calendar&utm_source=team_cal&utm_content=league_url#game-596212
LOCATION:Cane Bay YMCA  Gym
BEGIN:VALARM
TRIGGER:-P2H
ACTION:DISPLAY
DESCRIPTION:Coach Huff vs Coach Rose (B)
END:VALARM
END:VEVENT
BEGIN:VEVENT
UID:cane-bay-596234@ygametime.com
DTSTAMP:20260417T223000Z
DTSTART;TZID=America/New_York:20260417T183000
DURATION:PT0H60M0S
SUMMARY:Coach Green vs Coach Rose (B)
DESCRIPTION:10-12 Division | Volleyball\nYMCA of Greater Charleston\n
URL;VALUE=URI:https://ygametime.com/branch/cane-bay/sports/2026-spring-volleyball/25797/?utm_medium=calendar&utm_source=team_cal&utm_content=league_url#game-596234
LOCATION:Cane Bay YMCA  Gym
BEGIN:VALARM
TRIGGER:-P2H
ACTION:DISPLAY
DESCRIPTION:Coach Green vs Coach Rose (B)
END:VALARM
END:VEVENT
BEGIN:VEVENT
UID:cane-bay-596241@ygametime.com
DTSTAMP:20260424T223000Z
DTSTART;TZID=America/New_York:20260424T183000
DURATION:PT0H60M0S
SUMMARY:Coach Rose (B) vs BPA
DESCRIPTION:10-12 Division | Volleyball\nYMCA of Greater Charleston\n
URL;VALUE=URI:https://ygametime.com/branch/cane-bay/sports/2026-spring-volleyball/25797/?utm_medium=calendar&utm_source=team_cal&utm_content=league_url#game-596241
LOCATION:Cane Bay YMCA  Gym
BEGIN:VALARM
TRIGGER:-P2H
ACTION:DISPLAY
DESCRIPTION:Coach Rose (B) vs BPA
END:VALARM
END:VEVENT
BEGIN:VEVENT
UID:cane-bay-596248@ygametime.com
DTSTAMP:20260501T223000Z
DTSTART;TZID=America/New_York:20260501T183000
DURATION:PT0H60M0S
SUMMARY:Coach Verrengia vs Coach Rose (B)
DESCRIPTION:10-12 Division | Volleyball\nYMCA of Greater Charleston\n
URL;VALUE=URI:https://ygametime.com/branch/cane-bay/sports/2026-spring-volleyball/25797/?utm_medium=calendar&utm_source=team_cal&utm_content=league_url#game-596248
LOCATION:Cane Bay YMCA  Gym
BEGIN:VALARM
TRIGGER:-P2H
ACTION:DISPLAY
DESCRIPTION:Coach Verrengia vs Coach Rose (B)
END:VALARM
END:VEVENT
BEGIN:VEVENT
UID:cane-bay-596255@ygametime.com
DTSTAMP:20260508T223000Z
DTSTART;TZID=America/New_York:20260508T183000
DURATION:PT0H60M0S
SUMMARY:Coach Lyons vs Coach Rose (B)
DESCRIPTION:10-12 Division | Volleyball\nYMCA of Greater Charleston\n
URL;VALUE=URI:https://ygametime.com/branch/cane-bay/sports/2026-spring-volleyball/25797/?utm_medium=calendar&utm_source=team_cal&utm_content=league_url#game-596255
LOCATION:Cane Bay YMCA  Gym
BEGIN:VALARM
TRIGGER:-P2H
ACTION:DISPLAY
DESCRIPTION:Coach Lyons vs Coach Rose (B)
END:VALARM
END:VEVENT
BEGIN:VEVENT
UID:cane-bay-596217@ygametime.com
DTSTAMP:20260515T223000Z
DTSTART;TZID=America/New_York:20260515T183000
DURATION:PT0H60M0S
SUMMARY:Coach Rose (B) vs Coach Brophy
DESCRIPTION:10-12 Division | Volleyball\nYMCA of Greater Charleston\n
URL;VALUE=URI:https://ygametime.com/branch/cane-bay/sports/2026-spring-volleyball/25797/?utm_medium=calendar&utm_source=team_cal&utm_content=league_url#game-596217
LOCATION:Cane Bay YMCA  Gym
BEGIN:VALARM
TRIGGER:-P2H
ACTION:DISPLAY
DESCRIPTION:Coach Rose (B) vs Coach Brophy
END:VALARM
END:VEVENT
BEGIN:VEVENT
UID:cane-bay-596229@ygametime.com
DTSTAMP:20260529T223000Z
DTSTART;TZID=America/New_York:20260529T183000
DURATION:PT0H60M0S
SUMMARY:Coach Maniaci vs Coach Rose (B)
DESCRIPTION:10-12 Division | Volleyball\nYMCA of Greater Charleston\n
URL;VALUE=URI:https://ygametime.com/branch/cane-bay/sports/2026-spring-volleyball/25797/?utm_medium=calendar&utm_source=team_cal&utm_content=league_url#game-596229
LOCATION:Cane Bay YMCA  Gym
BEGIN:VALARM
TRIGGER:-P2H
ACTION:DISPLAY
DESCRIPTION:Coach Maniaci vs Coach Rose (B)
END:VALARM
END:VEVENT
END:VCALENDAR

