BEGIN:VCALENDAR
VERSION:2.0
PRODID:-//YGAMETIME.com//YGT iCal Creator//EN
METHOD:PUBLISH
X-PUBLISHED-TTL:PT6H
REFRESH-INTERVAL;VALUE=DURATION:PT6H
CALSCALE:GREGORIAN
X-WR-CALNAME:YGAMETIME CALENDAR
BEGIN:VTIMEZONE
TZID:America/New_York
X-LIC-LOCATION:America/New_York
BEGIN:DAYLIGHT
TZOFFSETFROM:-0500
TZOFFSETTO:-0400
TZNAME:EDT
DTSTART:19700308T020000
RRULE:FREQ=YEARLY;BYMONTH=3;BYDAY=2SU
END:DAYLIGHT
BEGIN:STANDARD
TZOFFSETFROM:-0400
TZOFFSETTO:-0500
TZNAME:EST
DTSTART:19701101T020000
RRULE:FREQ=YEARLY;BYMONTH=11;BYDAY=1SU
END:STANDARD
END:VTIMEZONE
BEGIN:VEVENT
UID:cane-bay-596213@ygametime.com
DTSTAMP:20260328T161500Z
DTSTART;TZID=America/New_York:20260328T121500
DURATION:PT0H60M0S
SUMMARY:Coach Lyons vs Coach Wilson
DESCRIPTION:10-12 Division | Volleyball\nYMCA of Greater Charleston\n
URL;VALUE=URI:https://ygametime.com/branch/cane-bay/sports/2026-spring-volleyball/25797/?utm_medium=calendar&utm_source=team_cal&utm_content=league_url#game-596213
LOCATION:Cane Bay YMCA  Gym
BEGIN:VALARM
TRIGGER:-P2H
ACTION:DISPLAY
DESCRIPTION:Coach Lyons vs Coach Wilson
END:VALARM
END:VEVENT
BEGIN:VEVENT
UID:cane-bay-596235@ygametime.com
DTSTAMP:20260417T213000Z
DTSTART;TZID=America/New_York:20260417T173000
DURATION:PT0H60M0S
SUMMARY:Coach Wilson vs Coach Rose (A)
DESCRIPTION:10-12 Division | Volleyball\nYMCA of Greater Charleston\n
URL;VALUE=URI:https://ygametime.com/branch/cane-bay/sports/2026-spring-volleyball/25797/?utm_medium=calendar&utm_source=team_cal&utm_content=league_url#game-596235
LOCATION:Cane Bay YMCA  Gym
BEGIN:VALARM
TRIGGER:-P2H
ACTION:DISPLAY
DESCRIPTION:Coach Wilson vs Coach Rose (A)
END:VALARM
END:VEVENT
BEGIN:VEVENT
UID:cane-bay-596240@ygametime.com
DTSTAMP:20260425T151500Z
DTSTART;TZID=America/New_York:20260425T111500
DURATION:PT0H60M0S
SUMMARY:Coach Wilson vs Coach Green
DESCRIPTION:10-12 Division | Volleyball\nYMCA of Greater Charleston\n
URL;VALUE=URI:https://ygametime.com/branch/cane-bay/sports/2026-spring-volleyball/25797/?utm_medium=calendar&utm_source=team_cal&utm_content=league_url#game-596240
LOCATION:Cane Bay YMCA  Gym
BEGIN:VALARM
TRIGGER:-P2H
ACTION:DISPLAY
DESCRIPTION:Coach Wilson vs Coach Green
END:VALARM
END:VEVENT
BEGIN:VEVENT
UID:cane-bay-596247@ygametime.com
DTSTAMP:20260502T151500Z
DTSTART;TZID=America/New_York:20260502T111500
DURATION:PT0H60M0S
SUMMARY:Coach Wilson vs MSE
DESCRIPTION:10-12 Division | Volleyball\nYMCA of Greater Charleston\n
URL;VALUE=URI:https://ygametime.com/branch/cane-bay/sports/2026-spring-volleyball/25797/?utm_medium=calendar&utm_source=team_cal&utm_content=league_url#game-596247
LOCATION:Cane Bay YMCA  Gym
BEGIN:VALARM
TRIGGER:-P2H
ACTION:DISPLAY
DESCRIPTION:Coach Wilson vs MSE
END:VALARM
END:VEVENT
BEGIN:VEVENT
UID:cane-bay-596254@ygametime.com
DTSTAMP:20260509T161500Z
DTSTART;TZID=America/New_York:20260509T121500
DURATION:PT0H60M0S
SUMMARY:Coach Wilson vs Coach Alvarez
DESCRIPTION:10-12 Division | Volleyball\nYMCA of Greater Charleston\n
URL;VALUE=URI:https://ygametime.com/branch/cane-bay/sports/2026-spring-volleyball/25797/?utm_medium=calendar&utm_source=team_cal&utm_content=league_url#game-596254
LOCATION:Cane Bay YMCA  Gym
BEGIN:VALARM
TRIGGER:-P2H
ACTION:DISPLAY
DESCRIPTION:Coach Wilson vs Coach Alvarez
END:VALARM
END:VEVENT
BEGIN:VEVENT
UID:cane-bay-596218@ygametime.com
DTSTAMP:20260516T151500Z
DTSTART;TZID=America/New_York:20260516T111500
DURATION:PT0H60M0S
SUMMARY:Coach Pressley vs Coach Wilson
DESCRIPTION:10-12 Division | Volleyball\nYMCA of Greater Charleston\n
URL;VALUE=URI:https://ygametime.com/branch/cane-bay/sports/2026-spring-volleyball/25797/?utm_medium=calendar&utm_source=team_cal&utm_content=league_url#game-596218
LOCATION:Cane Bay YMCA  Gym
BEGIN:VALARM
TRIGGER:-P2H
ACTION:DISPLAY
DESCRIPTION:Coach Pressley vs Coach Wilson
END:VALARM
END:VEVENT
BEGIN:VEVENT
UID:cane-bay-596223@ygametime.com
DTSTAMP:20260530T151500Z
DTSTART;TZID=America/New_York:20260530T111500
DURATION:PT0H60M0S
SUMMARY:Coach Wilson vs Coach Wade
DESCRIPTION:10-12 Division | Volleyball\nYMCA of Greater Charleston\n
URL;VALUE=URI:https://ygametime.com/branch/cane-bay/sports/2026-spring-volleyball/25797/?utm_medium=calendar&utm_source=team_cal&utm_content=league_url#game-596223
LOCATION:Cane Bay YMCA  Gym
BEGIN:VALARM
TRIGGER:-P2H
ACTION:DISPLAY
DESCRIPTION:Coach Wilson vs Coach Wade
END:VALARM
END:VEVENT
END:VCALENDAR

