BEGIN:VCALENDAR
VERSION:2.0
PRODID:-//YGAMETIME.com//YGT iCal Creator//EN
METHOD:PUBLISH
X-PUBLISHED-TTL:PT6H
REFRESH-INTERVAL;VALUE=DURATION:PT6H
CALSCALE:GREGORIAN
X-WR-CALNAME:YGAMETIME CALENDAR
BEGIN:VTIMEZONE
TZID:America/New_York
X-LIC-LOCATION:America/New_York
BEGIN:DAYLIGHT
TZOFFSETFROM:-0500
TZOFFSETTO:-0400
TZNAME:EDT
DTSTART:19700308T020000
RRULE:FREQ=YEARLY;BYMONTH=3;BYDAY=2SU
END:DAYLIGHT
BEGIN:STANDARD
TZOFFSETFROM:-0400
TZOFFSETTO:-0500
TZNAME:EST
DTSTART:19701101T020000
RRULE:FREQ=YEARLY;BYMONTH=11;BYDAY=1SU
END:STANDARD
END:VTIMEZONE
BEGIN:VEVENT
UID:cane-bay-598288@ygametime.com
DTSTAMP:20260328T170000Z
DTSTART;TZID=America/New_York:20260328T130000
DURATION:PT0H60M0S
SUMMARY:Coach Vinieris vs Coach Ruff (B)
DESCRIPTION:13-17 Division | Volleyball\nYMCA of Greater Charleston\n
URL;VALUE=URI:https://ygametime.com/branch/cane-bay/sports/2026-spring-volleyball/25825/?utm_medium=calendar&utm_source=team_cal&utm_content=league_url#game-598288
LOCATION:Cane Bay High School
BEGIN:VALARM
TRIGGER:-P2H
ACTION:DISPLAY
DESCRIPTION:Coach Vinieris vs Coach Ruff (B)
END:VALARM
END:VEVENT
BEGIN:VEVENT
UID:cane-bay-598299@ygametime.com
DTSTAMP:20260418T160000Z
DTSTART;TZID=America/New_York:20260418T120000
DURATION:PT0H60M0S
SUMMARY:Coach Ruff (B) vs Coach Crane
DESCRIPTION:13-17 Division | Volleyball\nYMCA of Greater Charleston\n
URL;VALUE=URI:https://ygametime.com/branch/cane-bay/sports/2026-spring-volleyball/25825/?utm_medium=calendar&utm_source=team_cal&utm_content=league_url#game-598299
LOCATION:Cane Bay High School
BEGIN:VALARM
TRIGGER:-P2H
ACTION:DISPLAY
DESCRIPTION:Coach Ruff (B) vs Coach Crane
END:VALARM
END:VEVENT
BEGIN:VEVENT
UID:cane-bay-598305@ygametime.com
DTSTAMP:20260425T180000Z
DTSTART;TZID=America/New_York:20260425T140000
DURATION:PT0H60M0S
SUMMARY:Coach White vs Coach Ruff (B)
DESCRIPTION:13-17 Division | Volleyball\nYMCA of Greater Charleston\n
URL;VALUE=URI:https://ygametime.com/branch/cane-bay/sports/2026-spring-volleyball/25825/?utm_medium=calendar&utm_source=team_cal&utm_content=league_url#game-598305
LOCATION:Cane Bay High School
BEGIN:VALARM
TRIGGER:-P2H
ACTION:DISPLAY
DESCRIPTION:Coach White vs Coach Ruff (B)
END:VALARM
END:VEVENT
BEGIN:VEVENT
UID:cane-bay-598307@ygametime.com
DTSTAMP:20260502T180000Z
DTSTART;TZID=America/New_York:20260502T140000
DURATION:PT0H60M0S
SUMMARY:Coach Ruff (B) vs Coach Re
DESCRIPTION:13-17 Division | Volleyball\nYMCA of Greater Charleston\n
URL;VALUE=URI:https://ygametime.com/branch/cane-bay/sports/2026-spring-volleyball/25825/?utm_medium=calendar&utm_source=team_cal&utm_content=league_url#game-598307
LOCATION:Cane Bay High School
BEGIN:VALARM
TRIGGER:-P2H
ACTION:DISPLAY
DESCRIPTION:Coach Ruff (B) vs Coach Re
END:VALARM
END:VEVENT
BEGIN:VEVENT
UID:cane-bay-598313@ygametime.com
DTSTAMP:20260509T180000Z
DTSTART;TZID=America/New_York:20260509T140000
DURATION:PT0H60M0S
SUMMARY:Coach Ruff (B) vs Coach White
DESCRIPTION:13-17 Division | Volleyball\nYMCA of Greater Charleston\n
URL;VALUE=URI:https://ygametime.com/branch/cane-bay/sports/2026-spring-volleyball/25825/?utm_medium=calendar&utm_source=team_cal&utm_content=league_url#game-598313
LOCATION:Cane Bay High School
BEGIN:VALARM
TRIGGER:-P2H
ACTION:DISPLAY
DESCRIPTION:Coach Ruff (B) vs Coach White
END:VALARM
END:VEVENT
BEGIN:VEVENT
UID:cane-bay-598292@ygametime.com
DTSTAMP:20260516T190000Z
DTSTART;TZID=America/New_York:20260516T150000
DURATION:PT0H60M0S
SUMMARY:Coach Ruff (B) vs MSE
DESCRIPTION:13-17 Division | Volleyball\nYMCA of Greater Charleston\n
URL;VALUE=URI:https://ygametime.com/branch/cane-bay/sports/2026-spring-volleyball/25825/?utm_medium=calendar&utm_source=team_cal&utm_content=league_url#game-598292
LOCATION:Cane Bay High School
BEGIN:VALARM
TRIGGER:-P2H
ACTION:DISPLAY
DESCRIPTION:Coach Ruff (B) vs MSE
END:VALARM
END:VEVENT
BEGIN:VEVENT
UID:cane-bay-598296@ygametime.com
DTSTAMP:20260530T200000Z
DTSTART;TZID=America/New_York:20260530T160000
DURATION:PT0H60M0S
SUMMARY:Coach Riffe vs Coach Ruff (B)
DESCRIPTION:13-17 Division | Volleyball\nYMCA of Greater Charleston\n
URL;VALUE=URI:https://ygametime.com/branch/cane-bay/sports/2026-spring-volleyball/25825/?utm_medium=calendar&utm_source=team_cal&utm_content=league_url#game-598296
LOCATION:Cane Bay High School
BEGIN:VALARM
TRIGGER:-P2H
ACTION:DISPLAY
DESCRIPTION:Coach Riffe vs Coach Ruff (B)
END:VALARM
END:VEVENT
END:VCALENDAR

