BEGIN:VCALENDAR
VERSION:2.0
PRODID:-//YGAMETIME.com//YGT iCal Creator//EN
METHOD:PUBLISH
X-PUBLISHED-TTL:PT6H
REFRESH-INTERVAL;VALUE=DURATION:PT6H
CALSCALE:GREGORIAN
X-WR-CALNAME:YGAMETIME CALENDAR
BEGIN:VTIMEZONE
TZID:America/New_York
X-LIC-LOCATION:America/New_York
BEGIN:DAYLIGHT
TZOFFSETFROM:-0500
TZOFFSETTO:-0400
TZNAME:EDT
DTSTART:19700308T020000
RRULE:FREQ=YEARLY;BYMONTH=3;BYDAY=2SU
END:DAYLIGHT
BEGIN:STANDARD
TZOFFSETFROM:-0400
TZOFFSETTO:-0500
TZNAME:EST
DTSTART:19701101T020000
RRULE:FREQ=YEARLY;BYMONTH=11;BYDAY=1SU
END:STANDARD
END:VTIMEZONE
BEGIN:VEVENT
UID:cane-bay-598287@ygametime.com
DTSTAMP:20260328T160000Z
DTSTART;TZID=America/New_York:20260328T120000
DURATION:PT0H60M0S
SUMMARY:Coach Crane vs Coach Ruff (A)
DESCRIPTION:13-17 Division | Volleyball\nYMCA of Greater Charleston\n
URL;VALUE=URI:https://ygametime.com/branch/cane-bay/sports/2026-spring-volleyball/25825/?utm_medium=calendar&utm_source=team_cal&utm_content=league_url#game-598287
LOCATION:Cane Bay High School
BEGIN:VALARM
TRIGGER:-P2H
ACTION:DISPLAY
DESCRIPTION:Coach Crane vs Coach Ruff (A)
END:VALARM
END:VEVENT
BEGIN:VEVENT
UID:cane-bay-598299@ygametime.com
DTSTAMP:20260418T160000Z
DTSTART;TZID=America/New_York:20260418T120000
DURATION:PT0H60M0S
SUMMARY:Coach Ruff (B) vs Coach Crane
DESCRIPTION:13-17 Division | Volleyball\nYMCA of Greater Charleston\n
URL;VALUE=URI:https://ygametime.com/branch/cane-bay/sports/2026-spring-volleyball/25825/?utm_medium=calendar&utm_source=team_cal&utm_content=league_url#game-598299
LOCATION:Cane Bay High School
BEGIN:VALARM
TRIGGER:-P2H
ACTION:DISPLAY
DESCRIPTION:Coach Ruff (B) vs Coach Crane
END:VALARM
END:VEVENT
BEGIN:VEVENT
UID:cane-bay-598306@ygametime.com
DTSTAMP:20260425T160000Z
DTSTART;TZID=America/New_York:20260425T120000
DURATION:PT0H60M0S
SUMMARY:Coach Crane vs Coach Vinieris
DESCRIPTION:13-17 Division | Volleyball\nYMCA of Greater Charleston\n
URL;VALUE=URI:https://ygametime.com/branch/cane-bay/sports/2026-spring-volleyball/25825/?utm_medium=calendar&utm_source=team_cal&utm_content=league_url#game-598306
LOCATION:Cane Bay High School
BEGIN:VALARM
TRIGGER:-P2H
ACTION:DISPLAY
DESCRIPTION:Coach Crane vs Coach Vinieris
END:VALARM
END:VEVENT
BEGIN:VEVENT
UID:cane-bay-598308@ygametime.com
DTSTAMP:20260502T160000Z
DTSTART;TZID=America/New_York:20260502T120000
DURATION:PT0H60M0S
SUMMARY:MSE vs Coach Crane
DESCRIPTION:13-17 Division | Volleyball\nYMCA of Greater Charleston\n
URL;VALUE=URI:https://ygametime.com/branch/cane-bay/sports/2026-spring-volleyball/25825/?utm_medium=calendar&utm_source=team_cal&utm_content=league_url#game-598308
LOCATION:Cane Bay High School
BEGIN:VALARM
TRIGGER:-P2H
ACTION:DISPLAY
DESCRIPTION:MSE vs Coach Crane
END:VALARM
END:VEVENT
BEGIN:VEVENT
UID:cane-bay-598314@ygametime.com
DTSTAMP:20260509T160000Z
DTSTART;TZID=America/New_York:20260509T120000
DURATION:PT0H60M0S
SUMMARY:Coach Crane vs Coach Riffe
DESCRIPTION:13-17 Division | Volleyball\nYMCA of Greater Charleston\n
URL;VALUE=URI:https://ygametime.com/branch/cane-bay/sports/2026-spring-volleyball/25825/?utm_medium=calendar&utm_source=team_cal&utm_content=league_url#game-598314
LOCATION:Cane Bay High School
BEGIN:VALARM
TRIGGER:-P2H
ACTION:DISPLAY
DESCRIPTION:Coach Crane vs Coach Riffe
END:VALARM
END:VEVENT
BEGIN:VEVENT
UID:cane-bay-598291@ygametime.com
DTSTAMP:20260516T160000Z
DTSTART;TZID=America/New_York:20260516T120000
DURATION:PT0H60M0S
SUMMARY:Coach White vs Coach Crane
DESCRIPTION:13-17 Division | Volleyball\nYMCA of Greater Charleston\n
URL;VALUE=URI:https://ygametime.com/branch/cane-bay/sports/2026-spring-volleyball/25825/?utm_medium=calendar&utm_source=team_cal&utm_content=league_url#game-598291
LOCATION:Cane Bay High School
BEGIN:VALARM
TRIGGER:-P2H
ACTION:DISPLAY
DESCRIPTION:Coach White vs Coach Crane
END:VALARM
END:VEVENT
BEGIN:VEVENT
UID:cane-bay-598295@ygametime.com
DTSTAMP:20260530T180000Z
DTSTART;TZID=America/New_York:20260530T140000
DURATION:PT0H60M0S
SUMMARY:Coach Crane vs Coach Re
DESCRIPTION:13-17 Division | Volleyball\nYMCA of Greater Charleston\n
URL;VALUE=URI:https://ygametime.com/branch/cane-bay/sports/2026-spring-volleyball/25825/?utm_medium=calendar&utm_source=team_cal&utm_content=league_url#game-598295
LOCATION:Cane Bay High School
BEGIN:VALARM
TRIGGER:-P2H
ACTION:DISPLAY
DESCRIPTION:Coach Crane vs Coach Re
END:VALARM
END:VEVENT
END:VCALENDAR

