BEGIN:VCALENDAR
VERSION:2.0
PRODID:-//YGAMETIME.com//YGT iCal Creator//EN
METHOD:PUBLISH
X-PUBLISHED-TTL:PT6H
REFRESH-INTERVAL;VALUE=DURATION:PT6H
CALSCALE:GREGORIAN
X-WR-CALNAME:YGAMETIME CALENDAR
BEGIN:VTIMEZONE
TZID:America/New_York
X-LIC-LOCATION:America/New_York
BEGIN:DAYLIGHT
TZOFFSETFROM:-0500
TZOFFSETTO:-0400
TZNAME:EDT
DTSTART:19700308T020000
RRULE:FREQ=YEARLY;BYMONTH=3;BYDAY=2SU
END:DAYLIGHT
BEGIN:STANDARD
TZOFFSETFROM:-0400
TZOFFSETTO:-0500
TZNAME:EST
DTSTART:19701101T020000
RRULE:FREQ=YEARLY;BYMONTH=11;BYDAY=1SU
END:STANDARD
END:VTIMEZONE
BEGIN:VEVENT
UID:cane-bay-598288@ygametime.com
DTSTAMP:20260328T170000Z
DTSTART;TZID=America/New_York:20260328T130000
DURATION:PT0H60M0S
SUMMARY:Coach Vinieris vs Coach Ruff (B)
DESCRIPTION:13-17 Division | Volleyball\nYMCA of Greater Charleston\n
URL;VALUE=URI:https://ygametime.com/branch/cane-bay/sports/2026-spring-volleyball/25825/?utm_medium=calendar&utm_source=team_cal&utm_content=league_url#game-598288
LOCATION:Cane Bay High School
BEGIN:VALARM
TRIGGER:-P2H
ACTION:DISPLAY
DESCRIPTION:Coach Vinieris vs Coach Ruff (B)
END:VALARM
END:VEVENT
BEGIN:VEVENT
UID:cane-bay-598302@ygametime.com
DTSTAMP:20260418T190000Z
DTSTART;TZID=America/New_York:20260418T150000
DURATION:PT0H60M0S
SUMMARY:Coach Vinieris vs Coach Riffe
DESCRIPTION:13-17 Division | Volleyball\nYMCA of Greater Charleston\n
URL;VALUE=URI:https://ygametime.com/branch/cane-bay/sports/2026-spring-volleyball/25825/?utm_medium=calendar&utm_source=team_cal&utm_content=league_url#game-598302
LOCATION:Cane Bay High School
BEGIN:VALARM
TRIGGER:-P2H
ACTION:DISPLAY
DESCRIPTION:Coach Vinieris vs Coach Riffe
END:VALARM
END:VEVENT
BEGIN:VEVENT
UID:cane-bay-598306@ygametime.com
DTSTAMP:20260425T160000Z
DTSTART;TZID=America/New_York:20260425T120000
DURATION:PT0H60M0S
SUMMARY:Coach Crane vs Coach Vinieris
DESCRIPTION:13-17 Division | Volleyball\nYMCA of Greater Charleston\n
URL;VALUE=URI:https://ygametime.com/branch/cane-bay/sports/2026-spring-volleyball/25825/?utm_medium=calendar&utm_source=team_cal&utm_content=league_url#game-598306
LOCATION:Cane Bay High School
BEGIN:VALARM
TRIGGER:-P2H
ACTION:DISPLAY
DESCRIPTION:Coach Crane vs Coach Vinieris
END:VALARM
END:VEVENT
BEGIN:VEVENT
UID:cane-bay-598309@ygametime.com
DTSTAMP:20260502T190000Z
DTSTART;TZID=America/New_York:20260502T150000
DURATION:PT0H60M0S
SUMMARY:Coach Vinieris vs Coach White
DESCRIPTION:13-17 Division | Volleyball\nYMCA of Greater Charleston\n
URL;VALUE=URI:https://ygametime.com/branch/cane-bay/sports/2026-spring-volleyball/25825/?utm_medium=calendar&utm_source=team_cal&utm_content=league_url#game-598309
LOCATION:Cane Bay High School
BEGIN:VALARM
TRIGGER:-P2H
ACTION:DISPLAY
DESCRIPTION:Coach Vinieris vs Coach White
END:VALARM
END:VEVENT
BEGIN:VEVENT
UID:cane-bay-598311@ygametime.com
DTSTAMP:20260509T170000Z
DTSTART;TZID=America/New_York:20260509T130000
DURATION:PT0H60M0S
SUMMARY:Coach Re vs Coach Vinieris
DESCRIPTION:13-17 Division | Volleyball\nYMCA of Greater Charleston\n
URL;VALUE=URI:https://ygametime.com/branch/cane-bay/sports/2026-spring-volleyball/25825/?utm_medium=calendar&utm_source=team_cal&utm_content=league_url#game-598311
LOCATION:Cane Bay High School
BEGIN:VALARM
TRIGGER:-P2H
ACTION:DISPLAY
DESCRIPTION:Coach Re vs Coach Vinieris
END:VALARM
END:VEVENT
BEGIN:VEVENT
UID:cane-bay-598294@ygametime.com
DTSTAMP:20260516T180000Z
DTSTART;TZID=America/New_York:20260516T140000
DURATION:PT0H60M0S
SUMMARY:Coach Ruff (A) vs Coach Vinieris
DESCRIPTION:13-17 Division | Volleyball\nYMCA of Greater Charleston\n
URL;VALUE=URI:https://ygametime.com/branch/cane-bay/sports/2026-spring-volleyball/25825/?utm_medium=calendar&utm_source=team_cal&utm_content=league_url#game-598294
LOCATION:Cane Bay High School
BEGIN:VALARM
TRIGGER:-P2H
ACTION:DISPLAY
DESCRIPTION:Coach Ruff (A) vs Coach Vinieris
END:VALARM
END:VEVENT
BEGIN:VEVENT
UID:cane-bay-598298@ygametime.com
DTSTAMP:20260530T130000Z
DTSTART;TZID=America/New_York:20260530T090000
DURATION:PT0H60M0S
SUMMARY:MSE vs Coach Vinieris
DESCRIPTION:13-17 Division | Volleyball\nYMCA of Greater Charleston\n
URL;VALUE=URI:https://ygametime.com/branch/cane-bay/sports/2026-spring-volleyball/25825/?utm_medium=calendar&utm_source=team_cal&utm_content=league_url#game-598298
LOCATION:Cane Bay High School
BEGIN:VALARM
TRIGGER:-P2H
ACTION:DISPLAY
DESCRIPTION:MSE vs Coach Vinieris
END:VALARM
END:VEVENT
END:VCALENDAR

