BEGIN:VCALENDAR
VERSION:2.0
PRODID:-//YGAMETIME.com//YGT iCal Creator//EN
METHOD:PUBLISH
X-PUBLISHED-TTL:PT6H
REFRESH-INTERVAL;VALUE=DURATION:PT6H
CALSCALE:GREGORIAN
X-WR-CALNAME:YGAMETIME CALENDAR
BEGIN:VTIMEZONE
TZID:America/New_York
X-LIC-LOCATION:America/New_York
BEGIN:DAYLIGHT
TZOFFSETFROM:-0500
TZOFFSETTO:-0400
TZNAME:EDT
DTSTART:19700308T020000
RRULE:FREQ=YEARLY;BYMONTH=3;BYDAY=2SU
END:DAYLIGHT
BEGIN:STANDARD
TZOFFSETFROM:-0400
TZOFFSETTO:-0500
TZNAME:EST
DTSTART:19701101T020000
RRULE:FREQ=YEARLY;BYMONTH=11;BYDAY=1SU
END:STANDARD
END:VTIMEZONE
BEGIN:VEVENT
UID:cane-bay-598324@ygametime.com
DTSTAMP:20260328T150000Z
DTSTART;TZID=America/New_York:20260328T110000
DURATION:PT0H60M0S
SUMMARY:Coach Waring vs Coach Vass
DESCRIPTION:Intermediate | Volleyball\nYMCA of Greater Charleston\n
URL;VALUE=URI:https://ygametime.com/branch/cane-bay/sports/2026-spring-volleyball/25837/?utm_medium=calendar&utm_source=team_cal&utm_content=league_url#game-598324
LOCATION:Cane Bay YMCA  Gym
BEGIN:VALARM
TRIGGER:-P2H
ACTION:DISPLAY
DESCRIPTION:Coach Waring vs Coach Vass
END:VALARM
END:VEVENT
BEGIN:VEVENT
UID:cane-bay-598315@ygametime.com
DTSTAMP:20260418T130000Z
DTSTART;TZID=America/New_York:20260418T090000
DURATION:PT0H60M0S
SUMMARY:Coach Gooch vs Coach Waring
DESCRIPTION:Intermediate | Volleyball\nYMCA of Greater Charleston\n
URL;VALUE=URI:https://ygametime.com/branch/cane-bay/sports/2026-spring-volleyball/25837/?utm_medium=calendar&utm_source=team_cal&utm_content=league_url#game-598315
LOCATION:Cane Bay High School
BEGIN:VALARM
TRIGGER:-P2H
ACTION:DISPLAY
DESCRIPTION:Coach Gooch vs Coach Waring
END:VALARM
END:VEVENT
BEGIN:VEVENT
UID:cane-bay-598329@ygametime.com
DTSTAMP:20260425T130000Z
DTSTART;TZID=America/New_York:20260425T090000
DURATION:PT0H60M0S
SUMMARY:Coach DiMeglio vs Coach Waring
DESCRIPTION:Intermediate | Volleyball\nYMCA of Greater Charleston\n
URL;VALUE=URI:https://ygametime.com/branch/cane-bay/sports/2026-spring-volleyball/25837/?utm_medium=calendar&utm_source=team_cal&utm_content=league_url#game-598329
LOCATION:Cane Bay High School
BEGIN:VALARM
TRIGGER:-P2H
ACTION:DISPLAY
DESCRIPTION:Coach DiMeglio vs Coach Waring
END:VALARM
END:VEVENT
BEGIN:VEVENT
UID:cane-bay-598331@ygametime.com
DTSTAMP:20260502T140000Z
DTSTART;TZID=America/New_York:20260502T100000
DURATION:PT0H60M0S
SUMMARY:Coach Gooch vs Coach Waring
DESCRIPTION:Intermediate | Volleyball\nYMCA of Greater Charleston\n
URL;VALUE=URI:https://ygametime.com/branch/cane-bay/sports/2026-spring-volleyball/25837/?utm_medium=calendar&utm_source=team_cal&utm_content=league_url#game-598331
LOCATION:Cane Bay High School
BEGIN:VALARM
TRIGGER:-P2H
ACTION:DISPLAY
DESCRIPTION:Coach Gooch vs Coach Waring
END:VALARM
END:VEVENT
BEGIN:VEVENT
UID:cane-bay-598333@ygametime.com
DTSTAMP:20260509T130000Z
DTSTART;TZID=America/New_York:20260509T090000
DURATION:PT0H60M0S
SUMMARY:Coach Waring vs Coach Orr
DESCRIPTION:Intermediate | Volleyball\nYMCA of Greater Charleston\n
URL;VALUE=URI:https://ygametime.com/branch/cane-bay/sports/2026-spring-volleyball/25837/?utm_medium=calendar&utm_source=team_cal&utm_content=league_url#game-598333
LOCATION:Cane Bay High School
BEGIN:VALARM
TRIGGER:-P2H
ACTION:DISPLAY
DESCRIPTION:Coach Waring vs Coach Orr
END:VALARM
END:VEVENT
BEGIN:VEVENT
UID:cane-bay-598320@ygametime.com
DTSTAMP:20260516T130000Z
DTSTART;TZID=America/New_York:20260516T090000
DURATION:PT0H60M0S
SUMMARY:Coach Waring vs Coach Orr
DESCRIPTION:Intermediate | Volleyball\nYMCA of Greater Charleston\n
URL;VALUE=URI:https://ygametime.com/branch/cane-bay/sports/2026-spring-volleyball/25837/?utm_medium=calendar&utm_source=team_cal&utm_content=league_url#game-598320
LOCATION:Cane Bay High School
BEGIN:VALARM
TRIGGER:-P2H
ACTION:DISPLAY
DESCRIPTION:Coach Waring vs Coach Orr
END:VALARM
END:VEVENT
BEGIN:VEVENT
UID:cane-bay-598322@ygametime.com
DTSTAMP:20260530T160000Z
DTSTART;TZID=America/New_York:20260530T120000
DURATION:PT0H60M0S
SUMMARY:Coach Crane vs Coach Waring
DESCRIPTION:Intermediate | Volleyball\nYMCA of Greater Charleston\n
URL;VALUE=URI:https://ygametime.com/branch/cane-bay/sports/2026-spring-volleyball/25837/?utm_medium=calendar&utm_source=team_cal&utm_content=league_url#game-598322
LOCATION:Cane Bay High School
BEGIN:VALARM
TRIGGER:-P2H
ACTION:DISPLAY
DESCRIPTION:Coach Crane vs Coach Waring
END:VALARM
END:VEVENT
END:VCALENDAR

