BEGIN:VCALENDAR
VERSION:2.0
PRODID:-//YGAMETIME.com//YGT iCal Creator//EN
METHOD:PUBLISH
X-PUBLISHED-TTL:PT6H
REFRESH-INTERVAL;VALUE=DURATION:PT6H
CALSCALE:GREGORIAN
X-WR-CALNAME:YGAMETIME CALENDAR
BEGIN:VTIMEZONE
TZID:America/New_York
X-LIC-LOCATION:America/New_York
BEGIN:DAYLIGHT
TZOFFSETFROM:-0500
TZOFFSETTO:-0400
TZNAME:EDT
DTSTART:19700308T020000
RRULE:FREQ=YEARLY;BYMONTH=3;BYDAY=2SU
END:DAYLIGHT
BEGIN:STANDARD
TZOFFSETFROM:-0400
TZOFFSETTO:-0500
TZNAME:EST
DTSTART:19701101T020000
RRULE:FREQ=YEARLY;BYMONTH=11;BYDAY=1SU
END:STANDARD
END:VTIMEZONE
BEGIN:VEVENT
UID:cane-bay-598325@ygametime.com
DTSTAMP:20260328T150000Z
DTSTART;TZID=America/New_York:20260328T110000
DURATION:PT0H60M0S
SUMMARY:Coach Crane vs Coach DiMeglio
DESCRIPTION:Intermediate | Volleyball\nYMCA of Greater Charleston\n
URL;VALUE=URI:https://ygametime.com/branch/cane-bay/sports/2026-spring-volleyball/25837/?utm_medium=calendar&utm_source=team_cal&utm_content=league_url#game-598325
LOCATION:Cane Bay High School
BEGIN:VALARM
TRIGGER:-P2H
ACTION:DISPLAY
DESCRIPTION:Coach Crane vs Coach DiMeglio
END:VALARM
END:VEVENT
BEGIN:VEVENT
UID:cane-bay-598316@ygametime.com
DTSTAMP:20260418T140000Z
DTSTART;TZID=America/New_York:20260418T100000
DURATION:PT0H60M0S
SUMMARY:Coach Orr vs Coach DiMeglio
DESCRIPTION:Intermediate | Volleyball\nYMCA of Greater Charleston\n
URL;VALUE=URI:https://ygametime.com/branch/cane-bay/sports/2026-spring-volleyball/25837/?utm_medium=calendar&utm_source=team_cal&utm_content=league_url#game-598316
LOCATION:Cane Bay High School
BEGIN:VALARM
TRIGGER:-P2H
ACTION:DISPLAY
DESCRIPTION:Coach Orr vs Coach DiMeglio
END:VALARM
END:VEVENT
BEGIN:VEVENT
UID:cane-bay-598329@ygametime.com
DTSTAMP:20260425T130000Z
DTSTART;TZID=America/New_York:20260425T090000
DURATION:PT0H60M0S
SUMMARY:Coach DiMeglio vs Coach Waring
DESCRIPTION:Intermediate | Volleyball\nYMCA of Greater Charleston\n
URL;VALUE=URI:https://ygametime.com/branch/cane-bay/sports/2026-spring-volleyball/25837/?utm_medium=calendar&utm_source=team_cal&utm_content=league_url#game-598329
LOCATION:Cane Bay High School
BEGIN:VALARM
TRIGGER:-P2H
ACTION:DISPLAY
DESCRIPTION:Coach DiMeglio vs Coach Waring
END:VALARM
END:VEVENT
BEGIN:VEVENT
UID:cane-bay-598332@ygametime.com
DTSTAMP:20260502T200000Z
DTSTART;TZID=America/New_York:20260502T160000
DURATION:PT0H60M0S
SUMMARY:Coach Orr vs Coach DiMeglio
DESCRIPTION:Intermediate | Volleyball\nYMCA of Greater Charleston\n
URL;VALUE=URI:https://ygametime.com/branch/cane-bay/sports/2026-spring-volleyball/25837/?utm_medium=calendar&utm_source=team_cal&utm_content=league_url#game-598332
LOCATION:Cane Bay High School
BEGIN:VALARM
TRIGGER:-P2H
ACTION:DISPLAY
DESCRIPTION:Coach Orr vs Coach DiMeglio
END:VALARM
END:VEVENT
BEGIN:VEVENT
UID:cane-bay-598335@ygametime.com
DTSTAMP:20260509T140000Z
DTSTART;TZID=America/New_York:20260509T100000
DURATION:PT0H60M0S
SUMMARY:Coach DiMeglio vs Coach Vass
DESCRIPTION:Intermediate | Volleyball\nYMCA of Greater Charleston\n
URL;VALUE=URI:https://ygametime.com/branch/cane-bay/sports/2026-spring-volleyball/25837/?utm_medium=calendar&utm_source=team_cal&utm_content=league_url#game-598335
LOCATION:Cane Bay High School
BEGIN:VALARM
TRIGGER:-P2H
ACTION:DISPLAY
DESCRIPTION:Coach DiMeglio vs Coach Vass
END:VALARM
END:VEVENT
BEGIN:VEVENT
UID:cane-bay-598319@ygametime.com
DTSTAMP:20260516T140000Z
DTSTART;TZID=America/New_York:20260516T100000
DURATION:PT0H60M0S
SUMMARY:Coach DiMeglio vs Coach Vass
DESCRIPTION:Intermediate | Volleyball\nYMCA of Greater Charleston\n
URL;VALUE=URI:https://ygametime.com/branch/cane-bay/sports/2026-spring-volleyball/25837/?utm_medium=calendar&utm_source=team_cal&utm_content=league_url#game-598319
LOCATION:Cane Bay High School
BEGIN:VALARM
TRIGGER:-P2H
ACTION:DISPLAY
DESCRIPTION:Coach DiMeglio vs Coach Vass
END:VALARM
END:VEVENT
BEGIN:VEVENT
UID:cane-bay-598321@ygametime.com
DTSTAMP:20260530T150000Z
DTSTART;TZID=America/New_York:20260530T110000
DURATION:PT0H60M0S
SUMMARY:Coach DiMeglio vs Coach Gooch
DESCRIPTION:Intermediate | Volleyball\nYMCA of Greater Charleston\n
URL;VALUE=URI:https://ygametime.com/branch/cane-bay/sports/2026-spring-volleyball/25837/?utm_medium=calendar&utm_source=team_cal&utm_content=league_url#game-598321
LOCATION:Cane Bay High School
BEGIN:VALARM
TRIGGER:-P2H
ACTION:DISPLAY
DESCRIPTION:Coach DiMeglio vs Coach Gooch
END:VALARM
END:VEVENT
END:VCALENDAR

