BEGIN:VCALENDAR
VERSION:2.0
PRODID:-//YGAMETIME.com//YGT iCal Creator//EN
METHOD:PUBLISH
X-PUBLISHED-TTL:PT6H
REFRESH-INTERVAL;VALUE=DURATION:PT6H
CALSCALE:GREGORIAN
X-WR-CALNAME:YGAMETIME CALENDAR
BEGIN:VTIMEZONE
TZID:America/New_York
X-LIC-LOCATION:America/New_York
BEGIN:DAYLIGHT
TZOFFSETFROM:-0500
TZOFFSETTO:-0400
TZNAME:EDT
DTSTART:19700308T020000
RRULE:FREQ=YEARLY;BYMONTH=3;BYDAY=2SU
END:DAYLIGHT
BEGIN:STANDARD
TZOFFSETFROM:-0400
TZOFFSETTO:-0500
TZNAME:EST
DTSTART:19701101T020000
RRULE:FREQ=YEARLY;BYMONTH=11;BYDAY=1SU
END:STANDARD
END:VTIMEZONE
BEGIN:VEVENT
UID:cane-bay-598369@ygametime.com
DTSTAMP:20260327T233000Z
DTSTART;TZID=America/New_York:20260327T193000
DURATION:PT0H60M0S
SUMMARY:Coach Todd vs Coach Seler
DESCRIPTION:Competitive | Volleyball\nYMCA of Greater Charleston\n
URL;VALUE=URI:https://ygametime.com/branch/cane-bay/sports/2026-spring-volleyball/25838/?utm_medium=calendar&utm_source=team_cal&utm_content=league_url#game-598369
LOCATION:Cane Bay YMCA  Gym
BEGIN:VALARM
TRIGGER:-P2H
ACTION:DISPLAY
DESCRIPTION:Coach Todd vs Coach Seler
END:VALARM
END:VEVENT
BEGIN:VEVENT
UID:cane-bay-598358@ygametime.com
DTSTAMP:20260417T233000Z
DTSTART;TZID=America/New_York:20260417T193000
DURATION:PT0H60M0S
SUMMARY:MSE vs Coach Seler
DESCRIPTION:Competitive | Volleyball\nYMCA of Greater Charleston\n
URL;VALUE=URI:https://ygametime.com/branch/cane-bay/sports/2026-spring-volleyball/25838/?utm_medium=calendar&utm_source=team_cal&utm_content=league_url#game-598358
LOCATION:Cane Bay YMCA  Gym
BEGIN:VALARM
TRIGGER:-P2H
ACTION:DISPLAY
DESCRIPTION:MSE vs Coach Seler
END:VALARM
END:VEVENT
BEGIN:VEVENT
UID:cane-bay-598360@ygametime.com
DTSTAMP:20260501T233000Z
DTSTART;TZID=America/New_York:20260501T193000
DURATION:PT0H60M0S
SUMMARY:Coach Maniaci vs Coach Seler
DESCRIPTION:Competitive | Volleyball\nYMCA of Greater Charleston\n
URL;VALUE=URI:https://ygametime.com/branch/cane-bay/sports/2026-spring-volleyball/25838/?utm_medium=calendar&utm_source=team_cal&utm_content=league_url#game-598360
LOCATION:Cane Bay YMCA  Gym
BEGIN:VALARM
TRIGGER:-P2H
ACTION:DISPLAY
DESCRIPTION:Coach Maniaci vs Coach Seler
END:VALARM
END:VEVENT
BEGIN:VEVENT
UID:cane-bay-598371@ygametime.com
DTSTAMP:20260508T233000Z
DTSTART;TZID=America/New_York:20260508T193000
DURATION:PT0H60M0S
SUMMARY:Coach Gooch vs Coach Seler
DESCRIPTION:Competitive | Volleyball\nYMCA of Greater Charleston\n
URL;VALUE=URI:https://ygametime.com/branch/cane-bay/sports/2026-spring-volleyball/25838/?utm_medium=calendar&utm_source=team_cal&utm_content=league_url#game-598371
LOCATION:Cane Bay YMCA  Gym
BEGIN:VALARM
TRIGGER:-P2H
ACTION:DISPLAY
DESCRIPTION:Coach Gooch vs Coach Seler
END:VALARM
END:VEVENT
BEGIN:VEVENT
UID:cane-bay-598367@ygametime.com
DTSTAMP:20260515T233000Z
DTSTART;TZID=America/New_York:20260515T193000
DURATION:PT0H60M0S
SUMMARY:Coach Seler vs Coach O'Connor
DESCRIPTION:Competitive | Volleyball\nYMCA of Greater Charleston\n
URL;VALUE=URI:https://ygametime.com/branch/cane-bay/sports/2026-spring-volleyball/25838/?utm_medium=calendar&utm_source=team_cal&utm_content=league_url#game-598367
LOCATION:Cane Bay YMCA  Gym
BEGIN:VALARM
TRIGGER:-P2H
ACTION:DISPLAY
DESCRIPTION:Coach Seler vs Coach O'Connor
END:VALARM
END:VEVENT
BEGIN:VEVENT
UID:cane-bay-598353@ygametime.com
DTSTAMP:20260529T233000Z
DTSTART;TZID=America/New_York:20260529T193000
DURATION:PT0H60M0S
SUMMARY:Coach Justiniano vs Coach Seler
DESCRIPTION:Competitive | Volleyball\nYMCA of Greater Charleston\n
URL;VALUE=URI:https://ygametime.com/branch/cane-bay/sports/2026-spring-volleyball/25838/?utm_medium=calendar&utm_source=team_cal&utm_content=league_url#game-598353
LOCATION:Cane Bay YMCA  Gym
BEGIN:VALARM
TRIGGER:-P2H
ACTION:DISPLAY
DESCRIPTION:Coach Justiniano vs Coach Seler
END:VALARM
END:VEVENT
END:VCALENDAR

