BEGIN:VCALENDAR
VERSION:2.0
PRODID:-//YGAMETIME.com//YGT iCal Creator//EN
METHOD:PUBLISH
X-PUBLISHED-TTL:PT6H
REFRESH-INTERVAL;VALUE=DURATION:PT6H
CALSCALE:GREGORIAN
X-WR-CALNAME:YGAMETIME CALENDAR
BEGIN:VTIMEZONE
TZID:America/New_York
X-LIC-LOCATION:America/New_York
BEGIN:DAYLIGHT
TZOFFSETFROM:-0500
TZOFFSETTO:-0400
TZNAME:EDT
DTSTART:19700308T020000
RRULE:FREQ=YEARLY;BYMONTH=3;BYDAY=2SU
END:DAYLIGHT
BEGIN:STANDARD
TZOFFSETFROM:-0400
TZOFFSETTO:-0500
TZNAME:EST
DTSTART:19701101T020000
RRULE:FREQ=YEARLY;BYMONTH=11;BYDAY=1SU
END:STANDARD
END:VTIMEZONE
BEGIN:VEVENT
UID:cane-bay-598356@ygametime.com
DTSTAMP:20260418T201500Z
DTSTART;TZID=America/New_York:20260418T161500
DURATION:PT0H60M0S
SUMMARY:Coach Maniaci vs Coach Justiniano
DESCRIPTION:Competitive | Volleyball\nYMCA of Greater Charleston\n
URL;VALUE=URI:https://ygametime.com/branch/cane-bay/sports/2026-spring-volleyball/25838/?utm_medium=calendar&utm_source=team_cal&utm_content=league_url#game-598356
LOCATION:Cane Bay YMCA  Gym
BEGIN:VALARM
TRIGGER:-P2H
ACTION:DISPLAY
DESCRIPTION:Coach Maniaci vs Coach Justiniano
END:VALARM
END:VEVENT
BEGIN:VEVENT
UID:cane-bay-598362@ygametime.com
DTSTAMP:20260424T233000Z
DTSTART;TZID=America/New_York:20260424T193000
DURATION:PT0H60M0S
SUMMARY:Coach Gooch vs Coach Justiniano
DESCRIPTION:Competitive | Volleyball\nYMCA of Greater Charleston\n
URL;VALUE=URI:https://ygametime.com/branch/cane-bay/sports/2026-spring-volleyball/25838/?utm_medium=calendar&utm_source=team_cal&utm_content=league_url#game-598362
LOCATION:Cane Bay YMCA  Gym
BEGIN:VALARM
TRIGGER:-P2H
ACTION:DISPLAY
DESCRIPTION:Coach Gooch vs Coach Justiniano
END:VALARM
END:VEVENT
BEGIN:VEVENT
UID:cane-bay-598361@ygametime.com
DTSTAMP:20260502T201500Z
DTSTART;TZID=America/New_York:20260502T161500
DURATION:PT0H60M0S
SUMMARY:Coach Justiniano vs Coach O'Connor
DESCRIPTION:Competitive | Volleyball\nYMCA of Greater Charleston\n
URL;VALUE=URI:https://ygametime.com/branch/cane-bay/sports/2026-spring-volleyball/25838/?utm_medium=calendar&utm_source=team_cal&utm_content=league_url#game-598361
LOCATION:Cane Bay YMCA  Gym
BEGIN:VALARM
TRIGGER:-P2H
ACTION:DISPLAY
DESCRIPTION:Coach Justiniano vs Coach O'Connor
END:VALARM
END:VEVENT
BEGIN:VEVENT
UID:cane-bay-598372@ygametime.com
DTSTAMP:20260509T201500Z
DTSTART;TZID=America/New_York:20260509T161500
DURATION:PT0H60M0S
SUMMARY:Coach Todd vs Coach Justiniano
DESCRIPTION:Competitive | Volleyball\nYMCA of Greater Charleston\n
URL;VALUE=URI:https://ygametime.com/branch/cane-bay/sports/2026-spring-volleyball/25838/?utm_medium=calendar&utm_source=team_cal&utm_content=league_url#game-598372
LOCATION:Cane Bay YMCA  Gym
BEGIN:VALARM
TRIGGER:-P2H
ACTION:DISPLAY
DESCRIPTION:Coach Todd vs Coach Justiniano
END:VALARM
END:VEVENT
BEGIN:VEVENT
UID:cane-bay-598366@ygametime.com
DTSTAMP:20260516T200000Z
DTSTART;TZID=America/New_York:20260516T160000
DURATION:PT0H60M0S
SUMMARY:Coach Justiniano vs MSE
DESCRIPTION:Competitive | Volleyball\nYMCA of Greater Charleston\n
URL;VALUE=URI:https://ygametime.com/branch/cane-bay/sports/2026-spring-volleyball/25838/?utm_medium=calendar&utm_source=team_cal&utm_content=league_url#game-598366
LOCATION:Cane Bay High School
BEGIN:VALARM
TRIGGER:-P2H
ACTION:DISPLAY
DESCRIPTION:Coach Justiniano vs MSE
END:VALARM
END:VEVENT
BEGIN:VEVENT
UID:cane-bay-598353@ygametime.com
DTSTAMP:20260529T233000Z
DTSTART;TZID=America/New_York:20260529T193000
DURATION:PT0H60M0S
SUMMARY:Coach Justiniano vs Coach Seler
DESCRIPTION:Competitive | Volleyball\nYMCA of Greater Charleston\n
URL;VALUE=URI:https://ygametime.com/branch/cane-bay/sports/2026-spring-volleyball/25838/?utm_medium=calendar&utm_source=team_cal&utm_content=league_url#game-598353
LOCATION:Cane Bay YMCA  Gym
BEGIN:VALARM
TRIGGER:-P2H
ACTION:DISPLAY
DESCRIPTION:Coach Justiniano vs Coach Seler
END:VALARM
END:VEVENT
END:VCALENDAR

