BEGIN:VCALENDAR
VERSION:2.0
PRODID:-//YGAMETIME.com//YGT iCal Creator//EN
METHOD:PUBLISH
X-PUBLISHED-TTL:PT6H
REFRESH-INTERVAL;VALUE=DURATION:PT6H
CALSCALE:GREGORIAN
X-WR-CALNAME:YGAMETIME CALENDAR
BEGIN:VTIMEZONE
TZID:America/New_York
X-LIC-LOCATION:America/New_York
BEGIN:DAYLIGHT
TZOFFSETFROM:-0500
TZOFFSETTO:-0400
TZNAME:EDT
DTSTART:19700308T020000
RRULE:FREQ=YEARLY;BYMONTH=3;BYDAY=2SU
END:DAYLIGHT
BEGIN:STANDARD
TZOFFSETFROM:-0400
TZOFFSETTO:-0500
TZNAME:EST
DTSTART:19701101T020000
RRULE:FREQ=YEARLY;BYMONTH=11;BYDAY=1SU
END:STANDARD
END:VTIMEZONE
BEGIN:VEVENT
UID:cane-bay-598368@ygametime.com
DTSTAMP:20260328T200000Z
DTSTART;TZID=America/New_York:20260328T160000
DURATION:PT0H60M0S
SUMMARY:MSE vs Coach Maniaci
DESCRIPTION:Competitive | Volleyball\nYMCA of Greater Charleston\n
URL;VALUE=URI:https://ygametime.com/branch/cane-bay/sports/2026-spring-volleyball/25838/?utm_medium=calendar&utm_source=team_cal&utm_content=league_url#game-598368
LOCATION:Cane Bay High School
BEGIN:VALARM
TRIGGER:-P2H
ACTION:DISPLAY
DESCRIPTION:MSE vs Coach Maniaci
END:VALARM
END:VEVENT
BEGIN:VEVENT
UID:cane-bay-598356@ygametime.com
DTSTAMP:20260418T201500Z
DTSTART;TZID=America/New_York:20260418T161500
DURATION:PT0H60M0S
SUMMARY:Coach Maniaci vs Coach Justiniano
DESCRIPTION:Competitive | Volleyball\nYMCA of Greater Charleston\n
URL;VALUE=URI:https://ygametime.com/branch/cane-bay/sports/2026-spring-volleyball/25838/?utm_medium=calendar&utm_source=team_cal&utm_content=league_url#game-598356
LOCATION:Cane Bay YMCA  Gym
BEGIN:VALARM
TRIGGER:-P2H
ACTION:DISPLAY
DESCRIPTION:Coach Maniaci vs Coach Justiniano
END:VALARM
END:VEVENT
BEGIN:VEVENT
UID:cane-bay-598364@ygametime.com
DTSTAMP:20260425T201500Z
DTSTART;TZID=America/New_York:20260425T161500
DURATION:PT0H60M0S
SUMMARY:Coach O'Connor vs Coach Maniaci
DESCRIPTION:Competitive | Volleyball\nYMCA of Greater Charleston\n
URL;VALUE=URI:https://ygametime.com/branch/cane-bay/sports/2026-spring-volleyball/25838/?utm_medium=calendar&utm_source=team_cal&utm_content=league_url#game-598364
LOCATION:Cane Bay YMCA  Gym
BEGIN:VALARM
TRIGGER:-P2H
ACTION:DISPLAY
DESCRIPTION:Coach O'Connor vs Coach Maniaci
END:VALARM
END:VEVENT
BEGIN:VEVENT
UID:cane-bay-598360@ygametime.com
DTSTAMP:20260501T233000Z
DTSTART;TZID=America/New_York:20260501T193000
DURATION:PT0H60M0S
SUMMARY:Coach Maniaci vs Coach Seler
DESCRIPTION:Competitive | Volleyball\nYMCA of Greater Charleston\n
URL;VALUE=URI:https://ygametime.com/branch/cane-bay/sports/2026-spring-volleyball/25838/?utm_medium=calendar&utm_source=team_cal&utm_content=league_url#game-598360
LOCATION:Cane Bay YMCA  Gym
BEGIN:VALARM
TRIGGER:-P2H
ACTION:DISPLAY
DESCRIPTION:Coach Maniaci vs Coach Seler
END:VALARM
END:VEVENT
BEGIN:VEVENT
UID:cane-bay-598365@ygametime.com
DTSTAMP:20260516T201500Z
DTSTART;TZID=America/New_York:20260516T161500
DURATION:PT0H60M0S
SUMMARY:Coach Gooch vs Coach Maniaci
DESCRIPTION:Competitive | Volleyball\nYMCA of Greater Charleston\n
URL;VALUE=URI:https://ygametime.com/branch/cane-bay/sports/2026-spring-volleyball/25838/?utm_medium=calendar&utm_source=team_cal&utm_content=league_url#game-598365
LOCATION:Cane Bay YMCA  Gym
BEGIN:VALARM
TRIGGER:-P2H
ACTION:DISPLAY
DESCRIPTION:Coach Gooch vs Coach Maniaci
END:VALARM
END:VEVENT
BEGIN:VEVENT
UID:cane-bay-598355@ygametime.com
DTSTAMP:20260530T201500Z
DTSTART;TZID=America/New_York:20260530T161500
DURATION:PT0H60M0S
SUMMARY:Coach Todd vs Coach Maniaci
DESCRIPTION:Competitive | Volleyball\nYMCA of Greater Charleston\n
URL;VALUE=URI:https://ygametime.com/branch/cane-bay/sports/2026-spring-volleyball/25838/?utm_medium=calendar&utm_source=team_cal&utm_content=league_url#game-598355
LOCATION:Cane Bay YMCA  Gym
BEGIN:VALARM
TRIGGER:-P2H
ACTION:DISPLAY
DESCRIPTION:Coach Todd vs Coach Maniaci
END:VALARM
END:VEVENT
END:VCALENDAR

