BEGIN:VCALENDAR
VERSION:2.0
PRODID:-//YGAMETIME.com//YGT iCal Creator//EN
METHOD:PUBLISH
X-PUBLISHED-TTL:PT6H
REFRESH-INTERVAL;VALUE=DURATION:PT6H
CALSCALE:GREGORIAN
X-WR-CALNAME:YGAMETIME CALENDAR
BEGIN:VTIMEZONE
TZID:America/New_York
X-LIC-LOCATION:America/New_York
BEGIN:DAYLIGHT
TZOFFSETFROM:-0500
TZOFFSETTO:-0400
TZNAME:EDT
DTSTART:19700308T020000
RRULE:FREQ=YEARLY;BYMONTH=3;BYDAY=2SU
END:DAYLIGHT
BEGIN:STANDARD
TZOFFSETFROM:-0400
TZOFFSETTO:-0500
TZNAME:EST
DTSTART:19701101T020000
RRULE:FREQ=YEARLY;BYMONTH=11;BYDAY=1SU
END:STANDARD
END:VTIMEZONE
BEGIN:VEVENT
UID:cane-bay-598838@ygametime.com
DTSTAMP:20260418T130000Z
DTSTART;TZID=America/New_York:20260418T090000
DURATION:PT0H60M0S
SUMMARY:Coach Shoemaker vs Coach T. Carter
DESCRIPTION:4-5 Division | Soccer\nYMCA of Greater Charleston\n
URL;VALUE=URI:https://ygametime.com/branch/cane-bay/sports/2026-spring-soccer/25865/?utm_medium=calendar&utm_source=team_cal&utm_content=league_url#game-598838
LOCATION:Cane Bay Field 1C
BEGIN:VALARM
TRIGGER:-P2H
ACTION:DISPLAY
DESCRIPTION:Coach Shoemaker vs Coach T. Carter
END:VALARM
END:VEVENT
BEGIN:VEVENT
UID:cane-bay-598843@ygametime.com
DTSTAMP:20260425T130000Z
DTSTART;TZID=America/New_York:20260425T090000
DURATION:PT0H60M0S
SUMMARY:Coach Cunningham vs Coach Shoemaker
DESCRIPTION:4-5 Division | Soccer\nYMCA of Greater Charleston\n
URL;VALUE=URI:https://ygametime.com/branch/cane-bay/sports/2026-spring-soccer/25865/?utm_medium=calendar&utm_source=team_cal&utm_content=league_url#game-598843
LOCATION:Cane Bay Field 1C
BEGIN:VALARM
TRIGGER:-P2H
ACTION:DISPLAY
DESCRIPTION:Coach Cunningham vs Coach Shoemaker
END:VALARM
END:VEVENT
BEGIN:VEVENT
UID:cane-bay-598846@ygametime.com
DTSTAMP:20260502T130000Z
DTSTART;TZID=America/New_York:20260502T090000
DURATION:PT0H60M0S
SUMMARY:Coach Behrens vs Coach Shoemaker
DESCRIPTION:4-5 Division | Soccer\nYMCA of Greater Charleston\n
URL;VALUE=URI:https://ygametime.com/branch/cane-bay/sports/2026-spring-soccer/25865/?utm_medium=calendar&utm_source=team_cal&utm_content=league_url#game-598846
LOCATION:Cane Bay Field 1A
BEGIN:VALARM
TRIGGER:-P2H
ACTION:DISPLAY
DESCRIPTION:Coach Behrens vs Coach Shoemaker
END:VALARM
END:VEVENT
BEGIN:VEVENT
UID:cane-bay-598833@ygametime.com
DTSTAMP:20260509T130000Z
DTSTART;TZID=America/New_York:20260509T090000
DURATION:PT0H60M0S
SUMMARY:Coach Shoemaker vs Coach Gateau
DESCRIPTION:4-5 Division | Soccer\nYMCA of Greater Charleston\n
URL;VALUE=URI:https://ygametime.com/branch/cane-bay/sports/2026-spring-soccer/25865/?utm_medium=calendar&utm_source=team_cal&utm_content=league_url#game-598833
LOCATION:Cane Bay Field 1B
BEGIN:VALARM
TRIGGER:-P2H
ACTION:DISPLAY
DESCRIPTION:Coach Shoemaker vs Coach Gateau
END:VALARM
END:VEVENT
BEGIN:VEVENT
UID:cane-bay-598849@ygametime.com
DTSTAMP:20260516T130000Z
DTSTART;TZID=America/New_York:20260516T090000
DURATION:PT0H60M0S
SUMMARY:Coach Shoemaker vs Coach Budd
DESCRIPTION:4-5 Division | Soccer\nYMCA of Greater Charleston\n
URL;VALUE=URI:https://ygametime.com/branch/cane-bay/sports/2026-spring-soccer/25865/?utm_medium=calendar&utm_source=team_cal&utm_content=league_url#game-598849
LOCATION:Cane Bay Field 1C
BEGIN:VALARM
TRIGGER:-P2H
ACTION:DISPLAY
DESCRIPTION:Coach Shoemaker vs Coach Budd
END:VALARM
END:VEVENT
BEGIN:VEVENT
UID:cane-bay-598837@ygametime.com
DTSTAMP:20260530T130000Z
DTSTART;TZID=America/New_York:20260530T090000
DURATION:PT0H60M0S
SUMMARY:Coach Greene vs Coach Shoemaker
DESCRIPTION:4-5 Division | Soccer\nYMCA of Greater Charleston\n
URL;VALUE=URI:https://ygametime.com/branch/cane-bay/sports/2026-spring-soccer/25865/?utm_medium=calendar&utm_source=team_cal&utm_content=league_url#game-598837
LOCATION:Cane Bay Field 1C
BEGIN:VALARM
TRIGGER:-P2H
ACTION:DISPLAY
DESCRIPTION:Coach Greene vs Coach Shoemaker
END:VALARM
END:VEVENT
BEGIN:VEVENT
UID:cane-bay-598851@ygametime.com
DTSTAMP:20260606T130000Z
DTSTART;TZID=America/New_York:20260606T090000
DURATION:PT0H60M0S
SUMMARY:Coach Shoemaker vs Coach T. Carter
DESCRIPTION:4-5 Division | Soccer\nYMCA of Greater Charleston\n
URL;VALUE=URI:https://ygametime.com/branch/cane-bay/sports/2026-spring-soccer/25865/?utm_medium=calendar&utm_source=team_cal&utm_content=league_url#game-598851
LOCATION:Cane Bay Field 1B
BEGIN:VALARM
TRIGGER:-P2H
ACTION:DISPLAY
DESCRIPTION:Coach Shoemaker vs Coach T. Carter
END:VALARM
END:VEVENT
END:VCALENDAR

