BEGIN:VCALENDAR
VERSION:2.0
PRODID:-//YGAMETIME.com//YGT iCal Creator//EN
METHOD:PUBLISH
X-PUBLISHED-TTL:PT6H
REFRESH-INTERVAL;VALUE=DURATION:PT6H
CALSCALE:GREGORIAN
X-WR-CALNAME:YGAMETIME CALENDAR
BEGIN:VTIMEZONE
TZID:America/New_York
X-LIC-LOCATION:America/New_York
BEGIN:DAYLIGHT
TZOFFSETFROM:-0500
TZOFFSETTO:-0400
TZNAME:EDT
DTSTART:19700308T020000
RRULE:FREQ=YEARLY;BYMONTH=3;BYDAY=2SU
END:DAYLIGHT
BEGIN:STANDARD
TZOFFSETFROM:-0400
TZOFFSETTO:-0500
TZNAME:EST
DTSTART:19701101T020000
RRULE:FREQ=YEARLY;BYMONTH=11;BYDAY=1SU
END:STANDARD
END:VTIMEZONE
BEGIN:VEVENT
UID:cane-bay-598829@ygametime.com
DTSTAMP:20260328T130000Z
DTSTART;TZID=America/New_York:20260328T090000
DURATION:PT0H60M0S
SUMMARY:Coach Greene vs Coach Cunningham
DESCRIPTION:4-5 Division | Soccer\nYMCA of Greater Charleston\n
URL;VALUE=URI:https://ygametime.com/branch/cane-bay/sports/2026-spring-soccer/25865/?utm_medium=calendar&utm_source=team_cal&utm_content=league_url#game-598829
LOCATION:Cane Bay Field 1B
BEGIN:VALARM
TRIGGER:-P2H
ACTION:DISPLAY
DESCRIPTION:Coach Greene vs Coach Cunningham
END:VALARM
END:VEVENT
BEGIN:VEVENT
UID:cane-bay-598840@ygametime.com
DTSTAMP:20260418T130000Z
DTSTART;TZID=America/New_York:20260418T090000
DURATION:PT0H60M0S
SUMMARY:Coach Behrens vs Coach Greene
DESCRIPTION:4-5 Division | Soccer\nYMCA of Greater Charleston\n
URL;VALUE=URI:https://ygametime.com/branch/cane-bay/sports/2026-spring-soccer/25865/?utm_medium=calendar&utm_source=team_cal&utm_content=league_url#game-598840
LOCATION:Cane Bay Field 1A
BEGIN:VALARM
TRIGGER:-P2H
ACTION:DISPLAY
DESCRIPTION:Coach Behrens vs Coach Greene
END:VALARM
END:VEVENT
BEGIN:VEVENT
UID:cane-bay-598842@ygametime.com
DTSTAMP:20260425T130000Z
DTSTART;TZID=America/New_York:20260425T090000
DURATION:PT0H60M0S
SUMMARY:Coach Greene vs Coach Budd
DESCRIPTION:4-5 Division | Soccer\nYMCA of Greater Charleston\n
URL;VALUE=URI:https://ygametime.com/branch/cane-bay/sports/2026-spring-soccer/25865/?utm_medium=calendar&utm_source=team_cal&utm_content=league_url#game-598842
LOCATION:Cane Bay Field 1B
BEGIN:VALARM
TRIGGER:-P2H
ACTION:DISPLAY
DESCRIPTION:Coach Greene vs Coach Budd
END:VALARM
END:VEVENT
BEGIN:VEVENT
UID:cane-bay-598832@ygametime.com
DTSTAMP:20260509T130000Z
DTSTART;TZID=America/New_York:20260509T090000
DURATION:PT0H60M0S
SUMMARY:Coach T. Carter vs Coach Greene
DESCRIPTION:4-5 Division | Soccer\nYMCA of Greater Charleston\n
URL;VALUE=URI:https://ygametime.com/branch/cane-bay/sports/2026-spring-soccer/25865/?utm_medium=calendar&utm_source=team_cal&utm_content=league_url#game-598832
LOCATION:Cane Bay Field 1A
BEGIN:VALARM
TRIGGER:-P2H
ACTION:DISPLAY
DESCRIPTION:Coach T. Carter vs Coach Greene
END:VALARM
END:VEVENT
BEGIN:VEVENT
UID:cane-bay-598848@ygametime.com
DTSTAMP:20260516T130000Z
DTSTART;TZID=America/New_York:20260516T090000
DURATION:PT0H60M0S
SUMMARY:Coach Gateau vs Coach Greene
DESCRIPTION:4-5 Division | Soccer\nYMCA of Greater Charleston\n
URL;VALUE=URI:https://ygametime.com/branch/cane-bay/sports/2026-spring-soccer/25865/?utm_medium=calendar&utm_source=team_cal&utm_content=league_url#game-598848
LOCATION:Cane Bay Field 1B
BEGIN:VALARM
TRIGGER:-P2H
ACTION:DISPLAY
DESCRIPTION:Coach Gateau vs Coach Greene
END:VALARM
END:VEVENT
BEGIN:VEVENT
UID:cane-bay-598837@ygametime.com
DTSTAMP:20260530T130000Z
DTSTART;TZID=America/New_York:20260530T090000
DURATION:PT0H60M0S
SUMMARY:Coach Greene vs Coach Shoemaker
DESCRIPTION:4-5 Division | Soccer\nYMCA of Greater Charleston\n
URL;VALUE=URI:https://ygametime.com/branch/cane-bay/sports/2026-spring-soccer/25865/?utm_medium=calendar&utm_source=team_cal&utm_content=league_url#game-598837
LOCATION:Cane Bay Field 1C
BEGIN:VALARM
TRIGGER:-P2H
ACTION:DISPLAY
DESCRIPTION:Coach Greene vs Coach Shoemaker
END:VALARM
END:VEVENT
BEGIN:VEVENT
UID:cane-bay-598852@ygametime.com
DTSTAMP:20260606T130000Z
DTSTART;TZID=America/New_York:20260606T090000
DURATION:PT0H60M0S
SUMMARY:Coach Greene vs Coach Cunningham
DESCRIPTION:4-5 Division | Soccer\nYMCA of Greater Charleston\n
URL;VALUE=URI:https://ygametime.com/branch/cane-bay/sports/2026-spring-soccer/25865/?utm_medium=calendar&utm_source=team_cal&utm_content=league_url#game-598852
LOCATION:Cane Bay Field 1C
BEGIN:VALARM
TRIGGER:-P2H
ACTION:DISPLAY
DESCRIPTION:Coach Greene vs Coach Cunningham
END:VALARM
END:VEVENT
END:VCALENDAR

