BEGIN:VCALENDAR
VERSION:2.0
PRODID:-//YGAMETIME.com//YGT iCal Creator//EN
METHOD:PUBLISH
X-PUBLISHED-TTL:PT6H
REFRESH-INTERVAL;VALUE=DURATION:PT6H
CALSCALE:GREGORIAN
X-WR-CALNAME:YGAMETIME CALENDAR
BEGIN:VTIMEZONE
TZID:America/New_York
X-LIC-LOCATION:America/New_York
BEGIN:DAYLIGHT
TZOFFSETFROM:-0500
TZOFFSETTO:-0400
TZNAME:EDT
DTSTART:19700308T020000
RRULE:FREQ=YEARLY;BYMONTH=3;BYDAY=2SU
END:DAYLIGHT
BEGIN:STANDARD
TZOFFSETFROM:-0400
TZOFFSETTO:-0500
TZNAME:EST
DTSTART:19701101T020000
RRULE:FREQ=YEARLY;BYMONTH=11;BYDAY=1SU
END:STANDARD
END:VTIMEZONE
BEGIN:VEVENT
UID:cane-bay-598855@ygametime.com
DTSTAMP:20260328T140000Z
DTSTART;TZID=America/New_York:20260328T100000
DURATION:PT0H60M0S
SUMMARY:Coach L. Williams vs Coach Graham
DESCRIPTION:6-7 Division | Soccer\nYMCA of Greater Charleston\n
URL;VALUE=URI:https://ygametime.com/branch/cane-bay/sports/2026-spring-soccer/25866/?utm_medium=calendar&utm_source=team_cal&utm_content=league_url#game-598855
LOCATION:Cane Bay Field 1B
BEGIN:VALARM
TRIGGER:-P2H
ACTION:DISPLAY
DESCRIPTION:Coach L. Williams vs Coach Graham
END:VALARM
END:VEVENT
BEGIN:VEVENT
UID:cane-bay-598877@ygametime.com
DTSTAMP:20260425T140000Z
DTSTART;TZID=America/New_York:20260425T100000
DURATION:PT0H60M0S
SUMMARY:Coach Behrens vs Coach L. Williams
DESCRIPTION:6-7 Division | Soccer\nYMCA of Greater Charleston\n
URL;VALUE=URI:https://ygametime.com/branch/cane-bay/sports/2026-spring-soccer/25866/?utm_medium=calendar&utm_source=team_cal&utm_content=league_url#game-598877
LOCATION:Cane Bay Field 1A
BEGIN:VALARM
TRIGGER:-P2H
ACTION:DISPLAY
DESCRIPTION:Coach Behrens vs Coach L. Williams
END:VALARM
END:VEVENT
BEGIN:VEVENT
UID:cane-bay-598882@ygametime.com
DTSTAMP:20260502T140000Z
DTSTART;TZID=America/New_York:20260502T100000
DURATION:PT0H60M0S
SUMMARY:Coach L. Williams vs Coach Torres
DESCRIPTION:6-7 Division | Soccer\nYMCA of Greater Charleston\n
URL;VALUE=URI:https://ygametime.com/branch/cane-bay/sports/2026-spring-soccer/25866/?utm_medium=calendar&utm_source=team_cal&utm_content=league_url#game-598882
LOCATION:Cane Bay Field1D
BEGIN:VALARM
TRIGGER:-P2H
ACTION:DISPLAY
DESCRIPTION:Coach L. Williams vs Coach Torres
END:VALARM
END:VEVENT
BEGIN:VEVENT
UID:cane-bay-598887@ygametime.com
DTSTAMP:20260509T140000Z
DTSTART;TZID=America/New_York:20260509T100000
DURATION:PT0H60M0S
SUMMARY:Coach Murray vs Coach L. Williams
DESCRIPTION:6-7 Division | Soccer\nYMCA of Greater Charleston\n
URL;VALUE=URI:https://ygametime.com/branch/cane-bay/sports/2026-spring-soccer/25866/?utm_medium=calendar&utm_source=team_cal&utm_content=league_url#game-598887
LOCATION:Cane Bay Field1D
BEGIN:VALARM
TRIGGER:-P2H
ACTION:DISPLAY
DESCRIPTION:Coach Murray vs Coach L. Williams
END:VALARM
END:VEVENT
BEGIN:VEVENT
UID:cane-bay-598863@ygametime.com
DTSTAMP:20260516T130000Z
DTSTART;TZID=America/New_York:20260516T090000
DURATION:PT0H60M0S
SUMMARY:Coach Turbide vs Coach L. Williams
DESCRIPTION:6-7 Division | Soccer\nYMCA of Greater Charleston\n
URL;VALUE=URI:https://ygametime.com/branch/cane-bay/sports/2026-spring-soccer/25866/?utm_medium=calendar&utm_source=team_cal&utm_content=league_url#game-598863
LOCATION:Cane Bay Field1D
BEGIN:VALARM
TRIGGER:-P2H
ACTION:DISPLAY
DESCRIPTION:Coach Turbide vs Coach L. Williams
END:VALARM
END:VEVENT
BEGIN:VEVENT
UID:cane-bay-598868@ygametime.com
DTSTAMP:20260530T130000Z
DTSTART;TZID=America/New_York:20260530T090000
DURATION:PT0H60M0S
SUMMARY:Coach Asdell: BPA vs Coach L. Williams
DESCRIPTION:6-7 Division | Soccer\nYMCA of Greater Charleston\n
URL;VALUE=URI:https://ygametime.com/branch/cane-bay/sports/2026-spring-soccer/25866/?utm_medium=calendar&utm_source=team_cal&utm_content=league_url#game-598868
LOCATION:Cane Bay Field1D
BEGIN:VALARM
TRIGGER:-P2H
ACTION:DISPLAY
DESCRIPTION:Coach Asdell: BPA vs Coach L. Williams
END:VALARM
END:VEVENT
BEGIN:VEVENT
UID:cane-bay-598891@ygametime.com
DTSTAMP:20260606T150000Z
DTSTART;TZID=America/New_York:20260606T110000
DURATION:PT0H60M0S
SUMMARY:Coach L. Williams vs Coach Trujillo
DESCRIPTION:6-7 Division | Soccer\nYMCA of Greater Charleston\n
URL;VALUE=URI:https://ygametime.com/branch/cane-bay/sports/2026-spring-soccer/25866/?utm_medium=calendar&utm_source=team_cal&utm_content=league_url#game-598891
LOCATION:Cane Bay Field 1C
BEGIN:VALARM
TRIGGER:-P2H
ACTION:DISPLAY
DESCRIPTION:Coach L. Williams vs Coach Trujillo
END:VALARM
END:VEVENT
END:VCALENDAR

