BEGIN:VCALENDAR
VERSION:2.0
PRODID:-//YGAMETIME.com//YGT iCal Creator//EN
METHOD:PUBLISH
X-PUBLISHED-TTL:PT6H
REFRESH-INTERVAL;VALUE=DURATION:PT6H
CALSCALE:GREGORIAN
X-WR-CALNAME:YGAMETIME CALENDAR
BEGIN:VTIMEZONE
TZID:America/New_York
X-LIC-LOCATION:America/New_York
BEGIN:DAYLIGHT
TZOFFSETFROM:-0500
TZOFFSETTO:-0400
TZNAME:EDT
DTSTART:19700308T020000
RRULE:FREQ=YEARLY;BYMONTH=3;BYDAY=2SU
END:DAYLIGHT
BEGIN:STANDARD
TZOFFSETFROM:-0400
TZOFFSETTO:-0500
TZNAME:EST
DTSTART:19701101T020000
RRULE:FREQ=YEARLY;BYMONTH=11;BYDAY=1SU
END:STANDARD
END:VTIMEZONE
BEGIN:VEVENT
UID:cane-bay-598857@ygametime.com
DTSTAMP:20260328T150000Z
DTSTART;TZID=America/New_York:20260328T110000
DURATION:PT0H60M0S
SUMMARY:Coach Asdell: BPA vs Coach Freberg
DESCRIPTION:6-7 Division | Soccer\nYMCA of Greater Charleston\n
URL;VALUE=URI:https://ygametime.com/branch/cane-bay/sports/2026-spring-soccer/25866/?utm_medium=calendar&utm_source=team_cal&utm_content=league_url#game-598857
LOCATION:Cane Bay Field1D
BEGIN:VALARM
TRIGGER:-P2H
ACTION:DISPLAY
DESCRIPTION:Coach Asdell: BPA vs Coach Freberg
END:VALARM
END:VEVENT
BEGIN:VEVENT
UID:cane-bay-598871@ygametime.com
DTSTAMP:20260418T140000Z
DTSTART;TZID=America/New_York:20260418T100000
DURATION:PT0H60M0S
SUMMARY:Coach Turbide vs Coach Asdell: BPA
DESCRIPTION:6-7 Division | Soccer\nYMCA of Greater Charleston\n
URL;VALUE=URI:https://ygametime.com/branch/cane-bay/sports/2026-spring-soccer/25866/?utm_medium=calendar&utm_source=team_cal&utm_content=league_url#game-598871
LOCATION:Cane Bay Field 1C
BEGIN:VALARM
TRIGGER:-P2H
ACTION:DISPLAY
DESCRIPTION:Coach Turbide vs Coach Asdell: BPA
END:VALARM
END:VEVENT
BEGIN:VEVENT
UID:cane-bay-598880@ygametime.com
DTSTAMP:20260502T140000Z
DTSTART;TZID=America/New_York:20260502T100000
DURATION:PT0H60M0S
SUMMARY:Coach Asdell: BPA vs Coach Behrens
DESCRIPTION:6-7 Division | Soccer\nYMCA of Greater Charleston\n
URL;VALUE=URI:https://ygametime.com/branch/cane-bay/sports/2026-spring-soccer/25866/?utm_medium=calendar&utm_source=team_cal&utm_content=league_url#game-598880
LOCATION:Cane Bay Field 1A
BEGIN:VALARM
TRIGGER:-P2H
ACTION:DISPLAY
DESCRIPTION:Coach Asdell: BPA vs Coach Behrens
END:VALARM
END:VEVENT
BEGIN:VEVENT
UID:cane-bay-598885@ygametime.com
DTSTAMP:20260509T140000Z
DTSTART;TZID=America/New_York:20260509T100000
DURATION:PT0H60M0S
SUMMARY:Coach Torres vs Coach Asdell: BPA
DESCRIPTION:6-7 Division | Soccer\nYMCA of Greater Charleston\n
URL;VALUE=URI:https://ygametime.com/branch/cane-bay/sports/2026-spring-soccer/25866/?utm_medium=calendar&utm_source=team_cal&utm_content=league_url#game-598885
LOCATION:Cane Bay Field 1B
BEGIN:VALARM
TRIGGER:-P2H
ACTION:DISPLAY
DESCRIPTION:Coach Torres vs Coach Asdell: BPA
END:VALARM
END:VEVENT
BEGIN:VEVENT
UID:cane-bay-598860@ygametime.com
DTSTAMP:20260516T140000Z
DTSTART;TZID=America/New_York:20260516T100000
DURATION:PT0H60M0S
SUMMARY:Coach Graham vs Coach Asdell: BPA
DESCRIPTION:6-7 Division | Soccer\nYMCA of Greater Charleston\n
URL;VALUE=URI:https://ygametime.com/branch/cane-bay/sports/2026-spring-soccer/25866/?utm_medium=calendar&utm_source=team_cal&utm_content=league_url#game-598860
LOCATION:Cane Bay Field 1B
BEGIN:VALARM
TRIGGER:-P2H
ACTION:DISPLAY
DESCRIPTION:Coach Graham vs Coach Asdell: BPA
END:VALARM
END:VEVENT
BEGIN:VEVENT
UID:cane-bay-598868@ygametime.com
DTSTAMP:20260530T130000Z
DTSTART;TZID=America/New_York:20260530T090000
DURATION:PT0H60M0S
SUMMARY:Coach Asdell: BPA vs Coach L. Williams
DESCRIPTION:6-7 Division | Soccer\nYMCA of Greater Charleston\n
URL;VALUE=URI:https://ygametime.com/branch/cane-bay/sports/2026-spring-soccer/25866/?utm_medium=calendar&utm_source=team_cal&utm_content=league_url#game-598868
LOCATION:Cane Bay Field1D
BEGIN:VALARM
TRIGGER:-P2H
ACTION:DISPLAY
DESCRIPTION:Coach Asdell: BPA vs Coach L. Williams
END:VALARM
END:VEVENT
BEGIN:VEVENT
UID:cane-bay-598890@ygametime.com
DTSTAMP:20260606T140000Z
DTSTART;TZID=America/New_York:20260606T100000
DURATION:PT0H60M0S
SUMMARY:Coach Asdell: BPA vs Coach Murray
DESCRIPTION:6-7 Division | Soccer\nYMCA of Greater Charleston\n
URL;VALUE=URI:https://ygametime.com/branch/cane-bay/sports/2026-spring-soccer/25866/?utm_medium=calendar&utm_source=team_cal&utm_content=league_url#game-598890
LOCATION:Cane Bay Field 1B
BEGIN:VALARM
TRIGGER:-P2H
ACTION:DISPLAY
DESCRIPTION:Coach Asdell: BPA vs Coach Murray
END:VALARM
END:VEVENT
END:VCALENDAR

