BEGIN:VCALENDAR
VERSION:2.0
PRODID:-//YGAMETIME.com//YGT iCal Creator//EN
METHOD:PUBLISH
X-PUBLISHED-TTL:PT6H
REFRESH-INTERVAL;VALUE=DURATION:PT6H
CALSCALE:GREGORIAN
X-WR-CALNAME:YGAMETIME CALENDAR
BEGIN:VTIMEZONE
TZID:America/New_York
X-LIC-LOCATION:America/New_York
BEGIN:DAYLIGHT
TZOFFSETFROM:-0500
TZOFFSETTO:-0400
TZNAME:EDT
DTSTART:19700308T020000
RRULE:FREQ=YEARLY;BYMONTH=3;BYDAY=2SU
END:DAYLIGHT
BEGIN:STANDARD
TZOFFSETFROM:-0400
TZOFFSETTO:-0500
TZNAME:EST
DTSTART:19701101T020000
RRULE:FREQ=YEARLY;BYMONTH=11;BYDAY=1SU
END:STANDARD
END:VTIMEZONE
BEGIN:VEVENT
UID:cane-bay-598895@ygametime.com
DTSTAMP:20260328T180000Z
DTSTART;TZID=America/New_York:20260328T140000
DURATION:PT0H60M0S
SUMMARY:Coach Bentley vs Coach N. Carter
DESCRIPTION:8-9 Division | Soccer\nYMCA of Greater Charleston\n
URL;VALUE=URI:https://ygametime.com/branch/cane-bay/sports/2026-spring-soccer/25867/?utm_medium=calendar&utm_source=team_cal&utm_content=league_url#game-598895
LOCATION:Cane Bay Field 2A
BEGIN:VALARM
TRIGGER:-P2H
ACTION:DISPLAY
DESCRIPTION:Coach Bentley vs Coach N. Carter
END:VALARM
END:VEVENT
BEGIN:VEVENT
UID:cane-bay-598906@ygametime.com
DTSTAMP:20260418T180000Z
DTSTART;TZID=America/New_York:20260418T140000
DURATION:PT0H60M0S
SUMMARY:Coach N. Carter vs Coach McClung
DESCRIPTION:8-9 Division | Soccer\nYMCA of Greater Charleston\n
URL;VALUE=URI:https://ygametime.com/branch/cane-bay/sports/2026-spring-soccer/25867/?utm_medium=calendar&utm_source=team_cal&utm_content=league_url#game-598906
LOCATION:Cane Bay Field 2A
BEGIN:VALARM
TRIGGER:-P2H
ACTION:DISPLAY
DESCRIPTION:Coach N. Carter vs Coach McClung
END:VALARM
END:VEVENT
BEGIN:VEVENT
UID:cane-bay-598913@ygametime.com
DTSTAMP:20260425T180000Z
DTSTART;TZID=America/New_York:20260425T140000
DURATION:PT0H60M0S
SUMMARY:Coach O'Donnell vs Coach N. Carter
DESCRIPTION:8-9 Division | Soccer\nYMCA of Greater Charleston\n
URL;VALUE=URI:https://ygametime.com/branch/cane-bay/sports/2026-spring-soccer/25867/?utm_medium=calendar&utm_source=team_cal&utm_content=league_url#game-598913
LOCATION:Cane Bay Field 2A
BEGIN:VALARM
TRIGGER:-P2H
ACTION:DISPLAY
DESCRIPTION:Coach O'Donnell vs Coach N. Carter
END:VALARM
END:VEVENT
BEGIN:VEVENT
UID:cane-bay-598915@ygametime.com
DTSTAMP:20260502T180000Z
DTSTART;TZID=America/New_York:20260502T140000
DURATION:PT0H60M0S
SUMMARY:Coach N. Carter vs Coach Murray
DESCRIPTION:8-9 Division | Soccer\nYMCA of Greater Charleston\n
URL;VALUE=URI:https://ygametime.com/branch/cane-bay/sports/2026-spring-soccer/25867/?utm_medium=calendar&utm_source=team_cal&utm_content=league_url#game-598915
LOCATION:Cane Bay Field 2A
BEGIN:VALARM
TRIGGER:-P2H
ACTION:DISPLAY
DESCRIPTION:Coach N. Carter vs Coach Murray
END:VALARM
END:VEVENT
BEGIN:VEVENT
UID:cane-bay-598921@ygametime.com
DTSTAMP:20260509T180000Z
DTSTART;TZID=America/New_York:20260509T140000
DURATION:PT0H60M0S
SUMMARY:BPA vs Coach N. Carter
DESCRIPTION:8-9 Division | Soccer\nYMCA of Greater Charleston\n
URL;VALUE=URI:https://ygametime.com/branch/cane-bay/sports/2026-spring-soccer/25867/?utm_medium=calendar&utm_source=team_cal&utm_content=league_url#game-598921
LOCATION:Cane Bay Field 2A
BEGIN:VALARM
TRIGGER:-P2H
ACTION:DISPLAY
DESCRIPTION:BPA vs Coach N. Carter
END:VALARM
END:VEVENT
BEGIN:VEVENT
UID:cane-bay-598899@ygametime.com
DTSTAMP:20260516T180000Z
DTSTART;TZID=America/New_York:20260516T140000
DURATION:PT0H60M0S
SUMMARY:Coach N. Carter vs MSE
DESCRIPTION:8-9 Division | Soccer\nYMCA of Greater Charleston\n
URL;VALUE=URI:https://ygametime.com/branch/cane-bay/sports/2026-spring-soccer/25867/?utm_medium=calendar&utm_source=team_cal&utm_content=league_url#game-598899
LOCATION:Cane Bay Field 2A
BEGIN:VALARM
TRIGGER:-P2H
ACTION:DISPLAY
DESCRIPTION:Coach N. Carter vs MSE
END:VALARM
END:VEVENT
BEGIN:VEVENT
UID:cane-bay-598902@ygametime.com
DTSTAMP:20260530T180000Z
DTSTART;TZID=America/New_York:20260530T140000
DURATION:PT0H60M0S
SUMMARY:Coach Giordano vs Coach N. Carter
DESCRIPTION:8-9 Division | Soccer\nYMCA of Greater Charleston\n
URL;VALUE=URI:https://ygametime.com/branch/cane-bay/sports/2026-spring-soccer/25867/?utm_medium=calendar&utm_source=team_cal&utm_content=league_url#game-598902
LOCATION:Cane Bay Field 2A
BEGIN:VALARM
TRIGGER:-P2H
ACTION:DISPLAY
DESCRIPTION:Coach Giordano vs Coach N. Carter
END:VALARM
END:VEVENT
BEGIN:VEVENT
UID:cane-bay-599395@ygametime.com
DTSTAMP:20260604T213000Z
DTSTART;TZID=America/New_York:20260604T173000
DURATION:PT0H60M0S
SUMMARY:Coach N. Carter vs -
DESCRIPTION:8-9 Division | Soccer\nYMCA of Greater Charleston\n
URL;VALUE=URI:https://ygametime.com/branch/cane-bay/sports/2026-spring-soccer/25867/?utm_medium=calendar&utm_source=team_cal&utm_content=league_url#game-599395
LOCATION:Cane Bay Field 2B
BEGIN:VALARM
TRIGGER:-P2H
ACTION:DISPLAY
DESCRIPTION:Coach N. Carter vs -
END:VALARM
END:VEVENT
END:VCALENDAR

