BEGIN:VCALENDAR
VERSION:2.0
PRODID:-//YGAMETIME.com//YGT iCal Creator//EN
METHOD:PUBLISH
X-PUBLISHED-TTL:PT6H
REFRESH-INTERVAL;VALUE=DURATION:PT6H
CALSCALE:GREGORIAN
X-WR-CALNAME:YGAMETIME CALENDAR
BEGIN:VTIMEZONE
TZID:America/New_York
X-LIC-LOCATION:America/New_York
BEGIN:DAYLIGHT
TZOFFSETFROM:-0500
TZOFFSETTO:-0400
TZNAME:EDT
DTSTART:19700308T020000
RRULE:FREQ=YEARLY;BYMONTH=3;BYDAY=2SU
END:DAYLIGHT
BEGIN:STANDARD
TZOFFSETFROM:-0400
TZOFFSETTO:-0500
TZNAME:EST
DTSTART:19701101T020000
RRULE:FREQ=YEARLY;BYMONTH=11;BYDAY=1SU
END:STANDARD
END:VTIMEZONE
BEGIN:VEVENT
UID:cane-bay-599384@ygametime.com
DTSTAMP:20260328T130000Z
DTSTART;TZID=America/New_York:20260328T090000
DURATION:PT0H60M0S
SUMMARY:BPA vs Coach Giordano
DESCRIPTION:8-9 Division | Soccer\nYMCA of Greater Charleston\n
URL;VALUE=URI:https://ygametime.com/branch/cane-bay/sports/2026-spring-soccer/25867/?utm_medium=calendar&utm_source=team_cal&utm_content=league_url#game-599384
LOCATION:Cane Bay Field 2A
BEGIN:VALARM
TRIGGER:-P2H
ACTION:DISPLAY
DESCRIPTION:BPA vs Coach Giordano
END:VALARM
END:VEVENT
BEGIN:VEVENT
UID:cane-bay-598908@ygametime.com
DTSTAMP:20260418T170000Z
DTSTART;TZID=America/New_York:20260418T130000
DURATION:PT0H60M0S
SUMMARY:Coach Bentley vs Coach Giordano
DESCRIPTION:8-9 Division | Soccer\nYMCA of Greater Charleston\n
URL;VALUE=URI:https://ygametime.com/branch/cane-bay/sports/2026-spring-soccer/25867/?utm_medium=calendar&utm_source=team_cal&utm_content=league_url#game-598908
LOCATION:Cane Bay Field 2A
BEGIN:VALARM
TRIGGER:-P2H
ACTION:DISPLAY
DESCRIPTION:Coach Bentley vs Coach Giordano
END:VALARM
END:VEVENT
BEGIN:VEVENT
UID:cane-bay-598910@ygametime.com
DTSTAMP:20260425T150000Z
DTSTART;TZID=America/New_York:20260425T110000
DURATION:PT0H60M0S
SUMMARY:Coach Giordano vs MSE
DESCRIPTION:8-9 Division | Soccer\nYMCA of Greater Charleston\n
URL;VALUE=URI:https://ygametime.com/branch/cane-bay/sports/2026-spring-soccer/25867/?utm_medium=calendar&utm_source=team_cal&utm_content=league_url#game-598910
LOCATION:Cane Bay Field 2A
BEGIN:VALARM
TRIGGER:-P2H
ACTION:DISPLAY
DESCRIPTION:Coach Giordano vs MSE
END:VALARM
END:VEVENT
BEGIN:VEVENT
UID:cane-bay-598917@ygametime.com
DTSTAMP:20260502T150000Z
DTSTART;TZID=America/New_York:20260502T110000
DURATION:PT0H60M0S
SUMMARY:Coach J. Williams vs Coach Giordano
DESCRIPTION:8-9 Division | Soccer\nYMCA of Greater Charleston\n
URL;VALUE=URI:https://ygametime.com/branch/cane-bay/sports/2026-spring-soccer/25867/?utm_medium=calendar&utm_source=team_cal&utm_content=league_url#game-598917
LOCATION:Cane Bay Field 2A
BEGIN:VALARM
TRIGGER:-P2H
ACTION:DISPLAY
DESCRIPTION:Coach J. Williams vs Coach Giordano
END:VALARM
END:VEVENT
BEGIN:VEVENT
UID:cane-bay-599388@ygametime.com
DTSTAMP:20260509T130000Z
DTSTART;TZID=America/New_York:20260509T090000
DURATION:PT0H60M0S
SUMMARY:Coach McClung vs Coach Giordano
DESCRIPTION:8-9 Division | Soccer\nYMCA of Greater Charleston\n
URL;VALUE=URI:https://ygametime.com/branch/cane-bay/sports/2026-spring-soccer/25867/?utm_medium=calendar&utm_source=team_cal&utm_content=league_url#game-599388
LOCATION:Cane Bay Field 2A
BEGIN:VALARM
TRIGGER:-P2H
ACTION:DISPLAY
DESCRIPTION:Coach McClung vs Coach Giordano
END:VALARM
END:VEVENT
BEGIN:VEVENT
UID:cane-bay-598900@ygametime.com
DTSTAMP:20260516T150000Z
DTSTART;TZID=America/New_York:20260516T110000
DURATION:PT0H60M0S
SUMMARY:Coach Douglas vs Coach Giordano
DESCRIPTION:8-9 Division | Soccer\nYMCA of Greater Charleston\n
URL;VALUE=URI:https://ygametime.com/branch/cane-bay/sports/2026-spring-soccer/25867/?utm_medium=calendar&utm_source=team_cal&utm_content=league_url#game-598900
LOCATION:Cane Bay Field 2A
BEGIN:VALARM
TRIGGER:-P2H
ACTION:DISPLAY
DESCRIPTION:Coach Douglas vs Coach Giordano
END:VALARM
END:VEVENT
BEGIN:VEVENT
UID:cane-bay-598902@ygametime.com
DTSTAMP:20260530T180000Z
DTSTART;TZID=America/New_York:20260530T140000
DURATION:PT0H60M0S
SUMMARY:Coach Giordano vs Coach N. Carter
DESCRIPTION:8-9 Division | Soccer\nYMCA of Greater Charleston\n
URL;VALUE=URI:https://ygametime.com/branch/cane-bay/sports/2026-spring-soccer/25867/?utm_medium=calendar&utm_source=team_cal&utm_content=league_url#game-598902
LOCATION:Cane Bay Field 2A
BEGIN:VALARM
TRIGGER:-P2H
ACTION:DISPLAY
DESCRIPTION:Coach Giordano vs Coach N. Carter
END:VALARM
END:VEVENT
BEGIN:VEVENT
UID:cane-bay-599394@ygametime.com
DTSTAMP:20260601T223000Z
DTSTART;TZID=America/New_York:20260601T183000
DURATION:PT0H60M0S
SUMMARY:Coach Douglas vs Coach Giordano
DESCRIPTION:8-9 Division | Soccer\nYMCA of Greater Charleston\n
URL;VALUE=URI:https://ygametime.com/branch/cane-bay/sports/2026-spring-soccer/25867/?utm_medium=calendar&utm_source=team_cal&utm_content=league_url#game-599394
LOCATION:Cane Bay Field 2A
BEGIN:VALARM
TRIGGER:-P2H
ACTION:DISPLAY
DESCRIPTION:Coach Douglas vs Coach Giordano
END:VALARM
END:VEVENT
END:VCALENDAR

