BEGIN:VCALENDAR
VERSION:2.0
PRODID:-//YGAMETIME.com//YGT iCal Creator//EN
METHOD:PUBLISH
X-PUBLISHED-TTL:PT6H
REFRESH-INTERVAL;VALUE=DURATION:PT6H
CALSCALE:GREGORIAN
X-WR-CALNAME:YGAMETIME CALENDAR
BEGIN:VTIMEZONE
TZID:America/New_York
X-LIC-LOCATION:America/New_York
BEGIN:DAYLIGHT
TZOFFSETFROM:-0500
TZOFFSETTO:-0400
TZNAME:EDT
DTSTART:19700308T020000
RRULE:FREQ=YEARLY;BYMONTH=3;BYDAY=2SU
END:DAYLIGHT
BEGIN:STANDARD
TZOFFSETFROM:-0400
TZOFFSETTO:-0500
TZNAME:EST
DTSTART:19701101T020000
RRULE:FREQ=YEARLY;BYMONTH=11;BYDAY=1SU
END:STANDARD
END:VTIMEZONE
BEGIN:VEVENT
UID:cane-bay-598961@ygametime.com
DTSTAMP:20260328T150000Z
DTSTART;TZID=America/New_York:20260328T110000
DURATION:PT0H60M0S
SUMMARY:Coach Baty vs Coach Torres
DESCRIPTION:10-12 Division | Soccer\nYMCA of Greater Charleston\n
URL;VALUE=URI:https://ygametime.com/branch/cane-bay/sports/2026-spring-soccer/25868/?utm_medium=calendar&utm_source=team_cal&utm_content=league_url#game-598961
LOCATION:Cane Bay Field 2B
BEGIN:VALARM
TRIGGER:-P2H
ACTION:DISPLAY
DESCRIPTION:Coach Baty vs Coach Torres
END:VALARM
END:VEVENT
BEGIN:VEVENT
UID:cane-bay-598978@ygametime.com
DTSTAMP:20260418T150000Z
DTSTART;TZID=America/New_York:20260418T110000
DURATION:PT0H60M0S
SUMMARY:Coach Torres vs BPA: Coach Lyons
DESCRIPTION:10-12 Division | Soccer\nYMCA of Greater Charleston\n
URL;VALUE=URI:https://ygametime.com/branch/cane-bay/sports/2026-spring-soccer/25868/?utm_medium=calendar&utm_source=team_cal&utm_content=league_url#game-598978
LOCATION:Cane Bay Field 2B
BEGIN:VALARM
TRIGGER:-P2H
ACTION:DISPLAY
DESCRIPTION:Coach Torres vs BPA: Coach Lyons
END:VALARM
END:VEVENT
BEGIN:VEVENT
UID:cane-bay-598982@ygametime.com
DTSTAMP:20260425T150000Z
DTSTART;TZID=America/New_York:20260425T110000
DURATION:PT0H60M0S
SUMMARY:MSE vs Coach Torres
DESCRIPTION:10-12 Division | Soccer\nYMCA of Greater Charleston\n
URL;VALUE=URI:https://ygametime.com/branch/cane-bay/sports/2026-spring-soccer/25868/?utm_medium=calendar&utm_source=team_cal&utm_content=league_url#game-598982
LOCATION:Cane Bay Field 2B
BEGIN:VALARM
TRIGGER:-P2H
ACTION:DISPLAY
DESCRIPTION:MSE vs Coach Torres
END:VALARM
END:VEVENT
BEGIN:VEVENT
UID:cane-bay-598986@ygametime.com
DTSTAMP:20260502T180000Z
DTSTART;TZID=America/New_York:20260502T140000
DURATION:PT0H60M0S
SUMMARY:Coach Torres vs Coach Louis
DESCRIPTION:10-12 Division | Soccer\nYMCA of Greater Charleston\n
URL;VALUE=URI:https://ygametime.com/branch/cane-bay/sports/2026-spring-soccer/25868/?utm_medium=calendar&utm_source=team_cal&utm_content=league_url#game-598986
LOCATION:Cane Bay Field 2B
BEGIN:VALARM
TRIGGER:-P2H
ACTION:DISPLAY
DESCRIPTION:Coach Torres vs Coach Louis
END:VALARM
END:VEVENT
BEGIN:VEVENT
UID:cane-bay-598995@ygametime.com
DTSTAMP:20260509T130000Z
DTSTART;TZID=America/New_York:20260509T090000
DURATION:PT0H60M0S
SUMMARY:Coach J. Williams vs Coach Torres
DESCRIPTION:10-12 Division | Soccer\nYMCA of Greater Charleston\n
URL;VALUE=URI:https://ygametime.com/branch/cane-bay/sports/2026-spring-soccer/25868/?utm_medium=calendar&utm_source=team_cal&utm_content=league_url#game-598995
LOCATION:Cane Bay Field 2B
BEGIN:VALARM
TRIGGER:-P2H
ACTION:DISPLAY
DESCRIPTION:Coach J. Williams vs Coach Torres
END:VALARM
END:VEVENT
BEGIN:VEVENT
UID:cane-bay-598970@ygametime.com
DTSTAMP:20260516T130000Z
DTSTART;TZID=America/New_York:20260516T090000
DURATION:PT0H60M0S
SUMMARY:Coach Torres vs Coach Vogel
DESCRIPTION:10-12 Division | Soccer\nYMCA of Greater Charleston\n
URL;VALUE=URI:https://ygametime.com/branch/cane-bay/sports/2026-spring-soccer/25868/?utm_medium=calendar&utm_source=team_cal&utm_content=league_url#game-598970
LOCATION:Cane Bay Field 2B
BEGIN:VALARM
TRIGGER:-P2H
ACTION:DISPLAY
DESCRIPTION:Coach Torres vs Coach Vogel
END:VALARM
END:VEVENT
BEGIN:VEVENT
UID:cane-bay-598974@ygametime.com
DTSTAMP:20260530T150000Z
DTSTART;TZID=America/New_York:20260530T110000
DURATION:PT0H60M0S
SUMMARY:Coach Murray vs Coach Torres
DESCRIPTION:10-12 Division | Soccer\nYMCA of Greater Charleston\n
URL;VALUE=URI:https://ygametime.com/branch/cane-bay/sports/2026-spring-soccer/25868/?utm_medium=calendar&utm_source=team_cal&utm_content=league_url#game-598974
LOCATION:Cane Bay Field 2B
BEGIN:VALARM
TRIGGER:-P2H
ACTION:DISPLAY
DESCRIPTION:Coach Murray vs Coach Torres
END:VALARM
END:VEVENT
BEGIN:VEVENT
UID:cane-bay-599074@ygametime.com
DTSTAMP:20260604T223000Z
DTSTART;TZID=America/New_York:20260604T183000
DURATION:PT0H60M0S
SUMMARY:Coach Torres vs -
DESCRIPTION:10-12 Division | Soccer\nYMCA of Greater Charleston\n
URL;VALUE=URI:https://ygametime.com/branch/cane-bay/sports/2026-spring-soccer/25868/?utm_medium=calendar&utm_source=team_cal&utm_content=league_url#game-599074
LOCATION:Cane Bay Field 2A
BEGIN:VALARM
TRIGGER:-P2H
ACTION:DISPLAY
DESCRIPTION:Coach Torres vs -
END:VALARM
END:VEVENT
END:VCALENDAR

