BEGIN:VCALENDAR
VERSION:2.0
PRODID:-//YGAMETIME.com//YGT iCal Creator//EN
METHOD:PUBLISH
X-PUBLISHED-TTL:PT6H
REFRESH-INTERVAL;VALUE=DURATION:PT6H
CALSCALE:GREGORIAN
X-WR-CALNAME:YGAMETIME CALENDAR
BEGIN:VTIMEZONE
TZID:America/New_York
X-LIC-LOCATION:America/New_York
BEGIN:DAYLIGHT
TZOFFSETFROM:-0500
TZOFFSETTO:-0400
TZNAME:EDT
DTSTART:19700308T020000
RRULE:FREQ=YEARLY;BYMONTH=3;BYDAY=2SU
END:DAYLIGHT
BEGIN:STANDARD
TZOFFSETFROM:-0400
TZOFFSETTO:-0500
TZNAME:EST
DTSTART:19701101T020000
RRULE:FREQ=YEARLY;BYMONTH=11;BYDAY=1SU
END:STANDARD
END:VTIMEZONE
BEGIN:VEVENT
UID:cane-bay-598963@ygametime.com
DTSTAMP:20260328T170000Z
DTSTART;TZID=America/New_York:20260328T130000
DURATION:PT0H60M0S
SUMMARY:Coach Waller vs Coach Murray
DESCRIPTION:10-12 Division | Soccer\nYMCA of Greater Charleston\n
URL;VALUE=URI:https://ygametime.com/branch/cane-bay/sports/2026-spring-soccer/25868/?utm_medium=calendar&utm_source=team_cal&utm_content=league_url#game-598963
LOCATION:Cane Bay Field 2B
BEGIN:VALARM
TRIGGER:-P2H
ACTION:DISPLAY
DESCRIPTION:Coach Waller vs Coach Murray
END:VALARM
END:VEVENT
BEGIN:VEVENT
UID:cane-bay-598977@ygametime.com
DTSTAMP:20260418T160000Z
DTSTART;TZID=America/New_York:20260418T120000
DURATION:PT0H60M0S
SUMMARY:Coach Nowak vs Coach Waller
DESCRIPTION:10-12 Division | Soccer\nYMCA of Greater Charleston\n
URL;VALUE=URI:https://ygametime.com/branch/cane-bay/sports/2026-spring-soccer/25868/?utm_medium=calendar&utm_source=team_cal&utm_content=league_url#game-598977
LOCATION:Cane Bay Field 2B
BEGIN:VALARM
TRIGGER:-P2H
ACTION:DISPLAY
DESCRIPTION:Coach Nowak vs Coach Waller
END:VALARM
END:VEVENT
BEGIN:VEVENT
UID:cane-bay-598985@ygametime.com
DTSTAMP:20260425T130000Z
DTSTART;TZID=America/New_York:20260425T090000
DURATION:PT0H60M0S
SUMMARY:Coach Waller vs Coach Vogel
DESCRIPTION:10-12 Division | Soccer\nYMCA of Greater Charleston\n
URL;VALUE=URI:https://ygametime.com/branch/cane-bay/sports/2026-spring-soccer/25868/?utm_medium=calendar&utm_source=team_cal&utm_content=league_url#game-598985
LOCATION:Cane Bay Field 2B
BEGIN:VALARM
TRIGGER:-P2H
ACTION:DISPLAY
DESCRIPTION:Coach Waller vs Coach Vogel
END:VALARM
END:VEVENT
BEGIN:VEVENT
UID:cane-bay-598988@ygametime.com
DTSTAMP:20260502T170000Z
DTSTART;TZID=America/New_York:20260502T130000
DURATION:PT0H60M0S
SUMMARY:BPA: Coach Lyons vs Coach Waller
DESCRIPTION:10-12 Division | Soccer\nYMCA of Greater Charleston\n
URL;VALUE=URI:https://ygametime.com/branch/cane-bay/sports/2026-spring-soccer/25868/?utm_medium=calendar&utm_source=team_cal&utm_content=league_url#game-598988
LOCATION:Cane Bay Field 2B
BEGIN:VALARM
TRIGGER:-P2H
ACTION:DISPLAY
DESCRIPTION:BPA: Coach Lyons vs Coach Waller
END:VALARM
END:VEVENT
BEGIN:VEVENT
UID:cane-bay-598991@ygametime.com
DTSTAMP:20260509T150000Z
DTSTART;TZID=America/New_York:20260509T110000
DURATION:PT0H60M0S
SUMMARY:Coach Waller vs Coach Louis
DESCRIPTION:10-12 Division | Soccer\nYMCA of Greater Charleston\n
URL;VALUE=URI:https://ygametime.com/branch/cane-bay/sports/2026-spring-soccer/25868/?utm_medium=calendar&utm_source=team_cal&utm_content=league_url#game-598991
LOCATION:Cane Bay Field 2B
BEGIN:VALARM
TRIGGER:-P2H
ACTION:DISPLAY
DESCRIPTION:Coach Waller vs Coach Louis
END:VALARM
END:VEVENT
BEGIN:VEVENT
UID:cane-bay-598968@ygametime.com
DTSTAMP:20260516T170000Z
DTSTART;TZID=America/New_York:20260516T130000
DURATION:PT0H60M0S
SUMMARY:MSE vs Coach Waller
DESCRIPTION:10-12 Division | Soccer\nYMCA of Greater Charleston\n
URL;VALUE=URI:https://ygametime.com/branch/cane-bay/sports/2026-spring-soccer/25868/?utm_medium=calendar&utm_source=team_cal&utm_content=league_url#game-598968
LOCATION:Cane Bay Field 2B
BEGIN:VALARM
TRIGGER:-P2H
ACTION:DISPLAY
DESCRIPTION:MSE vs Coach Waller
END:VALARM
END:VEVENT
BEGIN:VEVENT
UID:cane-bay-598973@ygametime.com
DTSTAMP:20260530T170000Z
DTSTART;TZID=America/New_York:20260530T130000
DURATION:PT0H60M0S
SUMMARY:Coach Waller vs Coach J. Williams
DESCRIPTION:10-12 Division | Soccer\nYMCA of Greater Charleston\n
URL;VALUE=URI:https://ygametime.com/branch/cane-bay/sports/2026-spring-soccer/25868/?utm_medium=calendar&utm_source=team_cal&utm_content=league_url#game-598973
LOCATION:Cane Bay Field 2B
BEGIN:VALARM
TRIGGER:-P2H
ACTION:DISPLAY
DESCRIPTION:Coach Waller vs Coach J. Williams
END:VALARM
END:VEVENT
BEGIN:VEVENT
UID:cane-bay-599077@ygametime.com
DTSTAMP:20260604T233000Z
DTSTART;TZID=America/New_York:20260604T193000
DURATION:PT0H60M0S
SUMMARY:Coach Waller vs Coach Baty
DESCRIPTION:10-12 Division | Soccer\nYMCA of Greater Charleston\n
URL;VALUE=URI:https://ygametime.com/branch/cane-bay/sports/2026-spring-soccer/25868/?utm_medium=calendar&utm_source=team_cal&utm_content=league_url#game-599077
LOCATION:Cane Bay Field 2B
BEGIN:VALARM
TRIGGER:-P2H
ACTION:DISPLAY
DESCRIPTION:Coach Waller vs Coach Baty
END:VALARM
END:VEVENT
END:VCALENDAR

