BEGIN:VCALENDAR
VERSION:2.0
PRODID:-//YGAMETIME.com//YGT iCal Creator//EN
METHOD:PUBLISH
X-PUBLISHED-TTL:PT6H
REFRESH-INTERVAL;VALUE=DURATION:PT6H
CALSCALE:GREGORIAN
X-WR-CALNAME:YGAMETIME CALENDAR
BEGIN:VTIMEZONE
TZID:America/New_York
X-LIC-LOCATION:America/New_York
BEGIN:DAYLIGHT
TZOFFSETFROM:-0500
TZOFFSETTO:-0400
TZNAME:EDT
DTSTART:19700308T020000
RRULE:FREQ=YEARLY;BYMONTH=3;BYDAY=2SU
END:DAYLIGHT
BEGIN:STANDARD
TZOFFSETFROM:-0400
TZOFFSETTO:-0500
TZNAME:EST
DTSTART:19701101T020000
RRULE:FREQ=YEARLY;BYMONTH=11;BYDAY=1SU
END:STANDARD
END:VTIMEZONE
BEGIN:VEVENT
UID:cane-bay-598965@ygametime.com
DTSTAMP:20260328T130000Z
DTSTART;TZID=America/New_York:20260328T090000
DURATION:PT0H60M0S
SUMMARY:Coach Louis vs MSE
DESCRIPTION:10-12 Division | Soccer\nYMCA of Greater Charleston\n
URL;VALUE=URI:https://ygametime.com/branch/cane-bay/sports/2026-spring-soccer/25868/?utm_medium=calendar&utm_source=team_cal&utm_content=league_url#game-598965
LOCATION:Cane Bay Field 2B
BEGIN:VALARM
TRIGGER:-P2H
ACTION:DISPLAY
DESCRIPTION:Coach Louis vs MSE
END:VALARM
END:VEVENT
BEGIN:VEVENT
UID:cane-bay-598980@ygametime.com
DTSTAMP:20260418T130000Z
DTSTART;TZID=America/New_York:20260418T090000
DURATION:PT0H60M0S
SUMMARY:Coach Vogel vs Coach Louis
DESCRIPTION:10-12 Division | Soccer\nYMCA of Greater Charleston\n
URL;VALUE=URI:https://ygametime.com/branch/cane-bay/sports/2026-spring-soccer/25868/?utm_medium=calendar&utm_source=team_cal&utm_content=league_url#game-598980
LOCATION:Cane Bay Field 2B
BEGIN:VALARM
TRIGGER:-P2H
ACTION:DISPLAY
DESCRIPTION:Coach Vogel vs Coach Louis
END:VALARM
END:VEVENT
BEGIN:VEVENT
UID:cane-bay-598983@ygametime.com
DTSTAMP:20260425T170000Z
DTSTART;TZID=America/New_York:20260425T130000
DURATION:PT0H60M0S
SUMMARY:Coach Louis vs BPA: Coach Lyons
DESCRIPTION:10-12 Division | Soccer\nYMCA of Greater Charleston\n
URL;VALUE=URI:https://ygametime.com/branch/cane-bay/sports/2026-spring-soccer/25868/?utm_medium=calendar&utm_source=team_cal&utm_content=league_url#game-598983
LOCATION:Cane Bay Field 2B
BEGIN:VALARM
TRIGGER:-P2H
ACTION:DISPLAY
DESCRIPTION:Coach Louis vs BPA: Coach Lyons
END:VALARM
END:VEVENT
BEGIN:VEVENT
UID:cane-bay-598986@ygametime.com
DTSTAMP:20260502T180000Z
DTSTART;TZID=America/New_York:20260502T140000
DURATION:PT0H60M0S
SUMMARY:Coach Torres vs Coach Louis
DESCRIPTION:10-12 Division | Soccer\nYMCA of Greater Charleston\n
URL;VALUE=URI:https://ygametime.com/branch/cane-bay/sports/2026-spring-soccer/25868/?utm_medium=calendar&utm_source=team_cal&utm_content=league_url#game-598986
LOCATION:Cane Bay Field 2B
BEGIN:VALARM
TRIGGER:-P2H
ACTION:DISPLAY
DESCRIPTION:Coach Torres vs Coach Louis
END:VALARM
END:VEVENT
BEGIN:VEVENT
UID:cane-bay-598991@ygametime.com
DTSTAMP:20260509T150000Z
DTSTART;TZID=America/New_York:20260509T110000
DURATION:PT0H60M0S
SUMMARY:Coach Waller vs Coach Louis
DESCRIPTION:10-12 Division | Soccer\nYMCA of Greater Charleston\n
URL;VALUE=URI:https://ygametime.com/branch/cane-bay/sports/2026-spring-soccer/25868/?utm_medium=calendar&utm_source=team_cal&utm_content=league_url#game-598991
LOCATION:Cane Bay Field 2B
BEGIN:VALARM
TRIGGER:-P2H
ACTION:DISPLAY
DESCRIPTION:Coach Waller vs Coach Louis
END:VALARM
END:VEVENT
BEGIN:VEVENT
UID:cane-bay-598969@ygametime.com
DTSTAMP:20260516T160000Z
DTSTART;TZID=America/New_York:20260516T120000
DURATION:PT0H60M0S
SUMMARY:Coach J. Williams vs Coach Louis
DESCRIPTION:10-12 Division | Soccer\nYMCA of Greater Charleston\n
URL;VALUE=URI:https://ygametime.com/branch/cane-bay/sports/2026-spring-soccer/25868/?utm_medium=calendar&utm_source=team_cal&utm_content=league_url#game-598969
LOCATION:Cane Bay Field 2B
BEGIN:VALARM
TRIGGER:-P2H
ACTION:DISPLAY
DESCRIPTION:Coach J. Williams vs Coach Louis
END:VALARM
END:VEVENT
BEGIN:VEVENT
UID:cane-bay-598972@ygametime.com
DTSTAMP:20260530T160000Z
DTSTART;TZID=America/New_York:20260530T120000
DURATION:PT0H60M0S
SUMMARY:Coach Louis vs Coach Nowak
DESCRIPTION:10-12 Division | Soccer\nYMCA of Greater Charleston\n
URL;VALUE=URI:https://ygametime.com/branch/cane-bay/sports/2026-spring-soccer/25868/?utm_medium=calendar&utm_source=team_cal&utm_content=league_url#game-598972
LOCATION:Cane Bay Field 2B
BEGIN:VALARM
TRIGGER:-P2H
ACTION:DISPLAY
DESCRIPTION:Coach Louis vs Coach Nowak
END:VALARM
END:VEVENT
BEGIN:VEVENT
UID:cane-bay-599075@ygametime.com
DTSTAMP:20260604T223000Z
DTSTART;TZID=America/New_York:20260604T183000
DURATION:PT0H60M0S
SUMMARY:Coach J. Williams vs Coach Louis
DESCRIPTION:10-12 Division | Soccer\nYMCA of Greater Charleston\n
URL;VALUE=URI:https://ygametime.com/branch/cane-bay/sports/2026-spring-soccer/25868/?utm_medium=calendar&utm_source=team_cal&utm_content=league_url#game-599075
LOCATION:Cane Bay Field 2B
BEGIN:VALARM
TRIGGER:-P2H
ACTION:DISPLAY
DESCRIPTION:Coach J. Williams vs Coach Louis
END:VALARM
END:VEVENT
END:VCALENDAR

