BEGIN:VCALENDAR
VERSION:2.0
PRODID:-//YGAMETIME.com//YGT iCal Creator//EN
METHOD:PUBLISH
X-PUBLISHED-TTL:PT6H
REFRESH-INTERVAL;VALUE=DURATION:PT6H
CALSCALE:GREGORIAN
X-WR-CALNAME:YGAMETIME CALENDAR
BEGIN:VTIMEZONE
TZID:America/New_York
X-LIC-LOCATION:America/New_York
BEGIN:DAYLIGHT
TZOFFSETFROM:-0500
TZOFFSETTO:-0400
TZNAME:EDT
DTSTART:19700308T020000
RRULE:FREQ=YEARLY;BYMONTH=3;BYDAY=2SU
END:DAYLIGHT
BEGIN:STANDARD
TZOFFSETFROM:-0400
TZOFFSETTO:-0500
TZNAME:EST
DTSTART:19701101T020000
RRULE:FREQ=YEARLY;BYMONTH=11;BYDAY=1SU
END:STANDARD
END:VTIMEZONE
BEGIN:VEVENT
UID:cane-bay-598961@ygametime.com
DTSTAMP:20260328T150000Z
DTSTART;TZID=America/New_York:20260328T110000
DURATION:PT0H60M0S
SUMMARY:Coach Baty vs Coach Torres
DESCRIPTION:10-12 Division | Soccer\nYMCA of Greater Charleston\n
URL;VALUE=URI:https://ygametime.com/branch/cane-bay/sports/2026-spring-soccer/25868/?utm_medium=calendar&utm_source=team_cal&utm_content=league_url#game-598961
LOCATION:Cane Bay Field 2B
BEGIN:VALARM
TRIGGER:-P2H
ACTION:DISPLAY
DESCRIPTION:Coach Baty vs Coach Torres
END:VALARM
END:VEVENT
BEGIN:VEVENT
UID:cane-bay-598976@ygametime.com
DTSTAMP:20260418T170000Z
DTSTART;TZID=America/New_York:20260418T130000
DURATION:PT0H60M0S
SUMMARY:Coach J. Williams vs Coach Baty
DESCRIPTION:10-12 Division | Soccer\nYMCA of Greater Charleston\n
URL;VALUE=URI:https://ygametime.com/branch/cane-bay/sports/2026-spring-soccer/25868/?utm_medium=calendar&utm_source=team_cal&utm_content=league_url#game-598976
LOCATION:Cane Bay Field 2B
BEGIN:VALARM
TRIGGER:-P2H
ACTION:DISPLAY
DESCRIPTION:Coach J. Williams vs Coach Baty
END:VALARM
END:VEVENT
BEGIN:VEVENT
UID:cane-bay-598981@ygametime.com
DTSTAMP:20260425T160000Z
DTSTART;TZID=America/New_York:20260425T120000
DURATION:PT0H60M0S
SUMMARY:Coach Baty vs Coach Nowak
DESCRIPTION:10-12 Division | Soccer\nYMCA of Greater Charleston\n
URL;VALUE=URI:https://ygametime.com/branch/cane-bay/sports/2026-spring-soccer/25868/?utm_medium=calendar&utm_source=team_cal&utm_content=league_url#game-598981
LOCATION:Cane Bay Field 2B
BEGIN:VALARM
TRIGGER:-P2H
ACTION:DISPLAY
DESCRIPTION:Coach Baty vs Coach Nowak
END:VALARM
END:VEVENT
BEGIN:VEVENT
UID:cane-bay-598990@ygametime.com
DTSTAMP:20260502T130000Z
DTSTART;TZID=America/New_York:20260502T090000
DURATION:PT0H60M0S
SUMMARY:Coach Vogel vs Coach Baty
DESCRIPTION:10-12 Division | Soccer\nYMCA of Greater Charleston\n
URL;VALUE=URI:https://ygametime.com/branch/cane-bay/sports/2026-spring-soccer/25868/?utm_medium=calendar&utm_source=team_cal&utm_content=league_url#game-598990
LOCATION:Cane Bay Field 2B
BEGIN:VALARM
TRIGGER:-P2H
ACTION:DISPLAY
DESCRIPTION:Coach Vogel vs Coach Baty
END:VALARM
END:VEVENT
BEGIN:VEVENT
UID:cane-bay-598993@ygametime.com
DTSTAMP:20260509T170000Z
DTSTART;TZID=America/New_York:20260509T130000
DURATION:PT0H60M0S
SUMMARY:Coach Baty vs BPA: Coach Lyons
DESCRIPTION:10-12 Division | Soccer\nYMCA of Greater Charleston\n
URL;VALUE=URI:https://ygametime.com/branch/cane-bay/sports/2026-spring-soccer/25868/?utm_medium=calendar&utm_source=team_cal&utm_content=league_url#game-598993
LOCATION:Cane Bay Field 2B
BEGIN:VALARM
TRIGGER:-P2H
ACTION:DISPLAY
DESCRIPTION:Coach Baty vs BPA: Coach Lyons
END:VALARM
END:VEVENT
BEGIN:VEVENT
UID:cane-bay-598966@ygametime.com
DTSTAMP:20260516T150000Z
DTSTART;TZID=America/New_York:20260516T110000
DURATION:PT0H60M0S
SUMMARY:Coach Murray vs Coach Baty
DESCRIPTION:10-12 Division | Soccer\nYMCA of Greater Charleston\n
URL;VALUE=URI:https://ygametime.com/branch/cane-bay/sports/2026-spring-soccer/25868/?utm_medium=calendar&utm_source=team_cal&utm_content=league_url#game-598966
LOCATION:Cane Bay Field 2B
BEGIN:VALARM
TRIGGER:-P2H
ACTION:DISPLAY
DESCRIPTION:Coach Murray vs Coach Baty
END:VALARM
END:VEVENT
BEGIN:VEVENT
UID:cane-bay-598971@ygametime.com
DTSTAMP:20260530T180000Z
DTSTART;TZID=America/New_York:20260530T140000
DURATION:PT0H60M0S
SUMMARY:Coach Baty vs MSE
DESCRIPTION:10-12 Division | Soccer\nYMCA of Greater Charleston\n
URL;VALUE=URI:https://ygametime.com/branch/cane-bay/sports/2026-spring-soccer/25868/?utm_medium=calendar&utm_source=team_cal&utm_content=league_url#game-598971
LOCATION:Cane Bay Field 2B
BEGIN:VALARM
TRIGGER:-P2H
ACTION:DISPLAY
DESCRIPTION:Coach Baty vs MSE
END:VALARM
END:VEVENT
BEGIN:VEVENT
UID:cane-bay-599077@ygametime.com
DTSTAMP:20260604T233000Z
DTSTART;TZID=America/New_York:20260604T193000
DURATION:PT0H60M0S
SUMMARY:Coach Waller vs Coach Baty
DESCRIPTION:10-12 Division | Soccer\nYMCA of Greater Charleston\n
URL;VALUE=URI:https://ygametime.com/branch/cane-bay/sports/2026-spring-soccer/25868/?utm_medium=calendar&utm_source=team_cal&utm_content=league_url#game-599077
LOCATION:Cane Bay Field 2B
BEGIN:VALARM
TRIGGER:-P2H
ACTION:DISPLAY
DESCRIPTION:Coach Waller vs Coach Baty
END:VALARM
END:VEVENT
END:VCALENDAR

