BEGIN:VCALENDAR
VERSION:2.0
PRODID:-//YGAMETIME.com//YGT iCal Creator//EN
METHOD:PUBLISH
X-PUBLISHED-TTL:PT6H
REFRESH-INTERVAL;VALUE=DURATION:PT6H
CALSCALE:GREGORIAN
X-WR-CALNAME:YGAMETIME CALENDAR
BEGIN:VTIMEZONE
TZID:America/New_York
X-LIC-LOCATION:America/New_York
BEGIN:DAYLIGHT
TZOFFSETFROM:-0500
TZOFFSETTO:-0400
TZNAME:EDT
DTSTART:19700308T020000
RRULE:FREQ=YEARLY;BYMONTH=3;BYDAY=2SU
END:DAYLIGHT
BEGIN:STANDARD
TZOFFSETFROM:-0400
TZOFFSETTO:-0500
TZNAME:EST
DTSTART:19701101T020000
RRULE:FREQ=YEARLY;BYMONTH=11;BYDAY=1SU
END:STANDARD
END:VTIMEZONE
BEGIN:VEVENT
UID:cane-bay-598964@ygametime.com
DTSTAMP:20260328T160000Z
DTSTART;TZID=America/New_York:20260328T120000
DURATION:PT0H60M0S
SUMMARY:BPA: Coach Lyons vs Coach J. Williams
DESCRIPTION:10-12 Division | Soccer\nYMCA of Greater Charleston\n
URL;VALUE=URI:https://ygametime.com/branch/cane-bay/sports/2026-spring-soccer/25868/?utm_medium=calendar&utm_source=team_cal&utm_content=league_url#game-598964
LOCATION:Cane Bay Field 2B
BEGIN:VALARM
TRIGGER:-P2H
ACTION:DISPLAY
DESCRIPTION:BPA: Coach Lyons vs Coach J. Williams
END:VALARM
END:VEVENT
BEGIN:VEVENT
UID:cane-bay-598978@ygametime.com
DTSTAMP:20260418T150000Z
DTSTART;TZID=America/New_York:20260418T110000
DURATION:PT0H60M0S
SUMMARY:Coach Torres vs BPA: Coach Lyons
DESCRIPTION:10-12 Division | Soccer\nYMCA of Greater Charleston\n
URL;VALUE=URI:https://ygametime.com/branch/cane-bay/sports/2026-spring-soccer/25868/?utm_medium=calendar&utm_source=team_cal&utm_content=league_url#game-598978
LOCATION:Cane Bay Field 2B
BEGIN:VALARM
TRIGGER:-P2H
ACTION:DISPLAY
DESCRIPTION:Coach Torres vs BPA: Coach Lyons
END:VALARM
END:VEVENT
BEGIN:VEVENT
UID:cane-bay-598983@ygametime.com
DTSTAMP:20260425T170000Z
DTSTART;TZID=America/New_York:20260425T130000
DURATION:PT0H60M0S
SUMMARY:Coach Louis vs BPA: Coach Lyons
DESCRIPTION:10-12 Division | Soccer\nYMCA of Greater Charleston\n
URL;VALUE=URI:https://ygametime.com/branch/cane-bay/sports/2026-spring-soccer/25868/?utm_medium=calendar&utm_source=team_cal&utm_content=league_url#game-598983
LOCATION:Cane Bay Field 2B
BEGIN:VALARM
TRIGGER:-P2H
ACTION:DISPLAY
DESCRIPTION:Coach Louis vs BPA: Coach Lyons
END:VALARM
END:VEVENT
BEGIN:VEVENT
UID:cane-bay-598988@ygametime.com
DTSTAMP:20260502T170000Z
DTSTART;TZID=America/New_York:20260502T130000
DURATION:PT0H60M0S
SUMMARY:BPA: Coach Lyons vs Coach Waller
DESCRIPTION:10-12 Division | Soccer\nYMCA of Greater Charleston\n
URL;VALUE=URI:https://ygametime.com/branch/cane-bay/sports/2026-spring-soccer/25868/?utm_medium=calendar&utm_source=team_cal&utm_content=league_url#game-598988
LOCATION:Cane Bay Field 2B
BEGIN:VALARM
TRIGGER:-P2H
ACTION:DISPLAY
DESCRIPTION:BPA: Coach Lyons vs Coach Waller
END:VALARM
END:VEVENT
BEGIN:VEVENT
UID:cane-bay-598993@ygametime.com
DTSTAMP:20260509T170000Z
DTSTART;TZID=America/New_York:20260509T130000
DURATION:PT0H60M0S
SUMMARY:Coach Baty vs BPA: Coach Lyons
DESCRIPTION:10-12 Division | Soccer\nYMCA of Greater Charleston\n
URL;VALUE=URI:https://ygametime.com/branch/cane-bay/sports/2026-spring-soccer/25868/?utm_medium=calendar&utm_source=team_cal&utm_content=league_url#game-598993
LOCATION:Cane Bay Field 2B
BEGIN:VALARM
TRIGGER:-P2H
ACTION:DISPLAY
DESCRIPTION:Coach Baty vs BPA: Coach Lyons
END:VALARM
END:VEVENT
BEGIN:VEVENT
UID:cane-bay-598967@ygametime.com
DTSTAMP:20260516T180000Z
DTSTART;TZID=America/New_York:20260516T140000
DURATION:PT0H60M0S
SUMMARY:Coach Nowak vs BPA: Coach Lyons
DESCRIPTION:10-12 Division | Soccer\nYMCA of Greater Charleston\n
URL;VALUE=URI:https://ygametime.com/branch/cane-bay/sports/2026-spring-soccer/25868/?utm_medium=calendar&utm_source=team_cal&utm_content=league_url#game-598967
LOCATION:Cane Bay Field 2B
BEGIN:VALARM
TRIGGER:-P2H
ACTION:DISPLAY
DESCRIPTION:Coach Nowak vs BPA: Coach Lyons
END:VALARM
END:VEVENT
BEGIN:VEVENT
UID:cane-bay-598975@ygametime.com
DTSTAMP:20260530T130000Z
DTSTART;TZID=America/New_York:20260530T090000
DURATION:PT0H60M0S
SUMMARY:BPA: Coach Lyons vs Coach Vogel
DESCRIPTION:10-12 Division | Soccer\nYMCA of Greater Charleston\n
URL;VALUE=URI:https://ygametime.com/branch/cane-bay/sports/2026-spring-soccer/25868/?utm_medium=calendar&utm_source=team_cal&utm_content=league_url#game-598975
LOCATION:Cane Bay Field 2B
BEGIN:VALARM
TRIGGER:-P2H
ACTION:DISPLAY
DESCRIPTION:BPA: Coach Lyons vs Coach Vogel
END:VALARM
END:VEVENT
BEGIN:VEVENT
UID:cane-bay-599072@ygametime.com
DTSTAMP:20260601T233000Z
DTSTART;TZID=America/New_York:20260601T193000
DURATION:PT0H60M0S
SUMMARY:Coach Murray vs BPA: Coach Lyons
DESCRIPTION:10-12 Division | Soccer\nYMCA of Greater Charleston\n
URL;VALUE=URI:https://ygametime.com/branch/cane-bay/sports/2026-spring-soccer/25868/?utm_medium=calendar&utm_source=team_cal&utm_content=league_url#game-599072
LOCATION:Cane Bay Field 2A
BEGIN:VALARM
TRIGGER:-P2H
ACTION:DISPLAY
DESCRIPTION:Coach Murray vs BPA: Coach Lyons
END:VALARM
END:VEVENT
END:VCALENDAR

