BEGIN:VCALENDAR
VERSION:2.0
PRODID:-//YGAMETIME.com//YGT iCal Creator//EN
METHOD:PUBLISH
X-PUBLISHED-TTL:PT6H
REFRESH-INTERVAL;VALUE=DURATION:PT6H
CALSCALE:GREGORIAN
X-WR-CALNAME:YGAMETIME CALENDAR
BEGIN:VTIMEZONE
TZID:America/New_York
X-LIC-LOCATION:America/New_York
BEGIN:DAYLIGHT
TZOFFSETFROM:-0500
TZOFFSETTO:-0400
TZNAME:EDT
DTSTART:19700308T020000
RRULE:FREQ=YEARLY;BYMONTH=3;BYDAY=2SU
END:DAYLIGHT
BEGIN:STANDARD
TZOFFSETFROM:-0400
TZOFFSETTO:-0500
TZNAME:EST
DTSTART:19701101T020000
RRULE:FREQ=YEARLY;BYMONTH=11;BYDAY=1SU
END:STANDARD
END:VTIMEZONE
BEGIN:VEVENT
UID:cane-bay-598897@ygametime.com
DTSTAMP:20260328T160000Z
DTSTART;TZID=America/New_York:20260328T120000
DURATION:PT0H60M0S
SUMMARY:MSE vs Coach Douglas
DESCRIPTION:8-9 Division | Soccer\nYMCA of Greater Charleston\n
URL;VALUE=URI:https://ygametime.com/branch/cane-bay/sports/2026-spring-soccer/25867/?utm_medium=calendar&utm_source=team_cal&utm_content=league_url#game-598897
LOCATION:Cane Bay Field 2A
BEGIN:VALARM
TRIGGER:-P2H
ACTION:DISPLAY
DESCRIPTION:MSE vs Coach Douglas
END:VALARM
END:VEVENT
BEGIN:VEVENT
UID:cane-bay-598907@ygametime.com
DTSTAMP:20260418T160000Z
DTSTART;TZID=America/New_York:20260418T120000
DURATION:PT0H60M0S
SUMMARY:Coach J. Williams vs MSE
DESCRIPTION:8-9 Division | Soccer\nYMCA of Greater Charleston\n
URL;VALUE=URI:https://ygametime.com/branch/cane-bay/sports/2026-spring-soccer/25867/?utm_medium=calendar&utm_source=team_cal&utm_content=league_url#game-598907
LOCATION:Cane Bay Field 2A
BEGIN:VALARM
TRIGGER:-P2H
ACTION:DISPLAY
DESCRIPTION:Coach J. Williams vs MSE
END:VALARM
END:VEVENT
BEGIN:VEVENT
UID:cane-bay-598910@ygametime.com
DTSTAMP:20260425T150000Z
DTSTART;TZID=America/New_York:20260425T110000
DURATION:PT0H60M0S
SUMMARY:Coach Giordano vs MSE
DESCRIPTION:8-9 Division | Soccer\nYMCA of Greater Charleston\n
URL;VALUE=URI:https://ygametime.com/branch/cane-bay/sports/2026-spring-soccer/25867/?utm_medium=calendar&utm_source=team_cal&utm_content=league_url#game-598910
LOCATION:Cane Bay Field 2A
BEGIN:VALARM
TRIGGER:-P2H
ACTION:DISPLAY
DESCRIPTION:Coach Giordano vs MSE
END:VALARM
END:VEVENT
BEGIN:VEVENT
UID:cane-bay-598914@ygametime.com
DTSTAMP:20260502T160000Z
DTSTART;TZID=America/New_York:20260502T120000
DURATION:PT0H60M0S
SUMMARY:MSE vs Coach McClung
DESCRIPTION:8-9 Division | Soccer\nYMCA of Greater Charleston\n
URL;VALUE=URI:https://ygametime.com/branch/cane-bay/sports/2026-spring-soccer/25867/?utm_medium=calendar&utm_source=team_cal&utm_content=league_url#game-598914
LOCATION:Cane Bay Field 2A
BEGIN:VALARM
TRIGGER:-P2H
ACTION:DISPLAY
DESCRIPTION:MSE vs Coach McClung
END:VALARM
END:VEVENT
BEGIN:VEVENT
UID:cane-bay-598918@ygametime.com
DTSTAMP:20260509T150000Z
DTSTART;TZID=America/New_York:20260509T110000
DURATION:PT0H60M0S
SUMMARY:Coach O'Donnell vs MSE
DESCRIPTION:8-9 Division | Soccer\nYMCA of Greater Charleston\n
URL;VALUE=URI:https://ygametime.com/branch/cane-bay/sports/2026-spring-soccer/25867/?utm_medium=calendar&utm_source=team_cal&utm_content=league_url#game-598918
LOCATION:Cane Bay Field 2A
BEGIN:VALARM
TRIGGER:-P2H
ACTION:DISPLAY
DESCRIPTION:Coach O'Donnell vs MSE
END:VALARM
END:VEVENT
BEGIN:VEVENT
UID:cane-bay-598899@ygametime.com
DTSTAMP:20260516T180000Z
DTSTART;TZID=America/New_York:20260516T140000
DURATION:PT0H60M0S
SUMMARY:Coach N. Carter vs MSE
DESCRIPTION:8-9 Division | Soccer\nYMCA of Greater Charleston\n
URL;VALUE=URI:https://ygametime.com/branch/cane-bay/sports/2026-spring-soccer/25867/?utm_medium=calendar&utm_source=team_cal&utm_content=league_url#game-598899
LOCATION:Cane Bay Field 2A
BEGIN:VALARM
TRIGGER:-P2H
ACTION:DISPLAY
DESCRIPTION:Coach N. Carter vs MSE
END:VALARM
END:VEVENT
BEGIN:VEVENT
UID:cane-bay-598905@ygametime.com
DTSTAMP:20260530T150000Z
DTSTART;TZID=America/New_York:20260530T110000
DURATION:PT0H60M0S
SUMMARY:MSE vs Coach Bentley
DESCRIPTION:8-9 Division | Soccer\nYMCA of Greater Charleston\n
URL;VALUE=URI:https://ygametime.com/branch/cane-bay/sports/2026-spring-soccer/25867/?utm_medium=calendar&utm_source=team_cal&utm_content=league_url#game-598905
LOCATION:Cane Bay Field 2A
BEGIN:VALARM
TRIGGER:-P2H
ACTION:DISPLAY
DESCRIPTION:MSE vs Coach Bentley
END:VALARM
END:VEVENT
BEGIN:VEVENT
UID:cane-bay-599391@ygametime.com
DTSTAMP:20260601T213000Z
DTSTART;TZID=America/New_York:20260601T173000
DURATION:PT0H60M0S
SUMMARY:Coach Murray vs MSE
DESCRIPTION:8-9 Division | Soccer\nYMCA of Greater Charleston\n
URL;VALUE=URI:https://ygametime.com/branch/cane-bay/sports/2026-spring-soccer/25867/?utm_medium=calendar&utm_source=team_cal&utm_content=league_url#game-599391
LOCATION:Cane Bay Field 2A
BEGIN:VALARM
TRIGGER:-P2H
ACTION:DISPLAY
DESCRIPTION:Coach Murray vs MSE
END:VALARM
END:VEVENT
END:VCALENDAR

