BEGIN:VCALENDAR
VERSION:2.0
PRODID:-//YGAMETIME.com//YGT iCal Creator//EN
METHOD:PUBLISH
X-PUBLISHED-TTL:PT6H
REFRESH-INTERVAL;VALUE=DURATION:PT6H
CALSCALE:GREGORIAN
X-WR-CALNAME:YGAMETIME CALENDAR
BEGIN:VTIMEZONE
TZID:America/New_York
X-LIC-LOCATION:America/New_York
BEGIN:DAYLIGHT
TZOFFSETFROM:-0500
TZOFFSETTO:-0400
TZNAME:EDT
DTSTART:19700308T020000
RRULE:FREQ=YEARLY;BYMONTH=3;BYDAY=2SU
END:DAYLIGHT
BEGIN:STANDARD
TZOFFSETFROM:-0400
TZOFFSETTO:-0500
TZNAME:EST
DTSTART:19701101T020000
RRULE:FREQ=YEARLY;BYMONTH=11;BYDAY=1SU
END:STANDARD
END:VTIMEZONE
BEGIN:VEVENT
UID:cane-bay-598858@ygametime.com
DTSTAMP:20260328T140000Z
DTSTART;TZID=America/New_York:20260328T100000
DURATION:PT0H60M0S
SUMMARY:Coach Behrens vs MSE
DESCRIPTION:6-7 Division | Soccer\nYMCA of Greater Charleston\n
URL;VALUE=URI:https://ygametime.com/branch/cane-bay/sports/2026-spring-soccer/25866/?utm_medium=calendar&utm_source=team_cal&utm_content=league_url#game-598858
LOCATION:Cane Bay Field 1A
BEGIN:VALARM
TRIGGER:-P2H
ACTION:DISPLAY
DESCRIPTION:Coach Behrens vs MSE
END:VALARM
END:VEVENT
BEGIN:VEVENT
UID:cane-bay-598872@ygametime.com
DTSTAMP:20260418T150000Z
DTSTART;TZID=America/New_York:20260418T110000
DURATION:PT0H60M0S
SUMMARY:MSE vs Coach Trujillo
DESCRIPTION:6-7 Division | Soccer\nYMCA of Greater Charleston\n
URL;VALUE=URI:https://ygametime.com/branch/cane-bay/sports/2026-spring-soccer/25866/?utm_medium=calendar&utm_source=team_cal&utm_content=league_url#game-598872
LOCATION:Cane Bay Field1D
BEGIN:VALARM
TRIGGER:-P2H
ACTION:DISPLAY
DESCRIPTION:MSE vs Coach Trujillo
END:VALARM
END:VEVENT
BEGIN:VEVENT
UID:cane-bay-598875@ygametime.com
DTSTAMP:20260425T140000Z
DTSTART;TZID=America/New_York:20260425T100000
DURATION:PT0H60M0S
SUMMARY:MSE vs Coach Turbide
DESCRIPTION:6-7 Division | Soccer\nYMCA of Greater Charleston\n
URL;VALUE=URI:https://ygametime.com/branch/cane-bay/sports/2026-spring-soccer/25866/?utm_medium=calendar&utm_source=team_cal&utm_content=league_url#game-598875
LOCATION:Cane Bay Field 1B
BEGIN:VALARM
TRIGGER:-P2H
ACTION:DISPLAY
DESCRIPTION:MSE vs Coach Turbide
END:VALARM
END:VEVENT
BEGIN:VEVENT
UID:cane-bay-598879@ygametime.com
DTSTAMP:20260502T140000Z
DTSTART;TZID=America/New_York:20260502T100000
DURATION:PT0H60M0S
SUMMARY:Coach Twa vs MSE
DESCRIPTION:6-7 Division | Soccer\nYMCA of Greater Charleston\n
URL;VALUE=URI:https://ygametime.com/branch/cane-bay/sports/2026-spring-soccer/25866/?utm_medium=calendar&utm_source=team_cal&utm_content=league_url#game-598879
LOCATION:Cane Bay Field 1B
BEGIN:VALARM
TRIGGER:-P2H
ACTION:DISPLAY
DESCRIPTION:Coach Twa vs MSE
END:VALARM
END:VEVENT
BEGIN:VEVENT
UID:cane-bay-598884@ygametime.com
DTSTAMP:20260509T140000Z
DTSTART;TZID=America/New_York:20260509T100000
DURATION:PT0H60M0S
SUMMARY:MSE vs Coach Freberg
DESCRIPTION:6-7 Division | Soccer\nYMCA of Greater Charleston\n
URL;VALUE=URI:https://ygametime.com/branch/cane-bay/sports/2026-spring-soccer/25866/?utm_medium=calendar&utm_source=team_cal&utm_content=league_url#game-598884
LOCATION:Cane Bay Field 1A
BEGIN:VALARM
TRIGGER:-P2H
ACTION:DISPLAY
DESCRIPTION:MSE vs Coach Freberg
END:VALARM
END:VEVENT
BEGIN:VEVENT
UID:cane-bay-598861@ygametime.com
DTSTAMP:20260516T140000Z
DTSTART;TZID=America/New_York:20260516T100000
DURATION:PT0H60M0S
SUMMARY:MSE vs Coach Torres
DESCRIPTION:6-7 Division | Soccer\nYMCA of Greater Charleston\n
URL;VALUE=URI:https://ygametime.com/branch/cane-bay/sports/2026-spring-soccer/25866/?utm_medium=calendar&utm_source=team_cal&utm_content=league_url#game-598861
LOCATION:Cane Bay Field 1C
BEGIN:VALARM
TRIGGER:-P2H
ACTION:DISPLAY
DESCRIPTION:MSE vs Coach Torres
END:VALARM
END:VEVENT
BEGIN:VEVENT
UID:cane-bay-598864@ygametime.com
DTSTAMP:20260530T140000Z
DTSTART;TZID=America/New_York:20260530T100000
DURATION:PT0H60M0S
SUMMARY:Coach Murray vs MSE
DESCRIPTION:6-7 Division | Soccer\nYMCA of Greater Charleston\n
URL;VALUE=URI:https://ygametime.com/branch/cane-bay/sports/2026-spring-soccer/25866/?utm_medium=calendar&utm_source=team_cal&utm_content=league_url#game-598864
LOCATION:Cane Bay Field 1C
BEGIN:VALARM
TRIGGER:-P2H
ACTION:DISPLAY
DESCRIPTION:Coach Murray vs MSE
END:VALARM
END:VEVENT
BEGIN:VEVENT
UID:cane-bay-598889@ygametime.com
DTSTAMP:20260606T150000Z
DTSTART;TZID=America/New_York:20260606T110000
DURATION:PT0H60M0S
SUMMARY:Coach Graham vs MSE
DESCRIPTION:6-7 Division | Soccer\nYMCA of Greater Charleston\n
URL;VALUE=URI:https://ygametime.com/branch/cane-bay/sports/2026-spring-soccer/25866/?utm_medium=calendar&utm_source=team_cal&utm_content=league_url#game-598889
LOCATION:Cane Bay Field 1A
BEGIN:VALARM
TRIGGER:-P2H
ACTION:DISPLAY
DESCRIPTION:Coach Graham vs MSE
END:VALARM
END:VEVENT
END:VCALENDAR

