BEGIN:VCALENDAR
VERSION:2.0
PRODID:-//YGAMETIME.com//YGT iCal Creator//EN
METHOD:PUBLISH
X-PUBLISHED-TTL:PT6H
REFRESH-INTERVAL;VALUE=DURATION:PT6H
CALSCALE:GREGORIAN
X-WR-CALNAME:YGAMETIME CALENDAR
BEGIN:VTIMEZONE
TZID:America/New_York
X-LIC-LOCATION:America/New_York
BEGIN:DAYLIGHT
TZOFFSETFROM:-0500
TZOFFSETTO:-0400
TZNAME:EDT
DTSTART:19700308T020000
RRULE:FREQ=YEARLY;BYMONTH=3;BYDAY=2SU
END:DAYLIGHT
BEGIN:STANDARD
TZOFFSETFROM:-0400
TZOFFSETTO:-0500
TZNAME:EST
DTSTART:19701101T020000
RRULE:FREQ=YEARLY;BYMONTH=11;BYDAY=1SU
END:STANDARD
END:VTIMEZONE
BEGIN:VEVENT
UID:cane-bay-598996@ygametime.com
DTSTAMP:20260328T190000Z
DTSTART;TZID=America/New_York:20260328T150000
DURATION:PT0H60M0S
SUMMARY:Coach Murray vs Coach Nowak
DESCRIPTION:13-15 Division | Soccer\nYMCA of Greater Charleston\n
URL;VALUE=URI:https://ygametime.com/branch/cane-bay/sports/2026-spring-soccer/25869/?utm_medium=calendar&utm_source=team_cal&utm_content=league_url#game-598996
LOCATION:Cane Bay Field 1A
BEGIN:VALARM
TRIGGER:-P2H
ACTION:DISPLAY
DESCRIPTION:Coach Murray vs Coach Nowak
END:VALARM
END:VEVENT
BEGIN:VEVENT
UID:cane-bay-598999@ygametime.com
DTSTAMP:20260418T190000Z
DTSTART;TZID=America/New_York:20260418T150000
DURATION:PT0H60M0S
SUMMARY:Coach Murray vs Coach Nowak
DESCRIPTION:13-15 Division | Soccer\nYMCA of Greater Charleston\n
URL;VALUE=URI:https://ygametime.com/branch/cane-bay/sports/2026-spring-soccer/25869/?utm_medium=calendar&utm_source=team_cal&utm_content=league_url#game-598999
LOCATION:Cane Bay Field 1A
BEGIN:VALARM
TRIGGER:-P2H
ACTION:DISPLAY
DESCRIPTION:Coach Murray vs Coach Nowak
END:VALARM
END:VEVENT
BEGIN:VEVENT
UID:cane-bay-599000@ygametime.com
DTSTAMP:20260425T190000Z
DTSTART;TZID=America/New_York:20260425T150000
DURATION:PT0H60M0S
SUMMARY:Coach J. Williams vs Coach Murray
DESCRIPTION:13-15 Division | Soccer\nYMCA of Greater Charleston\n
URL;VALUE=URI:https://ygametime.com/branch/cane-bay/sports/2026-spring-soccer/25869/?utm_medium=calendar&utm_source=team_cal&utm_content=league_url#game-599000
LOCATION:Cane Bay Field 1A
BEGIN:VALARM
TRIGGER:-P2H
ACTION:DISPLAY
DESCRIPTION:Coach J. Williams vs Coach Murray
END:VALARM
END:VEVENT
BEGIN:VEVENT
UID:cane-bay-599002@ygametime.com
DTSTAMP:20260509T190000Z
DTSTART;TZID=America/New_York:20260509T150000
DURATION:PT0H60M0S
SUMMARY:Coach Murray vs Coach Nowak
DESCRIPTION:13-15 Division | Soccer\nYMCA of Greater Charleston\n
URL;VALUE=URI:https://ygametime.com/branch/cane-bay/sports/2026-spring-soccer/25869/?utm_medium=calendar&utm_source=team_cal&utm_content=league_url#game-599002
LOCATION:Cane Bay Field 1A
BEGIN:VALARM
TRIGGER:-P2H
ACTION:DISPLAY
DESCRIPTION:Coach Murray vs Coach Nowak
END:VALARM
END:VEVENT
BEGIN:VEVENT
UID:cane-bay-599003@ygametime.com
DTSTAMP:20260516T190000Z
DTSTART;TZID=America/New_York:20260516T150000
DURATION:PT0H60M0S
SUMMARY:Coach J. Williams vs Coach Murray
DESCRIPTION:13-15 Division | Soccer\nYMCA of Greater Charleston\n
URL;VALUE=URI:https://ygametime.com/branch/cane-bay/sports/2026-spring-soccer/25869/?utm_medium=calendar&utm_source=team_cal&utm_content=league_url#game-599003
LOCATION:Cane Bay Field 1A
BEGIN:VALARM
TRIGGER:-P2H
ACTION:DISPLAY
DESCRIPTION:Coach J. Williams vs Coach Murray
END:VALARM
END:VEVENT
BEGIN:VEVENT
UID:cane-bay-599006@ygametime.com
DTSTAMP:20260606T180000Z
DTSTART;TZID=America/New_York:20260606T140000
DURATION:PT0H60M0S
SUMMARY:Coach J. Williams vs Coach Murray
DESCRIPTION:13-15 Division | Soccer\nYMCA of Greater Charleston\n
URL;VALUE=URI:https://ygametime.com/branch/cane-bay/sports/2026-spring-soccer/25869/?utm_medium=calendar&utm_source=team_cal&utm_content=league_url#game-599006
LOCATION:Cane Bay Field 1A
BEGIN:VALARM
TRIGGER:-P2H
ACTION:DISPLAY
DESCRIPTION:Coach J. Williams vs Coach Murray
END:VALARM
END:VEVENT
END:VCALENDAR

