BEGIN:VCALENDAR
VERSION:2.0
PRODID:-//YGAMETIME.com//YGT iCal Creator//EN
METHOD:PUBLISH
X-PUBLISHED-TTL:PT6H
REFRESH-INTERVAL;VALUE=DURATION:PT6H
CALSCALE:GREGORIAN
X-WR-CALNAME:YGAMETIME CALENDAR
BEGIN:VTIMEZONE
TZID:America/New_York
X-LIC-LOCATION:America/New_York
BEGIN:DAYLIGHT
TZOFFSETFROM:-0500
TZOFFSETTO:-0400
TZNAME:EDT
DTSTART:19700308T020000
RRULE:FREQ=YEARLY;BYMONTH=3;BYDAY=2SU
END:DAYLIGHT
BEGIN:STANDARD
TZOFFSETFROM:-0400
TZOFFSETTO:-0500
TZNAME:EST
DTSTART:19701101T020000
RRULE:FREQ=YEARLY;BYMONTH=11;BYDAY=1SU
END:STANDARD
END:VTIMEZONE
BEGIN:VEVENT
UID:cane-bay-598766@ygametime.com
DTSTAMP:20260328T130000Z
DTSTART;TZID=America/New_York:20260328T090000
DURATION:PT0H60M0S
SUMMARY:Coach Figura vs Coach Smith
DESCRIPTION:T-Ball | T-ball\nYMCA of Greater Charleston\n
URL;VALUE=URI:https://ygametime.com/branch/cane-bay/sports/2026-spring-t-ball/25870/?utm_medium=calendar&utm_source=team_cal&utm_content=league_url#game-598766
LOCATION:Cane Bay Baseball Field 1
BEGIN:VALARM
TRIGGER:-P2H
ACTION:DISPLAY
DESCRIPTION:Coach Figura vs Coach Smith
END:VALARM
END:VEVENT
BEGIN:VEVENT
UID:cane-bay-598769@ygametime.com
DTSTAMP:20260418T130000Z
DTSTART;TZID=America/New_York:20260418T090000
DURATION:PT0H60M0S
SUMMARY:Coach Johnson vs Coach Figura
DESCRIPTION:T-Ball | T-ball\nYMCA of Greater Charleston\n
URL;VALUE=URI:https://ygametime.com/branch/cane-bay/sports/2026-spring-t-ball/25870/?utm_medium=calendar&utm_source=team_cal&utm_content=league_url#game-598769
LOCATION:Cane Bay Baseball Field 1
BEGIN:VALARM
TRIGGER:-P2H
ACTION:DISPLAY
DESCRIPTION:Coach Johnson vs Coach Figura
END:VALARM
END:VEVENT
BEGIN:VEVENT
UID:cane-bay-598778@ygametime.com
DTSTAMP:20260425T150000Z
DTSTART;TZID=America/New_York:20260425T110000
DURATION:PT0H60M0S
SUMMARY:Coach Figura vs Coach Barrett
DESCRIPTION:T-Ball | T-ball\nYMCA of Greater Charleston\n
URL;VALUE=URI:https://ygametime.com/branch/cane-bay/sports/2026-spring-t-ball/25870/?utm_medium=calendar&utm_source=team_cal&utm_content=league_url#game-598778
LOCATION:Cane Bay Baseball Field 1
BEGIN:VALARM
TRIGGER:-P2H
ACTION:DISPLAY
DESCRIPTION:Coach Figura vs Coach Barrett
END:VALARM
END:VEVENT
BEGIN:VEVENT
UID:cane-bay-598782@ygametime.com
DTSTAMP:20260502T140000Z
DTSTART;TZID=America/New_York:20260502T100000
DURATION:PT0H60M0S
SUMMARY:Coach Figura vs Coach Smith
DESCRIPTION:T-Ball | T-ball\nYMCA of Greater Charleston\n
URL;VALUE=URI:https://ygametime.com/branch/cane-bay/sports/2026-spring-t-ball/25870/?utm_medium=calendar&utm_source=team_cal&utm_content=league_url#game-598782
LOCATION:Cane Bay Baseball Field 1
BEGIN:VALARM
TRIGGER:-P2H
ACTION:DISPLAY
DESCRIPTION:Coach Figura vs Coach Smith
END:VALARM
END:VEVENT
BEGIN:VEVENT
UID:cane-bay-598785@ygametime.com
DTSTAMP:20260509T140000Z
DTSTART;TZID=America/New_York:20260509T100000
DURATION:PT0H60M0S
SUMMARY:Coach Johnson vs Coach Figura
DESCRIPTION:T-Ball | T-ball\nYMCA of Greater Charleston\n
URL;VALUE=URI:https://ygametime.com/branch/cane-bay/sports/2026-spring-t-ball/25870/?utm_medium=calendar&utm_source=team_cal&utm_content=league_url#game-598785
LOCATION:Cane Bay Baseball Field 1
BEGIN:VALARM
TRIGGER:-P2H
ACTION:DISPLAY
DESCRIPTION:Coach Johnson vs Coach Figura
END:VALARM
END:VEVENT
BEGIN:VEVENT
UID:cane-bay-598772@ygametime.com
DTSTAMP:20260516T130000Z
DTSTART;TZID=America/New_York:20260516T090000
DURATION:PT0H60M0S
SUMMARY:Coach Figura vs Coach Sullivan
DESCRIPTION:T-Ball | T-ball\nYMCA of Greater Charleston\n
URL;VALUE=URI:https://ygametime.com/branch/cane-bay/sports/2026-spring-t-ball/25870/?utm_medium=calendar&utm_source=team_cal&utm_content=league_url#game-598772
LOCATION:Cane Bay Baseball Field 1
BEGIN:VALARM
TRIGGER:-P2H
ACTION:DISPLAY
DESCRIPTION:Coach Figura vs Coach Sullivan
END:VALARM
END:VEVENT
BEGIN:VEVENT
UID:cane-bay-598777@ygametime.com
DTSTAMP:20260530T150000Z
DTSTART;TZID=America/New_York:20260530T110000
DURATION:PT0H60M0S
SUMMARY:Coach Grooms vs Coach Figura
DESCRIPTION:T-Ball | T-ball\nYMCA of Greater Charleston\n
URL;VALUE=URI:https://ygametime.com/branch/cane-bay/sports/2026-spring-t-ball/25870/?utm_medium=calendar&utm_source=team_cal&utm_content=league_url#game-598777
LOCATION:Cane Bay Baseball Field 1
BEGIN:VALARM
TRIGGER:-P2H
ACTION:DISPLAY
DESCRIPTION:Coach Grooms vs Coach Figura
END:VALARM
END:VEVENT
END:VCALENDAR

