BEGIN:VCALENDAR
VERSION:2.0
PRODID:-//YGAMETIME.com//YGT iCal Creator//EN
METHOD:PUBLISH
X-PUBLISHED-TTL:PT6H
REFRESH-INTERVAL;VALUE=DURATION:PT6H
CALSCALE:GREGORIAN
X-WR-CALNAME:YGAMETIME CALENDAR
BEGIN:VTIMEZONE
TZID:America/New_York
X-LIC-LOCATION:America/New_York
BEGIN:DAYLIGHT
TZOFFSETFROM:-0500
TZOFFSETTO:-0400
TZNAME:EDT
DTSTART:19700308T020000
RRULE:FREQ=YEARLY;BYMONTH=3;BYDAY=2SU
END:DAYLIGHT
BEGIN:STANDARD
TZOFFSETFROM:-0400
TZOFFSETTO:-0500
TZNAME:EST
DTSTART:19701101T020000
RRULE:FREQ=YEARLY;BYMONTH=11;BYDAY=1SU
END:STANDARD
END:VTIMEZONE
BEGIN:VEVENT
UID:cane-bay-598789@ygametime.com
DTSTAMP:20260328T150000Z
DTSTART;TZID=America/New_York:20260328T110000
DURATION:PT0H60M0S
SUMMARY:Coach Barnes vs Coach Joyce
DESCRIPTION:Coach Pitch | Coach Pitch\nYMCA of Greater Charleston\n
URL;VALUE=URI:https://ygametime.com/branch/cane-bay/sports/2026-spring-coach-pitch/25871/?utm_medium=calendar&utm_source=team_cal&utm_content=league_url#game-598789
LOCATION:Cane Bay Baseball Field 2
BEGIN:VALARM
TRIGGER:-P2H
ACTION:DISPLAY
DESCRIPTION:Coach Barnes vs Coach Joyce
END:VALARM
END:VEVENT
BEGIN:VEVENT
UID:cane-bay-598796@ygametime.com
DTSTAMP:20260418T130000Z
DTSTART;TZID=America/New_York:20260418T090000
DURATION:PT0H60M0S
SUMMARY:Coach Avery vs Coach Barnes
DESCRIPTION:Coach Pitch | Coach Pitch\nYMCA of Greater Charleston\n
URL;VALUE=URI:https://ygametime.com/branch/cane-bay/sports/2026-spring-coach-pitch/25871/?utm_medium=calendar&utm_source=team_cal&utm_content=league_url#game-598796
LOCATION:Cane Bay Baseball Field 2
BEGIN:VALARM
TRIGGER:-P2H
ACTION:DISPLAY
DESCRIPTION:Coach Avery vs Coach Barnes
END:VALARM
END:VEVENT
BEGIN:VEVENT
UID:cane-bay-598799@ygametime.com
DTSTAMP:20260425T130000Z
DTSTART;TZID=America/New_York:20260425T090000
DURATION:PT0H60M0S
SUMMARY:Coach Dingler vs Coach Barnes
DESCRIPTION:Coach Pitch | Coach Pitch\nYMCA of Greater Charleston\n
URL;VALUE=URI:https://ygametime.com/branch/cane-bay/sports/2026-spring-coach-pitch/25871/?utm_medium=calendar&utm_source=team_cal&utm_content=league_url#game-598799
LOCATION:Cane Bay Baseball Field 2
BEGIN:VALARM
TRIGGER:-P2H
ACTION:DISPLAY
DESCRIPTION:Coach Dingler vs Coach Barnes
END:VALARM
END:VEVENT
BEGIN:VEVENT
UID:cane-bay-598802@ygametime.com
DTSTAMP:20260502T130000Z
DTSTART;TZID=America/New_York:20260502T090000
DURATION:PT0H60M0S
SUMMARY:Coach Barnes vs Coach Joyce
DESCRIPTION:Coach Pitch | Coach Pitch\nYMCA of Greater Charleston\n
URL;VALUE=URI:https://ygametime.com/branch/cane-bay/sports/2026-spring-coach-pitch/25871/?utm_medium=calendar&utm_source=team_cal&utm_content=league_url#game-598802
LOCATION:Cane Bay Baseball Field 2
BEGIN:VALARM
TRIGGER:-P2H
ACTION:DISPLAY
DESCRIPTION:Coach Barnes vs Coach Joyce
END:VALARM
END:VEVENT
BEGIN:VEVENT
UID:cane-bay-598807@ygametime.com
DTSTAMP:20260509T150000Z
DTSTART;TZID=America/New_York:20260509T110000
DURATION:PT0H60M0S
SUMMARY:Coach Banks vs Coach Barnes
DESCRIPTION:Coach Pitch | Coach Pitch\nYMCA of Greater Charleston\n
URL;VALUE=URI:https://ygametime.com/branch/cane-bay/sports/2026-spring-coach-pitch/25871/?utm_medium=calendar&utm_source=team_cal&utm_content=league_url#game-598807
LOCATION:Cane Bay Baseball Field 2
BEGIN:VALARM
TRIGGER:-P2H
ACTION:DISPLAY
DESCRIPTION:Coach Banks vs Coach Barnes
END:VALARM
END:VEVENT
BEGIN:VEVENT
UID:cane-bay-598791@ygametime.com
DTSTAMP:20260516T140000Z
DTSTART;TZID=America/New_York:20260516T100000
DURATION:PT0H60M0S
SUMMARY:Coach Banks vs Coach Barnes
DESCRIPTION:Coach Pitch | Coach Pitch\nYMCA of Greater Charleston\n
URL;VALUE=URI:https://ygametime.com/branch/cane-bay/sports/2026-spring-coach-pitch/25871/?utm_medium=calendar&utm_source=team_cal&utm_content=league_url#game-598791
LOCATION:Cane Bay Baseball Field 2
BEGIN:VALARM
TRIGGER:-P2H
ACTION:DISPLAY
DESCRIPTION:Coach Banks vs Coach Barnes
END:VALARM
END:VEVENT
BEGIN:VEVENT
UID:cane-bay-598795@ygametime.com
DTSTAMP:20260530T150000Z
DTSTART;TZID=America/New_York:20260530T110000
DURATION:PT0H60M0S
SUMMARY:Coach Barnes vs Coach Jones
DESCRIPTION:Coach Pitch | Coach Pitch\nYMCA of Greater Charleston\n
URL;VALUE=URI:https://ygametime.com/branch/cane-bay/sports/2026-spring-coach-pitch/25871/?utm_medium=calendar&utm_source=team_cal&utm_content=league_url#game-598795
LOCATION:Cane Bay Baseball Field 2
BEGIN:VALARM
TRIGGER:-P2H
ACTION:DISPLAY
DESCRIPTION:Coach Barnes vs Coach Jones
END:VALARM
END:VEVENT
END:VCALENDAR

